BEGIN:VCALENDAR
VERSION:2.0
PRODID:-//Encuentro y solidaridad - ECPv6.15.11//NONSGML v1.0//EN
CALSCALE:GREGORIAN
METHOD:PUBLISH
X-WR-CALNAME:Encuentro y solidaridad
X-ORIGINAL-URL:https://encuentroysolidaridad.net
X-WR-CALDESC:Eventos para Encuentro y solidaridad
REFRESH-INTERVAL;VALUE=DURATION:PT1H
X-Robots-Tag:noindex
X-PUBLISHED-TTL:PT1H
BEGIN:VTIMEZONE
TZID:Europe/Paris
BEGIN:DAYLIGHT
TZOFFSETFROM:+0100
TZOFFSETTO:+0200
TZNAME:CEST
DTSTART:20170326T010000
END:DAYLIGHT
BEGIN:STANDARD
TZOFFSETFROM:+0200
TZOFFSETTO:+0100
TZNAME:CET
DTSTART:20171029T010000
END:STANDARD
BEGIN:DAYLIGHT
TZOFFSETFROM:+0100
TZOFFSETTO:+0200
TZNAME:CEST
DTSTART:20180325T010000
END:DAYLIGHT
BEGIN:STANDARD
TZOFFSETFROM:+0200
TZOFFSETTO:+0100
TZNAME:CET
DTSTART:20181028T010000
END:STANDARD
BEGIN:DAYLIGHT
TZOFFSETFROM:+0100
TZOFFSETTO:+0200
TZNAME:CEST
DTSTART:20190331T010000
END:DAYLIGHT
BEGIN:STANDARD
TZOFFSETFROM:+0200
TZOFFSETTO:+0100
TZNAME:CET
DTSTART:20191027T010000
END:STANDARD
END:VTIMEZONE
BEGIN:VEVENT
DTSTART;TZID=Europe/Paris:20180621T190000
DTEND;TZID=Europe/Paris:20180621T210000
DTSTAMP:20260423T053534
CREATED:20180618T062500Z
LAST-MODIFIED:20210519T183239Z
UID:1114-1529607600-1529614800@encuentroysolidaridad.net
SUMMARY:Madrid:  tertulia sobre la eutanasia
DESCRIPTION:A principios de mayo el Partido Socialista registró en el Congreso de los Diputados su Proposición de Ley para legalizar la eutanasia. \nCon este motivo\, la Casa de Encuentro y Solidaridad (c/ Joaquín Turina 20 – metro Carabanchel Alto) acogerá una tertulia con el tema Eutanasia. ¿Seducidos por la muerte?. \nProgramada para el jueves 21 de junio\, será moderada por Álvaro Gándara\, coordinador de la Unidad de Cuidados paliativos de la Fundación Jiménez Díaz\, a partir de las 19:00 horas.
URL:https://encuentroysolidaridad.net/event/madrid-tertulia-sobre-la-eutanasia/
LOCATION:Madrid. Casa Cultura y Encuentro\, C/ Polvoranca\, 19 bis\, Madrid\, Madrid\, 28044\, España
CATEGORIES:Actos de Encuentro y Solidaridad
ATTACH;FMTTYPE=image/jpeg:https://encuentroysolidaridad.net/wp-content/uploads/2018/06/Manos.jpg
END:VEVENT
END:VCALENDAR