BEGIN:VCALENDAR
VERSION:2.0
PRODID:-//Encuentro y solidaridad - ECPv6.15.11//NONSGML v1.0//EN
CALSCALE:GREGORIAN
METHOD:PUBLISH
X-ORIGINAL-URL:https://encuentroysolidaridad.net
X-WR-CALDESC:Eventos para Encuentro y solidaridad
REFRESH-INTERVAL;VALUE=DURATION:PT1H
X-Robots-Tag:noindex
X-PUBLISHED-TTL:PT1H
BEGIN:VTIMEZONE
TZID:Europe/Paris
BEGIN:DAYLIGHT
TZOFFSETFROM:+0100
TZOFFSETTO:+0200
TZNAME:CEST
DTSTART:20170326T010000
END:DAYLIGHT
BEGIN:STANDARD
TZOFFSETFROM:+0200
TZOFFSETTO:+0100
TZNAME:CET
DTSTART:20171029T010000
END:STANDARD
BEGIN:DAYLIGHT
TZOFFSETFROM:+0100
TZOFFSETTO:+0200
TZNAME:CEST
DTSTART:20180325T010000
END:DAYLIGHT
BEGIN:STANDARD
TZOFFSETFROM:+0200
TZOFFSETTO:+0100
TZNAME:CET
DTSTART:20181028T010000
END:STANDARD
BEGIN:DAYLIGHT
TZOFFSETFROM:+0100
TZOFFSETTO:+0200
TZNAME:CEST
DTSTART:20190331T010000
END:DAYLIGHT
BEGIN:STANDARD
TZOFFSETFROM:+0200
TZOFFSETTO:+0100
TZNAME:CET
DTSTART:20191027T010000
END:STANDARD
END:VTIMEZONE
BEGIN:VEVENT
DTSTART;TZID=Europe/Paris:20181105T080000
DTEND;TZID=Europe/Paris:20181118T170000
DTSTAMP:20260422T212621
CREATED:20181023T161823Z
LAST-MODIFIED:20210519T183222Z
UID:1516-1541404800-1542560400@encuentroysolidaridad.net
SUMMARY:Navarra. Ehsan Ullah Khan\, luchador contra la esclavitud
DESCRIPTION:
URL:https://encuentroysolidaridad.net/event/navarra-ehsan-ullah-khan-luchador-contra-la-esclavitud/
CATEGORIES:Actos de Encuentro y Solidaridad
ATTACH;FMTTYPE=image/jpeg:https://encuentroysolidaridad.net/wp-content/uploads/2018/10/2014-05-05-12.07.07.jpg
END:VEVENT
BEGIN:VEVENT
DTSTART;TZID=Europe/Paris:20181116T180000
DTEND;TZID=Europe/Paris:20181116T193000
DTSTAMP:20260422T212621
CREATED:20181030T083214Z
LAST-MODIFIED:20210519T183222Z
UID:1537-1542391200-1542396600@encuentroysolidaridad.net
SUMMARY:Madrid. Jornada Mundial de los Pobres: Acto público
DESCRIPTION:El viernes 16 de noviembre\, a las 18:00\, en la pza. de Ópera (pza. de Isabel II)\, habrá un acto público para dar visibilidad a los pobres y el desafío que suponen para la Iglesia y para la sociedad: “Empobrecidos: acción solidaria contra las causas de la pobreza”. A cargo de Encuentro y Solidaridad. \nToda la información sobre los actos de la Jornada Mundial de los Pobres\, la Jornada Social Diocesana\, y la Jornada de las Personas Sin Hogar\, el blog de la Vicaría de Pastoral Social e Innovación de Madrid. \n  \n  \n  \nActos en Madrid\n– Viernes 16 nov.: Acto público: “Empobrecidos: acción solidaria contra las causas de la pobreza”.\n– Viernes 16 nov.: Teatro: “Mi Cristo roto”. A cargo de Más que Teatro.\n– Sábado 17 nov.: Jornada Social Diocesana\n– Sábado 17 nov.: Eucaristía Jornada Mundial de los Pobres\n– Sábado 17 nov.: Ágape\n– Domingo 18 nov.: Eucaristía en las parroquias\n– Domingo 18 nov.: Preestreno del musical “33”\n– Jueves 22 nov.: Acto de calle por las personas sin hogar (convoca la red FACIAM)\n– Lunes 26 nov.: Acto en el ayuntamiento de Madrid por las personas -especialmente\, las mujeres- sin hogar \n\n 
URL:https://encuentroysolidaridad.net/event/madrid-jornada-mundial-de-los-pobres-acto-publico/
LOCATION:Plaza de Ópera (Madrid)
CATEGORIES:Actos de Encuentro y Solidaridad
ATTACH;FMTTYPE=image/jpeg:https://encuentroysolidaridad.net/wp-content/uploads/2018/10/2018_jornada_mundial_pobres_banner-1170x400-640x219.jpg
END:VEVENT
BEGIN:VEVENT
DTSTART;TZID=Europe/Paris:20181116T200000
DTEND;TZID=Europe/Paris:20181117T200000
DTSTAMP:20260422T212621
CREATED:20181021T182121Z
LAST-MODIFIED:20210519T183222Z
UID:1512-1542398400-1542484800@encuentroysolidaridad.net
SUMMARY:Valladolid. Jornadas diocesanas sobre las migraciones
DESCRIPTION:
URL:https://encuentroysolidaridad.net/event/valladolid-jornadas-diocesanas-sobre-las-migraciones/
CATEGORIES:Actos de Encuentro y Solidaridad
END:VEVENT
END:VCALENDAR