BEGIN:VCALENDAR
VERSION:2.0
PRODID:-//Encuentro y solidaridad - ECPv6.15.11//NONSGML v1.0//EN
CALSCALE:GREGORIAN
METHOD:PUBLISH
X-WR-CALNAME:Encuentro y solidaridad
X-ORIGINAL-URL:https://encuentroysolidaridad.net
X-WR-CALDESC:Eventos para Encuentro y solidaridad
REFRESH-INTERVAL;VALUE=DURATION:PT1H
X-Robots-Tag:noindex
X-PUBLISHED-TTL:PT1H
BEGIN:VTIMEZONE
TZID:Europe/Paris
BEGIN:DAYLIGHT
TZOFFSETFROM:+0100
TZOFFSETTO:+0200
TZNAME:CEST
DTSTART:20170326T010000
END:DAYLIGHT
BEGIN:STANDARD
TZOFFSETFROM:+0200
TZOFFSETTO:+0100
TZNAME:CET
DTSTART:20171029T010000
END:STANDARD
BEGIN:DAYLIGHT
TZOFFSETFROM:+0100
TZOFFSETTO:+0200
TZNAME:CEST
DTSTART:20180325T010000
END:DAYLIGHT
BEGIN:STANDARD
TZOFFSETFROM:+0200
TZOFFSETTO:+0100
TZNAME:CET
DTSTART:20181028T010000
END:STANDARD
BEGIN:DAYLIGHT
TZOFFSETFROM:+0100
TZOFFSETTO:+0200
TZNAME:CEST
DTSTART:20190331T010000
END:DAYLIGHT
BEGIN:STANDARD
TZOFFSETFROM:+0200
TZOFFSETTO:+0100
TZNAME:CET
DTSTART:20191027T010000
END:STANDARD
END:VTIMEZONE
BEGIN:VEVENT
DTSTART;TZID=Europe/Paris:20181105T080000
DTEND;TZID=Europe/Paris:20181118T170000
DTSTAMP:20260422T212614
CREATED:20181023T161823Z
LAST-MODIFIED:20210519T183222Z
UID:1516-1541404800-1542560400@encuentroysolidaridad.net
SUMMARY:Navarra. Ehsan Ullah Khan\, luchador contra la esclavitud
DESCRIPTION:
URL:https://encuentroysolidaridad.net/event/navarra-ehsan-ullah-khan-luchador-contra-la-esclavitud/
CATEGORIES:Actos de Encuentro y Solidaridad
ATTACH;FMTTYPE=image/jpeg:https://encuentroysolidaridad.net/wp-content/uploads/2018/10/2014-05-05-12.07.07.jpg
END:VEVENT
BEGIN:VEVENT
DTSTART;TZID=Europe/Paris:20181118T103000
DTEND;TZID=Europe/Paris:20181118T150000
DTSTAMP:20260422T212614
CREATED:20181109T125246Z
LAST-MODIFIED:20210519T183222Z
UID:1589-1542537000-1542553200@encuentroysolidaridad.net
SUMMARY:Burgos. II Jornada Mundial de los Pobres
DESCRIPTION:El domingo 18 de Noviembre el Papa nos convoca a celebrar la II Jornada Mundial de los Pobres. Es una llamada importante a toda la Iglesia y desde Encuentro y Solidaridad queremos contribuir a esta jornada en la diócesis en colaboración y complementariedad con los actos que se están organizando desde diversos ámbitos. \nEl mensaje del Papa de este año insiste mucho en acercarnos a la realidad de los pobres y desde ahí responder al grito por su liberación. \n«10.Invito a los hermanos obispos\, a los sacerdotes y en particular a los diáconos\, a quienes se les impuso las manos para el servicio de los pobres (cf. Hch 6\,1-7)\, junto con las personas consagradas y con tantos laicos y laicas que en las parroquias\, en las asociaciones y en los movimientos\, hacen tangible la respuesta de la Iglesia al grito de los pobres\, a que vivan esta Jornada Mundial como un momento privilegiado de nueva evangelización. Los pobres nos evangelizan\, ayudándonos a descubrir cada día la belleza del Evangelio». \nEn este espíritu hemos organizado\, junto a otras entidades como la Casa de Acogida de S. Vicente de Paúl\, Atalaya\, Pastoral Gitana y la Mesa de Pastoral con inmigrantes\, una jornada el domingo 18 N\, consistente en: \n10:30 Eucaristía en la Casa de Acogida S. Vicente de Paul \n11:15 Agape compartido con los residentes en la casa \n12:30 Acto público en la Pza Sto Domingo de Guzman\, con testimonios de personas sin hogar\, inmigrantes\, parados\, etc. Lectura de algún fragmento del mensaje del Papa para la jornada. \n13:30 Comida con inmigrantes en el comedor de Atalaya. (Habría que inscribirse previamente en el 620833622)
URL:https://encuentroysolidaridad.net/event/burgos-ii-jornada-mundial-de-los-pobres/
CATEGORIES:Actos de Encuentro y Solidaridad
ATTACH;FMTTYPE=image/jpeg:https://encuentroysolidaridad.net/wp-content/uploads/2018/11/jornadamundialporlospobres.jpg
END:VEVENT
BEGIN:VEVENT
DTSTART;TZID=Europe/Paris:20181118T120000
DTEND;TZID=Europe/Paris:20181118T200000
DTSTAMP:20260422T212614
CREATED:20181114T190750Z
LAST-MODIFIED:20210519T183222Z
UID:1616-1542542400-1542571200@encuentroysolidaridad.net
SUMMARY:Granada. Jornada Mundial de los pobres
DESCRIPTION:
URL:https://encuentroysolidaridad.net/event/granada-jornada-mundial-de-los-pobres/
CATEGORIES:Actos de Encuentro y Solidaridad
ATTACH;FMTTYPE=image/jpeg:https://encuentroysolidaridad.net/wp-content/uploads/2018/11/Pobres.jpeg
END:VEVENT
END:VCALENDAR