BEGIN:VCALENDAR
VERSION:2.0
PRODID:-//Encuentro y solidaridad - ECPv6.15.11//NONSGML v1.0//EN
CALSCALE:GREGORIAN
METHOD:PUBLISH
X-ORIGINAL-URL:https://encuentroysolidaridad.net
X-WR-CALDESC:Eventos para Encuentro y solidaridad
REFRESH-INTERVAL;VALUE=DURATION:PT1H
X-Robots-Tag:noindex
X-PUBLISHED-TTL:PT1H
BEGIN:VTIMEZONE
TZID:Europe/Paris
BEGIN:DAYLIGHT
TZOFFSETFROM:+0100
TZOFFSETTO:+0200
TZNAME:CEST
DTSTART:20170326T010000
END:DAYLIGHT
BEGIN:STANDARD
TZOFFSETFROM:+0200
TZOFFSETTO:+0100
TZNAME:CET
DTSTART:20171029T010000
END:STANDARD
BEGIN:DAYLIGHT
TZOFFSETFROM:+0100
TZOFFSETTO:+0200
TZNAME:CEST
DTSTART:20180325T010000
END:DAYLIGHT
BEGIN:STANDARD
TZOFFSETFROM:+0200
TZOFFSETTO:+0100
TZNAME:CET
DTSTART:20181028T010000
END:STANDARD
BEGIN:DAYLIGHT
TZOFFSETFROM:+0100
TZOFFSETTO:+0200
TZNAME:CEST
DTSTART:20190331T010000
END:DAYLIGHT
BEGIN:STANDARD
TZOFFSETFROM:+0200
TZOFFSETTO:+0100
TZNAME:CET
DTSTART:20191027T010000
END:STANDARD
END:VTIMEZONE
BEGIN:VEVENT
DTSTART;VALUE=DATE:20181214
DTEND;VALUE=DATE:20181216
DTSTAMP:20260422T194342
CREATED:20181204T181730Z
LAST-MODIFIED:20210519T183207Z
UID:1959-1544745600-1544918399@encuentroysolidaridad.net
SUMMARY:Asturias: Taller de acción noviolenta contra la explotación en la industria textil
DESCRIPTION:
URL:https://encuentroysolidaridad.net/event/asturias-taller-de-accion-noviolenta-contra-la-explotacion-en-la-industria-textil/
LOCATION:Oviedo. Casa Cultura y Encuentro\, C/ Ciudades Unidas\, Oviedo\, 33011\, España
CATEGORIES:Actos de Encuentro y Solidaridad
ATTACH;FMTTYPE=image/jpeg:https://encuentroysolidaridad.net/wp-content/uploads/2018/12/Ropa.jpg
END:VEVENT
BEGIN:VEVENT
DTSTART;TZID=Europe/Paris:20181215T100000
DTEND;TZID=Europe/Paris:20181215T140000
DTSTAMP:20260422T194342
CREATED:20181129T105425Z
LAST-MODIFIED:20210519T183207Z
UID:1892-1544868000-1544882400@encuentroysolidaridad.net
SUMMARY:Santander. Mesa redonda y taller para familias\, adultos y niños
DESCRIPTION:Comenzaremos la mañana hablando de cómo es posible vivir la alegría en la enfermedad y continuaremos planteando cómo hablar del cáncer infantil a los niños\, presentando el cuento «¿Qué le pasa a Amara?» \n \n[su_carousel source=»media: 1531\,1530″ link=»lightbox» width=»400″ height=»200″ items=»1″ title=»no»]
URL:https://encuentroysolidaridad.net/event/santander-mesa-redonda-y-taller-para-familias-adultos-y-ninos/
CATEGORIES:Actos de Encuentro y Solidaridad
ATTACH;FMTTYPE=image/jpeg:https://encuentroysolidaridad.net/wp-content/uploads/2018/11/Encantados-de-conocerte-Amara.jpg
END:VEVENT
BEGIN:VEVENT
DTSTART;TZID=Europe/Paris:20181215T180000
DTEND;TZID=Europe/Paris:20181215T200000
DTSTAMP:20260422T194342
CREATED:20181201T121728Z
LAST-MODIFIED:20210519T183207Z
UID:1915-1544896800-1544904000@encuentroysolidaridad.net
SUMMARY:Granada. Cine-fórum: "Romero\, el Santo del pueblo"
DESCRIPTION:El pasado 14 de octubre\, se celebró la canonización de Óscar Arnulfo Romero (San Romero de América) y queremos invitaros a compartir esta película y poder tener un diálogo sobre ella. \nSINOPSIS \nNarra la historia del arzobispo salvadoreño Óscar Romero\, que desde su importante cargo eclesiástico se dedicó sin temor a criticar la desigualdad social y la represión del gobierno de El Salvador\, y que murió asesinado en el año 1980\, en los comienzos de lo que sería la Guerra Civil Salvadoreña. \n 
URL:https://encuentroysolidaridad.net/event/granada-cine-forum-romero-el-santo-del-pueblo/
CATEGORIES:Actos de Encuentro y Solidaridad
ATTACH;FMTTYPE=image/jpeg:https://encuentroysolidaridad.net/wp-content/uploads/2018/12/Romero.jpg
END:VEVENT
END:VCALENDAR