BEGIN:VCALENDAR
VERSION:2.0
PRODID:-//Encuentro y solidaridad - ECPv6.15.11//NONSGML v1.0//EN
CALSCALE:GREGORIAN
METHOD:PUBLISH
X-WR-CALNAME:Encuentro y solidaridad
X-ORIGINAL-URL:https://encuentroysolidaridad.net
X-WR-CALDESC:Eventos para Encuentro y solidaridad
REFRESH-INTERVAL;VALUE=DURATION:PT1H
X-Robots-Tag:noindex
X-PUBLISHED-TTL:PT1H
BEGIN:VTIMEZONE
TZID:Europe/Paris
BEGIN:DAYLIGHT
TZOFFSETFROM:+0100
TZOFFSETTO:+0200
TZNAME:CEST
DTSTART:20180325T010000
END:DAYLIGHT
BEGIN:STANDARD
TZOFFSETFROM:+0200
TZOFFSETTO:+0100
TZNAME:CET
DTSTART:20181028T010000
END:STANDARD
BEGIN:DAYLIGHT
TZOFFSETFROM:+0100
TZOFFSETTO:+0200
TZNAME:CEST
DTSTART:20190331T010000
END:DAYLIGHT
BEGIN:STANDARD
TZOFFSETFROM:+0200
TZOFFSETTO:+0100
TZNAME:CET
DTSTART:20191027T010000
END:STANDARD
BEGIN:DAYLIGHT
TZOFFSETFROM:+0100
TZOFFSETTO:+0200
TZNAME:CEST
DTSTART:20200329T010000
END:DAYLIGHT
BEGIN:STANDARD
TZOFFSETFROM:+0200
TZOFFSETTO:+0100
TZNAME:CET
DTSTART:20201025T010000
END:STANDARD
END:VTIMEZONE
BEGIN:VEVENT
DTSTART;TZID=Europe/Paris:20190328T193000
DTEND;TZID=Europe/Paris:20190328T210000
DTSTAMP:20260422T144007
CREATED:20190312T152536Z
LAST-MODIFIED:20210519T183149Z
UID:2277-1553801400-1553806800@encuentroysolidaridad.net
SUMMARY:Santiago. Economía práctica
DESCRIPTION:En marcha el tercer taller de Economía práctica\, en este caso dedicado a las tarjetas de crédito\, tarjetas de consumo de centros comerciales\, préstamos y otras formas de financiación. \n \nImprescindible inscribirse previamente escribiendo a: miguelip01@yahoo.es
URL:https://encuentroysolidaridad.net/event/santiago-economia-practica/
CATEGORIES:Actos de Encuentro y Solidaridad
ATTACH;FMTTYPE=image/jpeg:https://encuentroysolidaridad.net/wp-content/uploads/2019/03/Tarjeta.jpg
END:VEVENT
END:VCALENDAR