BEGIN:VCALENDAR
VERSION:2.0
PRODID:-//Encuentro y solidaridad - ECPv6.15.11//NONSGML v1.0//EN
CALSCALE:GREGORIAN
METHOD:PUBLISH
X-ORIGINAL-URL:https://encuentroysolidaridad.net
X-WR-CALDESC:Eventos para Encuentro y solidaridad
REFRESH-INTERVAL;VALUE=DURATION:PT1H
X-Robots-Tag:noindex
X-PUBLISHED-TTL:PT1H
BEGIN:VTIMEZONE
TZID:Europe/Paris
BEGIN:DAYLIGHT
TZOFFSETFROM:+0100
TZOFFSETTO:+0200
TZNAME:CEST
DTSTART:20180325T010000
END:DAYLIGHT
BEGIN:STANDARD
TZOFFSETFROM:+0200
TZOFFSETTO:+0100
TZNAME:CET
DTSTART:20181028T010000
END:STANDARD
BEGIN:DAYLIGHT
TZOFFSETFROM:+0100
TZOFFSETTO:+0200
TZNAME:CEST
DTSTART:20190331T010000
END:DAYLIGHT
BEGIN:STANDARD
TZOFFSETFROM:+0200
TZOFFSETTO:+0100
TZNAME:CET
DTSTART:20191027T010000
END:STANDARD
BEGIN:DAYLIGHT
TZOFFSETFROM:+0100
TZOFFSETTO:+0200
TZNAME:CEST
DTSTART:20200329T010000
END:DAYLIGHT
BEGIN:STANDARD
TZOFFSETFROM:+0200
TZOFFSETTO:+0100
TZNAME:CET
DTSTART:20201025T010000
END:STANDARD
END:VTIMEZONE
BEGIN:VEVENT
DTSTART;TZID=Europe/Paris:20190427T180000
DTEND;TZID=Europe/Paris:20190427T200000
DTSTAMP:20260422T130422
CREATED:20190418T104400Z
LAST-MODIFIED:20210519T183124Z
UID:2608-1556388000-1556395200@encuentroysolidaridad.net
SUMMARY:Valladolid. Experiencias contra el despilfarro de alimentos
DESCRIPTION:
URL:https://encuentroysolidaridad.net/event/valladolid-experiencias-contra-el-despilfarro-de-alimentos/
CATEGORIES:Actos de Encuentro y Solidaridad
ATTACH;FMTTYPE=image/jpeg:https://encuentroysolidaridad.net/wp-content/uploads/2019/04/Food_rescued_from_going_to_the_garbage.jpg
END:VEVENT
BEGIN:VEVENT
DTSTART;TZID=Europe/Paris:20190427T180000
DTEND;TZID=Europe/Paris:20190427T200000
DTSTAMP:20260422T130422
CREATED:20190423T162901Z
LAST-MODIFIED:20210519T183124Z
UID:2618-1556388000-1556395200@encuentroysolidaridad.net
SUMMARY:Granada. La esclavitud infantil aquí y ahora
DESCRIPTION:Por Ehsan Ullah Khan\, fundador y presidente del Frente de Liberación del Trabajo Forzado de Pakistán. Liberó al niño Iqbal Masih\, símbolo mundial de la lucha contra la esclavitud infantil asesinado a los 12 años por su lucha.
URL:https://encuentroysolidaridad.net/event/granada-la-esclavitud-infantil-aqui-y-ahora/
CATEGORIES:Actos de Encuentro y Solidaridad
ATTACH;FMTTYPE=image/jpeg:https://encuentroysolidaridad.net/wp-content/uploads/2018/05/Ehsan.jpeg
END:VEVENT
BEGIN:VEVENT
DTSTART;TZID=Europe/Paris:20190427T180000
DTEND;TZID=Europe/Paris:20190427T210000
DTSTAMP:20260422T130422
CREATED:20190411T141140Z
LAST-MODIFIED:20210519T183124Z
UID:2594-1556388000-1556398800@encuentroysolidaridad.net
SUMMARY:Madrid. Impunidad frente a la trata
DESCRIPTION:
URL:https://encuentroysolidaridad.net/event/impunidad-frente-a-la-trata/
CATEGORIES:Actos de Encuentro y Solidaridad
ATTACH;FMTTYPE=image/jpeg:https://encuentroysolidaridad.net/wp-content/uploads/2019/04/Club.jpg
END:VEVENT
END:VCALENDAR