BEGIN:VCALENDAR
VERSION:2.0
PRODID:-//Encuentro y solidaridad - ECPv6.15.11//NONSGML v1.0//EN
CALSCALE:GREGORIAN
METHOD:PUBLISH
X-ORIGINAL-URL:https://encuentroysolidaridad.net
X-WR-CALDESC:Eventos para Encuentro y solidaridad
REFRESH-INTERVAL;VALUE=DURATION:PT1H
X-Robots-Tag:noindex
X-PUBLISHED-TTL:PT1H
BEGIN:VTIMEZONE
TZID:Europe/Madrid
BEGIN:DAYLIGHT
TZOFFSETFROM:+0100
TZOFFSETTO:+0200
TZNAME:CEST
DTSTART:20190331T010000
END:DAYLIGHT
BEGIN:STANDARD
TZOFFSETFROM:+0200
TZOFFSETTO:+0100
TZNAME:CET
DTSTART:20191027T010000
END:STANDARD
BEGIN:DAYLIGHT
TZOFFSETFROM:+0100
TZOFFSETTO:+0200
TZNAME:CEST
DTSTART:20200329T010000
END:DAYLIGHT
BEGIN:STANDARD
TZOFFSETFROM:+0200
TZOFFSETTO:+0100
TZNAME:CET
DTSTART:20201025T010000
END:STANDARD
BEGIN:DAYLIGHT
TZOFFSETFROM:+0100
TZOFFSETTO:+0200
TZNAME:CEST
DTSTART:20210328T010000
END:DAYLIGHT
BEGIN:STANDARD
TZOFFSETFROM:+0200
TZOFFSETTO:+0100
TZNAME:CET
DTSTART:20211031T010000
END:STANDARD
END:VTIMEZONE
BEGIN:VEVENT
DTSTART;TZID=Europe/Madrid:20200404T110000
DTEND;TZID=Europe/Madrid:20200404T130000
DTSTAMP:20260421T161736
CREATED:20200309T111800Z
LAST-MODIFIED:20210519T183048Z
UID:4580-1585998000-1586005200@encuentroysolidaridad.net
SUMMARY:Santander: grupo de lectura
DESCRIPTION:Queremos profundizar en el tema de la eutanasia y el suicidio asistido teniendo en cuenta la experiencia real de los pocos países en los que la Eutanasia está aprobada\, las situaciones concretas de enfermos concretos (no sólo el caso mediático de turno)\, las dudas que surgen de quien ha estudiado el tema de cerca y desde el punto de vista profesional\, las consecuencias que esta ley pueda tener para toda la sociedad y en concreto para los más pobres y vulnerables….\n\nLas aportaciones de Hebert Hendin\, quien fue Director Médico de Iniciativas de Prevención del Suicidio y Profesor de Psiquiatría en el New York Medical College\, a pesar de estar escritas en 1998\, creemos que siguen teniendo mucho que decir en el momento actual.\n\n\n\n\nDada la situación que nos encontramos haremos el Tercer Encuentro del grupo de lectura de forma no presencial. Aquellos que estéis interesados nos decís para ver el mejor medio técnico para comunicarnos\, os podemos hacer llegar el libro.\n\nUn saludo en estos difíciles días.
URL:https://encuentroysolidaridad.net/event/santander-grupo-de-lectura-2/
CATEGORIES:Actos de Encuentro y Solidaridad
ATTACH;FMTTYPE=image/jpeg:https://encuentroysolidaridad.net/wp-content/uploads/2020/03/Manos.jpg
END:VEVENT
BEGIN:VEVENT
DTSTART;TZID=Europe/Madrid:20200404T170000
DTEND;TZID=Europe/Madrid:20200404T180000
DTSTAMP:20260421T161736
CREATED:20200401T180107Z
LAST-MODIFIED:20210519T182959Z
UID:4660-1586019600-1586023200@encuentroysolidaridad.net
SUMMARY:YouTube. Los derechos de las empleadas del hogar en estado de alarma
DESCRIPTION:
URL:https://encuentroysolidaridad.net/event/youtube-los-derechos-de-las-empleadas-del-hogar-en-estado-de-alarma/
CATEGORIES:Actos de Encuentro y Solidaridad
ATTACH;FMTTYPE=image/jpeg:https://encuentroysolidaridad.net/wp-content/uploads/2020/04/SEDOAC1.jpg
END:VEVENT
END:VCALENDAR