BEGIN:VCALENDAR
VERSION:2.0
PRODID:-//Encuentro y solidaridad - ECPv6.15.11//NONSGML v1.0//EN
CALSCALE:GREGORIAN
METHOD:PUBLISH
X-WR-CALNAME:Encuentro y solidaridad
X-ORIGINAL-URL:https://encuentroysolidaridad.net
X-WR-CALDESC:Eventos para Encuentro y solidaridad
REFRESH-INTERVAL;VALUE=DURATION:PT1H
X-Robots-Tag:noindex
X-PUBLISHED-TTL:PT1H
BEGIN:VTIMEZONE
TZID:Europe/Madrid
BEGIN:DAYLIGHT
TZOFFSETFROM:+0100
TZOFFSETTO:+0200
TZNAME:CEST
DTSTART:20190331T010000
END:DAYLIGHT
BEGIN:STANDARD
TZOFFSETFROM:+0200
TZOFFSETTO:+0100
TZNAME:CET
DTSTART:20191027T010000
END:STANDARD
BEGIN:DAYLIGHT
TZOFFSETFROM:+0100
TZOFFSETTO:+0200
TZNAME:CEST
DTSTART:20200329T010000
END:DAYLIGHT
BEGIN:STANDARD
TZOFFSETFROM:+0200
TZOFFSETTO:+0100
TZNAME:CET
DTSTART:20201025T010000
END:STANDARD
BEGIN:DAYLIGHT
TZOFFSETFROM:+0100
TZOFFSETTO:+0200
TZNAME:CEST
DTSTART:20210328T010000
END:DAYLIGHT
BEGIN:STANDARD
TZOFFSETFROM:+0200
TZOFFSETTO:+0100
TZNAME:CET
DTSTART:20211031T010000
END:STANDARD
END:VTIMEZONE
BEGIN:VEVENT
DTSTART;TZID=Europe/Madrid:20200420T080000
DTEND;TZID=Europe/Madrid:20200520T170000
DTSTAMP:20260421T161605
CREATED:20200420T080710Z
LAST-MODIFIED:20210519T183004Z
UID:4813-1587369600-1589994000@encuentroysolidaridad.net
SUMMARY:Pamplona: actividades en la Casa Cultura y Encuentro durante coronavirus
DESCRIPTION:Desde la “Casa Cultura y Encuentro” de Navarra queremos informaros que no nos resignamos a “cerrar la persiana” a pesar del cierre físico del local debido a las medidas tomadas por las autoridades por la situación del Coronavirus. Siempre hay posibilidades de continuar con la labor de promoción solidaria\, si queremos… Por ello continuamos ofreciendo las actividades habituales en formato telemático (vía internet)\, al igual que muchas otras personas lo están haciendo en el trabajo o en los estudios. En primer lugar\, la escuela de padres\, para continuar compartiendo nuestras experiencias como padres en la educación de los hijos y en cómo nos estamos organizando en casa durante este confinamiento. En cuanto al apoyo al estudio de Primaria y Secundaria\, ofrecemos atención a aquellos alumnos que necesiten resolver dudas y orientaciones.\n\n\n\nAnimamos a que se pongan en contacto en los teléfonos anunciados para poder participar y colaborar en estas actividades.\n\n\n\nComo bien nos dice Gandalf: “No podemos elegir los tiempos en los que nos toca vivir\, lo único que podemos hacer es qué hacer con el tiempo que se nos ha dado”\n\nTambién Viktor Frank decía: “A un hombre le pueden quitar todo\, menos una cosa\, la última de las libertades del ser humano\, la elección de su propia actitud ante cualquier tipo de circunstancias\, la elección del propio camino”.
URL:https://encuentroysolidaridad.net/event/pamplona-actividades-en-la-casa-cultura-y-encuentro-durante-coronavirus/
CATEGORIES:Actos de Encuentro y Solidaridad
ATTACH;FMTTYPE=image/jpeg:https://encuentroysolidaridad.net/wp-content/uploads/2020/04/CCENavarra.jpeg
END:VEVENT
BEGIN:VEVENT
DTSTART;TZID=Europe/Madrid:20200423T080000
DTEND;TZID=Europe/Madrid:20200425T210000
DTSTAMP:20260421T161605
CREATED:20200224T211250Z
LAST-MODIFIED:20210519T182959Z
UID:4516-1587628800-1587848400@encuentroysolidaridad.net
SUMMARY:Cantabria: diálogos sobre pornografía entre jóvenes
DESCRIPTION:Puedes solicitar que los jóvenes de la asociación SAL (solidaridad\, amistad y libertad) tengan un diálogo entorno a la industria del porno con los jóvenes de tu Instituto\, asociación\, parroquia…. En cantabria@encuentroysolidaridad.net o 616234789. \n 
URL:https://encuentroysolidaridad.net/event/cantabria-dialogos-sobre-pornografia-entre-jovenes/
CATEGORIES:Actos de Encuentro y Solidaridad
ATTACH;FMTTYPE=image/jpeg:https://encuentroysolidaridad.net/wp-content/uploads/2020/02/Pornografía-Cancelado.jpg
END:VEVENT
BEGIN:VEVENT
DTSTART;TZID=Europe/Madrid:20200425T170000
DTEND;TZID=Europe/Madrid:20200425T180000
DTSTAMP:20260421T161605
CREATED:20200421T101602Z
LAST-MODIFIED:20210519T182959Z
UID:4862-1587834000-1587837600@encuentroysolidaridad.net
SUMMARY:Medidas económicas del gobierno ante la crisis del Covid-19
DESCRIPTION:Puedes seguir la charla desde aquí: \n﻿ \nJoan Josep Bosch\, economista\, miembro de ATTAC Navarra\nATTAC (Asociación para la Tasación de las Transacciones Financieras y de Ayuda a la Ciudadanía) lleva 20 años en España incorporados al movimiento internacional de ATTAC creado primero en Francia y después en numerosos países. ATTAC nació para a alzar la voz frente al silencio casi unánime a nivel social\, político e institucional frente al yugo creciente que las finanzas internacionales ejercían sobre el conjunto de la población mundial frente a los diversos actores . Nació para denunciar la dictadura de los mercados y la especulación financiera. Nació para evitar las indeseables consecuencias de una forma de globalización económica que se desenvuelve bajo la hegemonía del capital financiero y favorece la práctica de los especuladores\, que provoca paro\, pobreza y exclusión social.\nJoan Josep Bosch se muestra muy crítico con las medidas anunciadas por el Gobierno\, que las considera «muy insuficientes y grandilocuentes» (extracto de entrevista publicada recientemente en el diario Deia. \nEs una buenísima medida para las entidades financieras que van a poder vender créditos que las empresas van a tener que devolverlos\, y si no responde el cliente responderá el Estado. Crédito garantizado. Para las entidades financieras es extraordinaria la medida\, pero para las empresas no. \nSe van a beneficiar todas las empresas que se vean afectadas por el estado de alarma\, pero eso implica que también empresas con muchos beneficios o que no pagan apenas impuesto de sociedades. «Es el mercado\, amigos»; cuando va bien ganan dinero y cuando vienen mal dadas en un acontecimiento extraordinario el que pone el dinero va a ser el Estado. Los ERTE son necesarios\, pero igual habría que haber sido más finos en el cribaje de las empresas potencialmente beneficiadas. \n\n¿Y sobre las medidas para los autónomos?\nLos autónomos también tendrán que hacer un trámite un poco complicado\, porque la pérdida del 70% de los ingresos tendrá que ser demostrada en comparación con el semestre anterior. Algo que solo se puede hacer cuando acabe el mes\, y entonces lo tramitarán. Estamos en una emergencia. Es como si estoy sangrando con una herida abierta y te digo que me traigas una solicitud de vendas.
URL:https://encuentroysolidaridad.net/event/medidas-economicas-del-gobierno-ante-la-crisis-del-covid-19/
CATEGORIES:Actos de Encuentro y Solidaridad
ATTACH;FMTTYPE=image/jpeg:https://encuentroysolidaridad.net/wp-content/uploads/2020/04/coronavirus.jpg
END:VEVENT
END:VCALENDAR