BEGIN:VCALENDAR
VERSION:2.0
PRODID:-//Encuentro y solidaridad - ECPv6.15.11//NONSGML v1.0//EN
CALSCALE:GREGORIAN
METHOD:PUBLISH
X-WR-CALNAME:Encuentro y solidaridad
X-ORIGINAL-URL:https://encuentroysolidaridad.net
X-WR-CALDESC:Eventos para Encuentro y solidaridad
REFRESH-INTERVAL;VALUE=DURATION:PT1H
X-Robots-Tag:noindex
X-PUBLISHED-TTL:PT1H
BEGIN:VTIMEZONE
TZID:Europe/Madrid
BEGIN:DAYLIGHT
TZOFFSETFROM:+0100
TZOFFSETTO:+0200
TZNAME:CEST
DTSTART:20190331T010000
END:DAYLIGHT
BEGIN:STANDARD
TZOFFSETFROM:+0200
TZOFFSETTO:+0100
TZNAME:CET
DTSTART:20191027T010000
END:STANDARD
BEGIN:DAYLIGHT
TZOFFSETFROM:+0100
TZOFFSETTO:+0200
TZNAME:CEST
DTSTART:20200329T010000
END:DAYLIGHT
BEGIN:STANDARD
TZOFFSETFROM:+0200
TZOFFSETTO:+0100
TZNAME:CET
DTSTART:20201025T010000
END:STANDARD
BEGIN:DAYLIGHT
TZOFFSETFROM:+0100
TZOFFSETTO:+0200
TZNAME:CEST
DTSTART:20210328T010000
END:DAYLIGHT
BEGIN:STANDARD
TZOFFSETFROM:+0200
TZOFFSETTO:+0100
TZNAME:CET
DTSTART:20211031T010000
END:STANDARD
END:VTIMEZONE
BEGIN:VEVENT
DTSTART;TZID=Europe/Madrid:20200612T170000
DTEND;TZID=Europe/Madrid:20200612T183000
DTSTAMP:20260421T130154
CREATED:20200530T143741Z
LAST-MODIFIED:20210519T182959Z
UID:5143-1591981200-1591986600@encuentroysolidaridad.net
SUMMARY:Charla on-line: limpieza y sentido común frente al Covid-19
DESCRIPTION:COMUNICADO DETERGENTES SOLYECO \nHola amigos y clientes: \nComo muchos sabéis nos dedicamos a la formulación\, envasado\, y distribución de detergentes y productos de limpieza. En nuestra tarea profesional hemos optado por desarrollar productos que sean lo más amigables tanto para las personas como para el medio ambiente utilizando ingredientes por tanto que sean lo menos agresivos. Desarrollando líneas de productos aptas para personas con determinadas sensibilidades y alergias a los químicos y olores. \nEn estos momentos\, como podréis imaginar\, se suceden las llamadas y las consultas a través de correo electrónico sobre si nuestros productos son desinfectantes\, si desinfectan igual que la lejía\, si hay desinfectantes aptos para enfermos con SQM (Sensibilidad Química Múltiple)\, qué desinfectantes se pueden utilizar para desinfectar comercios que no sean muy agresivos\, etc \nPor ello queremos comentaros nuestra opinión al respecto. Nosotros consideramos que con una adecuada limpieza\, con una higiene normal y continua no es necesario el uso de desinfectantes tal cual se está promoviendo en muchos casos desde intereses comerciales. \nAlgunos clientes nos llaman preguntándonos y con un cierto desasosiego como si tuvieran que tener sus empresas “como si fueran quirófanos”. \nCreemos que esto es excesivo y podemos caer en estos momentos en una determinada obsesión por la desinfección. \nDentro de los desinfectactes hay productos que pueden ser más peligrosos y otros menos peligrosos. Alguno es necesario que se dosifiquen y utilicen por profesionales. \nQueremos defender que cualquier detergente\, jabón que lleven tensoactivos es eficaz para la desactivación y limpieza de organismos patógenos. En el caso actual con la preocupación con el virus Covid\, éste tiene una membrana lipídica que es disuelta por los detergentes convencionales. Todos estamos escuchando que lo más eficaz es lavarse las manos adecuadamente con cualquier jabón. \nEn un reciente seminario impartido por el Ilustre Colegio Oficial de Químicos de Murcia\, en colaboración con la Universidad de Murcia y otras instituciones\, entre los agentes desinfectantes eficaces está el cloruro de benzalconio\, presente en muchos productos de limpieza básicos (y también en nuestro limpiador universal para suelos y baños). \nPor otro lado queremos denunciar que en estos momentos de fatalidad para muchas personas se esté haciendo negocio con determinados productos que pueden ayudar a disminuir las consecuencias negativas de esta pandemia. Se han estado vendiendo gel hidroalcohólico a precio de oro y el alcohol se ha disparado de precio. \nEl miedo siempre nos lleva a perder el sentido común y es el caldo de cultivo para los oportunistas. La responsabilidad ante esta situación nos debe llevar a ser prudentes y cuidar especialmente los hábitos normales de limpieza e higiene. Esto es mucho más eficaz que cualquier producto químico o EPI (equipo de protección individual) mal utilizado.\nEn estos momentos se pone más de manifiesto que nunca lo que venimos diciendo desde nuestros inicios: “ser ecológicos implica consumir sólo lo necesario”.\nAgradeceros vuestra confianza en nosotros. Sabéis que nuestro trabajo es estar a vuestro servicio para atender vuestras necesidades. \nGracias \nJosé Marín Zamora\nResponsable de Detergentes Solyeco\nLicenciado en Ciencias Químicas y Bioquímica
URL:https://encuentroysolidaridad.net/event/charla-on-line-limpieza-y-sentido-comun-frente-al-covid-19/
CATEGORIES:Actos de Encuentro y Solidaridad
ATTACH;FMTTYPE=image/jpeg:https://encuentroysolidaridad.net/wp-content/uploads/2020/05/miedo-obsesivo-de-gérmenes.jpg
END:VEVENT
END:VCALENDAR