BEGIN:VCALENDAR
VERSION:2.0
PRODID:-//Encuentro y solidaridad - ECPv6.15.11//NONSGML v1.0//EN
CALSCALE:GREGORIAN
METHOD:PUBLISH
X-WR-CALNAME:Encuentro y solidaridad
X-ORIGINAL-URL:https://encuentroysolidaridad.net
X-WR-CALDESC:Eventos para Encuentro y solidaridad
REFRESH-INTERVAL;VALUE=DURATION:PT1H
X-Robots-Tag:noindex
X-PUBLISHED-TTL:PT1H
BEGIN:VTIMEZONE
TZID:Europe/Madrid
BEGIN:DAYLIGHT
TZOFFSETFROM:+0100
TZOFFSETTO:+0200
TZNAME:CEST
DTSTART:20190331T010000
END:DAYLIGHT
BEGIN:STANDARD
TZOFFSETFROM:+0200
TZOFFSETTO:+0100
TZNAME:CET
DTSTART:20191027T010000
END:STANDARD
BEGIN:DAYLIGHT
TZOFFSETFROM:+0100
TZOFFSETTO:+0200
TZNAME:CEST
DTSTART:20200329T010000
END:DAYLIGHT
BEGIN:STANDARD
TZOFFSETFROM:+0200
TZOFFSETTO:+0100
TZNAME:CET
DTSTART:20201025T010000
END:STANDARD
BEGIN:DAYLIGHT
TZOFFSETFROM:+0100
TZOFFSETTO:+0200
TZNAME:CEST
DTSTART:20210328T010000
END:DAYLIGHT
BEGIN:STANDARD
TZOFFSETFROM:+0200
TZOFFSETTO:+0100
TZNAME:CET
DTSTART:20211031T010000
END:STANDARD
END:VTIMEZONE
BEGIN:VEVENT
DTSTART;TZID=Europe/Madrid:20200620T110000
DTEND;TZID=Europe/Madrid:20200620T120000
DTSTAMP:20260421T130153
CREATED:20200602T105705Z
LAST-MODIFIED:20210519T182959Z
UID:5175-1592650800-1592654400@encuentroysolidaridad.net
SUMMARY:Primera alianza. Grupo de lectura online
DESCRIPTION:¿Cuáles son las bases de la seguridad emocional en las relaciones padres-hijos al principio de la vida? ¿Por qué algunos padres\, a pesar de su deseo de cuidar\, tienen dificultades para cubrir las necesidades emocionales de sus hijos y mantenerlos protegidos? ¿Cómo podemos ayudar a los padres a entender mejor las señales de sus hijos\, a sentirse más motivados para cuidar y más seguros frente a la tarea-no sencilla-de ser padres? \nPrimera Alianza en un proyecto de intervención cuyo objetivo es proteger el desarrollo infantil mediante el fortalecimiento de los vínculos tempranos padres-hijos en familias vulnerables. Esta obra recoge las aportaciones que ha hecho la teoría del apego acerca de cómo se construyen relaciones afectivas de la vida\, cuales son las fuentes de seguridad del niño o qué procesos conducen al trauma y al apego desorganizado.
URL:https://encuentroysolidaridad.net/event/primera-alianza-grupo-de-lectura-online/
CATEGORIES:Actos de Encuentro y Solidaridad
ATTACH;FMTTYPE=image/jpeg:https://encuentroysolidaridad.net/wp-content/uploads/2020/06/PA-origami-1024x638-1.jpg
END:VEVENT
END:VCALENDAR