BEGIN:VCALENDAR
VERSION:2.0
PRODID:-//Encuentro y solidaridad - ECPv6.15.11//NONSGML v1.0//EN
CALSCALE:GREGORIAN
METHOD:PUBLISH
X-WR-CALNAME:Encuentro y solidaridad
X-ORIGINAL-URL:https://encuentroysolidaridad.net
X-WR-CALDESC:Eventos para Encuentro y solidaridad
REFRESH-INTERVAL;VALUE=DURATION:PT1H
X-Robots-Tag:noindex
X-PUBLISHED-TTL:PT1H
BEGIN:VTIMEZONE
TZID:Europe/Madrid
BEGIN:DAYLIGHT
TZOFFSETFROM:+0100
TZOFFSETTO:+0200
TZNAME:CEST
DTSTART:20190331T010000
END:DAYLIGHT
BEGIN:STANDARD
TZOFFSETFROM:+0200
TZOFFSETTO:+0100
TZNAME:CET
DTSTART:20191027T010000
END:STANDARD
BEGIN:DAYLIGHT
TZOFFSETFROM:+0100
TZOFFSETTO:+0200
TZNAME:CEST
DTSTART:20200329T010000
END:DAYLIGHT
BEGIN:STANDARD
TZOFFSETFROM:+0200
TZOFFSETTO:+0100
TZNAME:CET
DTSTART:20201025T010000
END:STANDARD
BEGIN:DAYLIGHT
TZOFFSETFROM:+0100
TZOFFSETTO:+0200
TZNAME:CEST
DTSTART:20210328T010000
END:DAYLIGHT
BEGIN:STANDARD
TZOFFSETFROM:+0200
TZOFFSETTO:+0100
TZNAME:CET
DTSTART:20211031T010000
END:STANDARD
BEGIN:DAYLIGHT
TZOFFSETFROM:+0100
TZOFFSETTO:+0200
TZNAME:CEST
DTSTART:20220327T010000
END:DAYLIGHT
BEGIN:STANDARD
TZOFFSETFROM:+0200
TZOFFSETTO:+0100
TZNAME:CET
DTSTART:20221030T010000
END:STANDARD
END:VTIMEZONE
BEGIN:VEVENT
DTSTART;VALUE=DATE:20201019
DTEND;VALUE=DATE:20210629
DTSTAMP:20260421T044133
CREATED:20201013T094002Z
LAST-MODIFIED:20210519T182910Z
UID:5986-1603065600-1624924799@encuentroysolidaridad.net
SUMMARY:Espacio de apoyo mutuo
DESCRIPTION:
URL:https://encuentroysolidaridad.net/event/espacio-de-apoyo-mutuo/
LOCATION:Madrid. Casa Cultura y Encuentro\, C/ Polvoranca\, 19 bis\, Madrid\, Madrid\, 28044\, España
CATEGORIES:Actos de Encuentro y Solidaridad
ATTACH;FMTTYPE=image/jpeg:https://encuentroysolidaridad.net/wp-content/uploads/2020/10/facebook_1601968209665_6719141669670820133.jpg
END:VEVENT
BEGIN:VEVENT
DTSTART;TZID=Europe/Madrid:20201113T190000
DTEND;TZID=Europe/Madrid:20201113T200000
DTSTAMP:20260421T044133
CREATED:20201107T141636Z
LAST-MODIFIED:20210519T182909Z
UID:6236-1605294000-1605297600@encuentroysolidaridad.net
SUMMARY:Ciclo: Experiencias sobre el Covid-19: "Mi experiencia trabajando en residencias de mayores"
DESCRIPTION:Seguimos avanzando dentro del ciclo Covid en ir conociendo las vivencias y experiencias durante la pandemia desde distintas miradas; este viernes nos acercamos a uno de los sectores que han sido más afectados\, las residencia de mayores\, de la mano de Rosa García trabajadora en una residencia en Madrid con una experiencia de más de 20 años en la profesión. \nPara acceder a la charla\, te dejamos aquí el enlace.
URL:https://encuentroysolidaridad.net/event/ciclo-experiencias-sobre-el-covid-19-mi-experiencia-trabajando-en-residencias-de-mayores/
LOCATION:Valladolid
CATEGORIES:Actos de Encuentro y Solidaridad
ATTACH;FMTTYPE=image/jpeg:https://encuentroysolidaridad.net/wp-content/uploads/2020/11/WhatsApp-Image-2020-11-07-at-12.54.23.jpeg
END:VEVENT
END:VCALENDAR