BEGIN:VCALENDAR
VERSION:2.0
PRODID:-//Encuentro y solidaridad - ECPv6.15.11//NONSGML v1.0//EN
CALSCALE:GREGORIAN
METHOD:PUBLISH
X-ORIGINAL-URL:https://encuentroysolidaridad.net
X-WR-CALDESC:Eventos para Encuentro y solidaridad
REFRESH-INTERVAL;VALUE=DURATION:PT1H
X-Robots-Tag:noindex
X-PUBLISHED-TTL:PT1H
BEGIN:VTIMEZONE
TZID:Europe/Madrid
BEGIN:DAYLIGHT
TZOFFSETFROM:+0100
TZOFFSETTO:+0200
TZNAME:CEST
DTSTART:20220327T010000
END:DAYLIGHT
BEGIN:STANDARD
TZOFFSETFROM:+0200
TZOFFSETTO:+0100
TZNAME:CET
DTSTART:20221030T010000
END:STANDARD
BEGIN:DAYLIGHT
TZOFFSETFROM:+0100
TZOFFSETTO:+0200
TZNAME:CEST
DTSTART:20230326T010000
END:DAYLIGHT
BEGIN:STANDARD
TZOFFSETFROM:+0200
TZOFFSETTO:+0100
TZNAME:CET
DTSTART:20231029T010000
END:STANDARD
BEGIN:DAYLIGHT
TZOFFSETFROM:+0100
TZOFFSETTO:+0200
TZNAME:CEST
DTSTART:20240331T010000
END:DAYLIGHT
BEGIN:STANDARD
TZOFFSETFROM:+0200
TZOFFSETTO:+0100
TZNAME:CET
DTSTART:20241027T010000
END:STANDARD
END:VTIMEZONE
BEGIN:VEVENT
DTSTART;TZID=Europe/Madrid:20230507T183000
DTEND;TZID=Europe/Madrid:20230507T183000
DTSTAMP:20260426T062537
CREATED:20230418T100946Z
LAST-MODIFIED:20230418T100948Z
UID:11582-1683484200-1683484200@encuentroysolidaridad.net
SUMMARY:Tardes de cine en Valladolid
DESCRIPTION:Dar su espacio al otro me fortalece en el mío.
URL:https://encuentroysolidaridad.net/event/tardes-de-cine-en-valladolid-4/
LOCATION:Valladolid. Casa Cultura y Encuentro\, C/ Industrias\, 16\, Valladolid\, Valladolid\, Spain
CATEGORIES:Actos en las Casas de Cultura y Encuentro
ATTACH;FMTTYPE=image/jpeg:https://encuentroysolidaridad.net/wp-content/uploads/2023/04/Adam-cine-vall.jpg
END:VEVENT
BEGIN:VEVENT
DTSTART;TZID=Europe/Madrid:20230518T163000
DTEND;TZID=Europe/Madrid:20230518T200000
DTSTAMP:20260426T062537
CREATED:20230518T083119Z
LAST-MODIFIED:20230518T083121Z
UID:11781-1684427400-1684440000@encuentroysolidaridad.net
SUMMARY:Entre amigos en Oviedo
DESCRIPTION:El próximo viernes 19 de mayo vamos a pasar una tarde «Entre amigos» en la Casa de Cultura y Encuentro de Oviedo. \n\n\n\nUna película divertida\, manualidades y juegos. Puedes traer tu merienda. Lo pasaremos bien. \n\n\n\nEntrada gratuita hasta completar aforo.
URL:https://encuentroysolidaridad.net/event/entre-amigos-en-oviedo-5/
LOCATION:Oviedo. Casa Cultura y Encuentro\, C/ Ciudades Unidas\, Oviedo\, 33011\, España
CATEGORIES:Actos en las Casas de Cultura y Encuentro
ATTACH;FMTTYPE=image/jpeg:https://encuentroysolidaridad.net/wp-content/uploads/2023/05/entre-amigos-mayo.jpg
END:VEVENT
BEGIN:VEVENT
DTSTART;TZID=Europe/Madrid:20230520T180000
DTEND;TZID=Europe/Madrid:20230520T200000
DTSTAMP:20260426T062537
CREATED:20230511T094249Z
LAST-MODIFIED:20230516T083512Z
UID:11731-1684605600-1684612800@encuentroysolidaridad.net
SUMMARY:Aclarando dudas en Pamplona\, con Rafael Paredes\, abogado experto en extranjería
DESCRIPTION:
URL:https://encuentroysolidaridad.net/event/aclarando-dudas-en-pamplona-con-rafael-paredes-abogado-experto-en-extranjeria/
LOCATION:Navarra. Casa Cultura y Encuentro\, Calle Sangüesa (frente Nº 33)\, Pamplona\, Navarra\, España
CATEGORIES:Actos en las Casas de Cultura y Encuentro
ATTACH;FMTTYPE=image/jpeg:https://encuentroysolidaridad.net/wp-content/uploads/2023/05/TALLER-RAFA-20-MAYO-23.jpg
END:VEVENT
BEGIN:VEVENT
DTSTART;TZID=Europe/Madrid:20230521T173000
DTEND;TZID=Europe/Madrid:20230521T173000
DTSTAMP:20260426T062537
CREATED:20230405T083117Z
LAST-MODIFIED:20230522T072144Z
UID:11486-1684690200-1684690200@encuentroysolidaridad.net
SUMMARY:Club de lectura en Valladolid
DESCRIPTION:La obra maestra de Héctor Abad Faciolince\, uno de los libros fundamentales de la literatura contemporánea en español. El 25 de agosto de 1987 Héctor Abad Gómez\, médico y activista en pro de los derechos humanos\, es asesinado en Medellín por los paramilitares. El olvido que seremos es su biografía novelada\, escrita por su propio hijo. Un relato desgarrador y emocionante sobre la familia\, que refleja\, al tiempo\, el infierno de la violencia que ha golpeado Colombia en los últimos cincuenta años. \n\n\n\n \n\n\n\n«Como niño yo quería algo imposible: que mi padre no se muriera nunca. Como escritor quise hacer algo igual de imposible: que mi padre resucitara. Si hay personajes ficticios -hechos de palabras- que siempre estarán vivos\, ¿no es posible que una persona real siga viva si la convertimos en palabras? Eso quise hacer con mi padre muerto: convertirlo en alguien tan vivo y tan real como un personaje ficticio».
URL:https://encuentroysolidaridad.net/event/club-de-lectura-en-valladolid-5/
LOCATION:Valladolid. Casa Cultura y Encuentro\, C/ Industrias\, 16\, Valladolid\, Valladolid\, Spain
CATEGORIES:Actos en las Casas de Cultura y Encuentro
ATTACH;FMTTYPE=image/png:https://encuentroysolidaridad.net/wp-content/uploads/2023/04/club-de-lectura-mayo-1.png
END:VEVENT
BEGIN:VEVENT
DTSTART;TZID=Europe/Madrid:20230521T180000
DTEND;TZID=Europe/Madrid:20230521T180000
DTSTAMP:20260426T062537
CREATED:20230514T094718Z
LAST-MODIFIED:20230514T101017Z
UID:11734-1684692000-1684692000@encuentroysolidaridad.net
SUMMARY:Ven a conocer nuestros campamentos. Presentación en Carabanchel
DESCRIPTION:Presentación de los campamentos infantil\, juvenil y circulante en la Casa de Cultura y Encuentro de Carabanchel ( Madrid)\, domingo\, 21 de mayo a las 18h
URL:https://encuentroysolidaridad.net/event/ven-a-conocer-nuestros-campamentos-presentacion-en-carabanchel/
LOCATION:Madrid. Casa Cultura y Encuentro\, C/ Polvoranca\, 19 bis\, Madrid\, Madrid\, 28044\, España
CATEGORIES:Actos en las Casas de Cultura y Encuentro
ATTACH;FMTTYPE=image/jpeg:https://encuentroysolidaridad.net/wp-content/uploads/2023/05/campamentos-Carabanchel.jpg
END:VEVENT
BEGIN:VEVENT
DTSTART;TZID=Europe/Madrid:20230522T183000
DTEND;TZID=Europe/Madrid:20230522T210000
DTSTAMP:20260426T062537
CREATED:20230522T072603Z
LAST-MODIFIED:20230522T072604Z
UID:11806-1684780200-1684789200@encuentroysolidaridad.net
SUMMARY:¿Qué hay detrás de mi nómina?
DESCRIPTION:Los jóvenes de hoy tienen peores expectativas que las que tuvieron sus padres y un fantasma recorre sus cabezas: que no se puede hacer nada ante las situaciones de incertidumbre\, precariedad y explotación laboral. La desaparición del espíritu militante extiende la pesadumbre y\, en consecuencia\, se cambia el sindicato por la consulta del psicólogo\, el entretenimiento de Netflix sustituye al Ateneo cultural y el afrontar los problemas en soledad se disimula por el activismo de las redes sociales. \n\n\n\n¿Y si la precariedad y la explotacion pudieran explicarse en tus contratos\, nóminas\, documentos de la seguridad social y la normativa laboral…?¿Y si en lugar de vivirlo solos y hechos polvo nos planteamos responder juntos con energía? \n\n\n\nTe invitamos el 3 de junio a las 18:30 al acto «¿Qué hay detrás de mí nómina\, contrato\, vida laboral…?» con el abogado laboralista Javier Marijuán.En la Casa Cultura y Encuentro\, C/ Polvoranca 19 bis en Carabanchel alto. \n\n\n\nDaremos un vistazo panorámico a la realidad del mundo laboral y nos plantearemos la importancia de un trabajo digno para todos. \n\n\n\nY si quieres puedes ir apuntando que el 7 de octubre es la «Jornada Mundial por el Trabajo Decente» para reservarte un hueco y colaborar en las actividades que estamos programando. Si estás interesado ponte en contacto con nosotros: depastra@archidiocesis.madrid
URL:https://encuentroysolidaridad.net/event/que-hay-detras-de-mi-nomina/
LOCATION:Madrid. Casa Cultura y Encuentro\, C/ Polvoranca\, 19 bis\, Madrid\, Madrid\, 28044\, España
CATEGORIES:Actos en las Casas de Cultura y Encuentro
ATTACH;FMTTYPE=image/jpeg:https://encuentroysolidaridad.net/wp-content/uploads/2023/05/acto-nomina-carabanchel.jpg
END:VEVENT
END:VCALENDAR