BEGIN:VCALENDAR
VERSION:2.0
PRODID:-//Encuentro y solidaridad - ECPv6.15.11//NONSGML v1.0//EN
CALSCALE:GREGORIAN
METHOD:PUBLISH
X-WR-CALNAME:Encuentro y solidaridad
X-ORIGINAL-URL:https://encuentroysolidaridad.net
X-WR-CALDESC:Eventos para Encuentro y solidaridad
REFRESH-INTERVAL;VALUE=DURATION:PT1H
X-Robots-Tag:noindex
X-PUBLISHED-TTL:PT1H
BEGIN:VTIMEZONE
TZID:Europe/Madrid
BEGIN:DAYLIGHT
TZOFFSETFROM:+0100
TZOFFSETTO:+0200
TZNAME:CEST
DTSTART:20220327T010000
END:DAYLIGHT
BEGIN:STANDARD
TZOFFSETFROM:+0200
TZOFFSETTO:+0100
TZNAME:CET
DTSTART:20221030T010000
END:STANDARD
BEGIN:DAYLIGHT
TZOFFSETFROM:+0100
TZOFFSETTO:+0200
TZNAME:CEST
DTSTART:20230326T010000
END:DAYLIGHT
BEGIN:STANDARD
TZOFFSETFROM:+0200
TZOFFSETTO:+0100
TZNAME:CET
DTSTART:20231029T010000
END:STANDARD
BEGIN:DAYLIGHT
TZOFFSETFROM:+0100
TZOFFSETTO:+0200
TZNAME:CEST
DTSTART:20240331T010000
END:DAYLIGHT
BEGIN:STANDARD
TZOFFSETFROM:+0200
TZOFFSETTO:+0100
TZNAME:CET
DTSTART:20241027T010000
END:STANDARD
END:VTIMEZONE
BEGIN:VEVENT
DTSTART;TZID=Europe/Madrid:20231001T180000
DTEND;TZID=Europe/Madrid:20231001T210000
DTSTAMP:20260425T210751
CREATED:20230911T083737Z
LAST-MODIFIED:20231002T111333Z
UID:12280-1696183200-1696194000@encuentroysolidaridad.net
SUMMARY:Tardes de cine en Valladolid
DESCRIPTION:No desprecies un amigo cuando lo necesitas.Cuando combates contra un enemigo mucho más grande y mucho más fuerte que tú\, descubrir que tienes un amigo\, del que no sabías nada\, es lo mejor que hay en el mundo.
URL:https://encuentroysolidaridad.net/event/tardes-de-cine-en-valladolid-6/
LOCATION:Valladolid. Casa Cultura y Encuentro\, C/ Industrias\, 16\, Valladolid\, Valladolid\, Spain
CATEGORIES:Actos en las Casas de Cultura y Encuentro
ATTACH;FMTTYPE=image/jpeg:https://encuentroysolidaridad.net/wp-content/uploads/2023/09/Orgullo.jpg
END:VEVENT
BEGIN:VEVENT
DTSTART;TZID=Europe/Madrid:20231008T173000
DTEND;TZID=Europe/Madrid:20231008T190000
DTSTAMP:20260425T210751
CREATED:20230911T072205Z
LAST-MODIFIED:20230911T072209Z
UID:12278-1696786200-1696791600@encuentroysolidaridad.net
SUMMARY:Club de lectura en Valladolid
DESCRIPTION:Historia del año y medio de la vida de un adolescente en diversos campos de concentración nazis (experiencia que el autor vivió en propia carne)\, Sin destino no es\, sin embargo\, ningún texto autobiográfico. Con la fría objetividad del entomólogo y desde una distancia irónica\, Kertész nos muestra en su historia la hiriente realidad de los campos de exterminio en sus efectos más eficazmente perversos: aquellos que confunden justicia y humillación arbitraria\, y la cotidianidad más inhumana con una forma aberrante de felicidad. Testigo desapasionado\, Sin destino es\, por encima de todo\, gran literatura\, y una de las mejores novelas del siglo XX\, capaz de dejar una huella profunda e imperecedera en el lector. \n\n\n\nImre Kertész (1929 – 2016) fue escritor húngaro\, galardonado con el Nobel en el año 2002.  \n\n\n\nDurante la Segunda Guerra Mundial\, en 1944\, fue deportado al campo de concentración de Auschwitz\, para luego ser enviado a Buchenwald. Allí\, dijo ser un trabajador de 16 años\, con tal de salvarse de la muerte a causa de su edad. Al ser liberado en 1945\, volvió a Budapest\, terminó la escuela secundaria en 1948\, para luego trabajar como periodista y traductor\, no sin haber pasado antes por muchas dificultades. \n\n\n\nEn 1951 perdió su trabajo en el periódico Világosság (Claridad)\, luego de que el medio tomara una línea editorial orientada al comunismo. Trabajó en una fábrica y en el departamento de prensa del Ministerio de Industria Pesada por poco tiempo. En 1953 comenzó su trabajo como periodista independiente y traductor\, traduciendo al húngaro obras de autores tales como Friedrich Nietzsche\, Sigmund Freud\, Ludwig Wittgenstein y Elias Canetti.
URL:https://encuentroysolidaridad.net/event/club-de-lectura-en-valladolid-7/
LOCATION:Valladolid. Casa Cultura y Encuentro\, C/ Industrias\, 16\, Valladolid\, Valladolid\, Spain
CATEGORIES:Actos en las Casas de Cultura y Encuentro
ATTACH;FMTTYPE=image/png:https://encuentroysolidaridad.net/wp-content/uploads/2023/09/club-de-lectura.png
END:VEVENT
BEGIN:VEVENT
DTSTART;TZID=Europe/Madrid:20231021T100000
DTEND;TZID=Europe/Madrid:20231021T190000
DTSTAMP:20260425T210751
CREATED:20231003T095737Z
LAST-MODIFIED:20231003T100939Z
UID:12392-1697882400-1697914800@encuentroysolidaridad.net
SUMMARY:JORNADA DE TRABAJO del foro de diálogo político en Madrid
DESCRIPTION:Convencidos de que el diálogo es la herramienta que los humanos tenemos para resolver los conflictos y hacer crecer la justicia\, la igualdad\, la libertad y la solidaridad\, un grupo de personas provenientes de distintas experiencias políticas y sociales hemos lanzado este “Foro de Diálogo Político”. \n\n\n\nUn foro en desarrollo que pretende contribuir\, junto a otras muchas iniciativas cívicas y sociales\, a la construcción de espacios\, alternativas y propuestas que nazcan del pueblo\, de la base de la sociedad\, especialmente de las personas más olvidadas o apartadas. \n\n\n\nOs convocamos el sábado 21 de octubre de 2023 a una jornada de trabajo para profundizar en: \n\n\n\n1. Socialismo real\, trabajo y protagonismo político desde abajo. \n\n\n\n2. Feminismo y abolición de la prostitución\, vientres de alquiler y género. \n\n\n\nInscríbete aquí: https://forms.gle/CeTLX5tPjbxYnUxT7
URL:https://encuentroysolidaridad.net/event/foro-de-dialogo-politico-en-madrid/
LOCATION:Madrid. Casa Cultura y Encuentro\, C/ Polvoranca\, 19 bis\, Madrid\, Madrid\, 28044\, España
CATEGORIES:Actos en las Casas de Cultura y Encuentro
ATTACH;FMTTYPE=image/jpeg:https://encuentroysolidaridad.net/wp-content/uploads/2023/10/Cartel-Jornada-trabajo.jpg
END:VEVENT
BEGIN:VEVENT
DTSTART;TZID=Europe/Madrid:20231021T110000
DTEND;TZID=Europe/Madrid:20231104T130000
DTSTAMP:20260425T210751
CREATED:20230915T091945Z
LAST-MODIFIED:20230915T092044Z
UID:12300-1697886000-1699102800@encuentroysolidaridad.net
SUMMARY:Técnicas de estudio. Pamplona
DESCRIPTION:
URL:https://encuentroysolidaridad.net/event/tecnicas-de-estudio-pamplona-2/
LOCATION:Navarra. Casa Cultura y Encuentro\, Calle Sangüesa (frente Nº 33)\, Pamplona\, Navarra\, España
CATEGORIES:Actos en las Casas de Cultura y Encuentro
ATTACH;FMTTYPE=image/jpeg:https://encuentroysolidaridad.net/wp-content/uploads/2023/09/Tecnicas-de-Estudio-navarra.jpg
END:VEVENT
BEGIN:VEVENT
DTSTART;TZID=Europe/Madrid:20231022T110000
DTEND;TZID=Europe/Madrid:20231022T140000
DTSTAMP:20260425T210751
CREATED:20231003T100445Z
LAST-MODIFIED:20231003T100537Z
UID:12397-1697972400-1697983200@encuentroysolidaridad.net
SUMMARY:Diálogo con Ramesh Sharma
DESCRIPTION:Ramesh Sharma lleva la mayor parte de su vida trabajando activamente por la noviolencia\, partiendo de la realidad de los campesinos empobrecidos de la India. Es coordinador nacional de Ekta Parishad\, el movimiento que ha impulsado la campaña internacional Jai Jagat 2020. \n\n\n\nHablaremos sobre los BRICS en el contexto mundial\, la economía noviolenta y las sinergias internacionales en la lucha obrera y feminista \n\n\n\nOs animamos a ver la colaboración hecha por Ramesh Sharma\, coordinador de Ekta Parishad\, para el curso «El Desafío de la Fragilidad»\, que tuvo lugar en la Casa Emaús en el marco de los Encuentros para la Solidaridad\, el domingo 9 de julio de 2023.
URL:https://encuentroysolidaridad.net/event/dialogo-con-ramesh-sharma/
LOCATION:Madrid. Casa Cultura y Encuentro\, C/ Polvoranca\, 19 bis\, Madrid\, Madrid\, 28044\, España
CATEGORIES:Actos en las Casas de Cultura y Encuentro
ATTACH;FMTTYPE=image/jpeg:https://encuentroysolidaridad.net/wp-content/uploads/2023/10/Ramesh.jpg
END:VEVENT
BEGIN:VEVENT
DTSTART;TZID=Europe/Madrid:20231027T163000
DTEND;TZID=Europe/Madrid:20231027T200000
DTSTAMP:20260425T210751
CREATED:20231017T073747Z
LAST-MODIFIED:20231017T074838Z
UID:12473-1698424200-1698436800@encuentroysolidaridad.net
SUMMARY:Entre amigos en Oviedo
DESCRIPTION:En la Casa de Cultura y Encuentro de Oviedo nos veremos el viernes 27 de octubre para pasar una tarde «Entre amigos». \n\n\n\nEsta vez con la peli «Los futbolísimos» y después un rato de juegos. Trae tu merienda para compartir y pasa una divertida tarde de viernes.
URL:https://encuentroysolidaridad.net/event/12473/
LOCATION:Oviedo. Casa Cultura y Encuentro\, C/ Ciudades Unidas\, Oviedo\, 33011\, España
CATEGORIES:Actos en las Casas de Cultura y Encuentro
ATTACH;FMTTYPE=image/jpeg:https://encuentroysolidaridad.net/wp-content/uploads/2023/10/entre-amigos-oviedo-futbolisimos.jpg
END:VEVENT
END:VCALENDAR