BEGIN:VCALENDAR
VERSION:2.0
PRODID:-//Encuentro y solidaridad - ECPv6.15.11//NONSGML v1.0//EN
CALSCALE:GREGORIAN
METHOD:PUBLISH
X-ORIGINAL-URL:https://encuentroysolidaridad.net
X-WR-CALDESC:Eventos para Encuentro y solidaridad
REFRESH-INTERVAL;VALUE=DURATION:PT1H
X-Robots-Tag:noindex
X-PUBLISHED-TTL:PT1H
BEGIN:VTIMEZONE
TZID:Europe/Madrid
BEGIN:DAYLIGHT
TZOFFSETFROM:+0100
TZOFFSETTO:+0200
TZNAME:CEST
DTSTART:20220327T010000
END:DAYLIGHT
BEGIN:STANDARD
TZOFFSETFROM:+0200
TZOFFSETTO:+0100
TZNAME:CET
DTSTART:20221030T010000
END:STANDARD
BEGIN:DAYLIGHT
TZOFFSETFROM:+0100
TZOFFSETTO:+0200
TZNAME:CEST
DTSTART:20230326T010000
END:DAYLIGHT
BEGIN:STANDARD
TZOFFSETFROM:+0200
TZOFFSETTO:+0100
TZNAME:CET
DTSTART:20231029T010000
END:STANDARD
BEGIN:DAYLIGHT
TZOFFSETFROM:+0100
TZOFFSETTO:+0200
TZNAME:CEST
DTSTART:20240331T010000
END:DAYLIGHT
BEGIN:STANDARD
TZOFFSETFROM:+0200
TZOFFSETTO:+0100
TZNAME:CET
DTSTART:20241027T010000
END:STANDARD
END:VTIMEZONE
BEGIN:VEVENT
DTSTART;TZID=Europe/Madrid:20231124T163000
DTEND;TZID=Europe/Madrid:20231124T190000
DTSTAMP:20260425T212421
CREATED:20231117T104106Z
LAST-MODIFIED:20231117T104109Z
UID:12636-1700843400-1700852400@encuentroysolidaridad.net
SUMMARY:Cine Entre amigos en Oviedo
DESCRIPTION:Estás invitado a pasar una tarde «Entre amigos» en la Casa de Cultura y Encuentro\, el viernes 24 de noviembre a las 4 y media de la tarde. \n\n\n\nComo siempre veremos una peli\, hacemos manualidades y juegos. Acuérdate de traer algo de merienda para compartir. \n\n\n\nEntrada libre hasta completar aforo. Nos vemos.
URL:https://encuentroysolidaridad.net/event/cine-entre-amigos-en-oviedo/
LOCATION:Oviedo. Casa Cultura y Encuentro\, C/ Ciudades Unidas\, Oviedo\, 33011\, España
CATEGORIES:Actos en las Casas de Cultura y Encuentro
ATTACH;FMTTYPE=image/jpeg:https://encuentroysolidaridad.net/wp-content/uploads/2023/11/231124-jurasic.jpg
END:VEVENT
BEGIN:VEVENT
DTSTART;TZID=Europe/Madrid:20231124T180000
DTEND;TZID=Europe/Madrid:20231124T200000
DTSTAMP:20260425T212421
CREATED:20231115T090735Z
LAST-MODIFIED:20231115T090737Z
UID:12623-1700848800-1700856000@encuentroysolidaridad.net
SUMMARY:Aclarando dudas con Rafael Paredes (abogado experto en extranjería)
DESCRIPTION:
URL:https://encuentroysolidaridad.net/event/aclarando-dudas-con-rafael-paredes-abogado-experto-en-extranjeria/
LOCATION:Navarra. Casa Cultura y Encuentro\, Calle Sangüesa (frente Nº 33)\, Pamplona\, Navarra\, España
CATEGORIES:Actos en las Casas de Cultura y Encuentro
ATTACH;FMTTYPE=image/jpeg:https://encuentroysolidaridad.net/wp-content/uploads/2023/11/Tecnicas-de-Estudio.jpg
END:VEVENT
END:VCALENDAR