BEGIN:VCALENDAR
VERSION:2.0
PRODID:-//Encuentro y solidaridad - ECPv6.15.11//NONSGML v1.0//EN
CALSCALE:GREGORIAN
METHOD:PUBLISH
X-WR-CALNAME:Encuentro y solidaridad
X-ORIGINAL-URL:https://encuentroysolidaridad.net
X-WR-CALDESC:Eventos para Encuentro y solidaridad
REFRESH-INTERVAL;VALUE=DURATION:PT1H
X-Robots-Tag:noindex
X-PUBLISHED-TTL:PT1H
BEGIN:VTIMEZONE
TZID:Europe/Madrid
BEGIN:DAYLIGHT
TZOFFSETFROM:+0100
TZOFFSETTO:+0200
TZNAME:CEST
DTSTART:20230326T010000
END:DAYLIGHT
BEGIN:STANDARD
TZOFFSETFROM:+0200
TZOFFSETTO:+0100
TZNAME:CET
DTSTART:20231029T010000
END:STANDARD
BEGIN:DAYLIGHT
TZOFFSETFROM:+0100
TZOFFSETTO:+0200
TZNAME:CEST
DTSTART:20240331T010000
END:DAYLIGHT
BEGIN:STANDARD
TZOFFSETFROM:+0200
TZOFFSETTO:+0100
TZNAME:CET
DTSTART:20241027T010000
END:STANDARD
BEGIN:DAYLIGHT
TZOFFSETFROM:+0100
TZOFFSETTO:+0200
TZNAME:CEST
DTSTART:20250330T010000
END:DAYLIGHT
BEGIN:STANDARD
TZOFFSETFROM:+0200
TZOFFSETTO:+0100
TZNAME:CET
DTSTART:20251026T010000
END:STANDARD
END:VTIMEZONE
BEGIN:VEVENT
DTSTART;TZID=Europe/Madrid:20240107T183000
DTEND;TZID=Europe/Madrid:20240107T210000
DTSTAMP:20260425T174915
CREATED:20231219T103038Z
LAST-MODIFIED:20231219T103039Z
UID:12743-1704652200-1704661200@encuentroysolidaridad.net
SUMMARY:Cine en Valladolid
DESCRIPTION:En los encuentros con los otros florece la vida.Te esperamos para desentrañar juntos qué nos ofrece esta historia.
URL:https://encuentroysolidaridad.net/event/cine-en-valladolid-2/
LOCATION:Valladolid
CATEGORIES:Actos en las Casas de Cultura y Encuentro
ATTACH;FMTTYPE=image/jpeg:https://encuentroysolidaridad.net/wp-content/uploads/2023/12/Maktub.jpg
END:VEVENT
END:VCALENDAR