BEGIN:VCALENDAR
VERSION:2.0
PRODID:-//Encuentro y solidaridad - ECPv6.15.11//NONSGML v1.0//EN
CALSCALE:GREGORIAN
METHOD:PUBLISH
X-ORIGINAL-URL:https://encuentroysolidaridad.net
X-WR-CALDESC:Eventos para Encuentro y solidaridad
REFRESH-INTERVAL;VALUE=DURATION:PT1H
X-Robots-Tag:noindex
X-PUBLISHED-TTL:PT1H
BEGIN:VTIMEZONE
TZID:Europe/Madrid
BEGIN:DAYLIGHT
TZOFFSETFROM:+0100
TZOFFSETTO:+0200
TZNAME:CEST
DTSTART:20190331T010000
END:DAYLIGHT
BEGIN:STANDARD
TZOFFSETFROM:+0200
TZOFFSETTO:+0100
TZNAME:CET
DTSTART:20191027T010000
END:STANDARD
BEGIN:DAYLIGHT
TZOFFSETFROM:+0100
TZOFFSETTO:+0200
TZNAME:CEST
DTSTART:20200329T010000
END:DAYLIGHT
BEGIN:STANDARD
TZOFFSETFROM:+0200
TZOFFSETTO:+0100
TZNAME:CET
DTSTART:20201025T010000
END:STANDARD
BEGIN:DAYLIGHT
TZOFFSETFROM:+0100
TZOFFSETTO:+0200
TZNAME:CEST
DTSTART:20210328T010000
END:DAYLIGHT
BEGIN:STANDARD
TZOFFSETFROM:+0200
TZOFFSETTO:+0100
TZNAME:CET
DTSTART:20211031T010000
END:STANDARD
END:VTIMEZONE
BEGIN:VEVENT
DTSTART;TZID=Europe/Madrid:20200606T180000
DTEND;TZID=Europe/Madrid:20200606T193000
DTSTAMP:20260424T045941
CREATED:20200529T144848Z
LAST-MODIFIED:20200530T090820Z
UID:5135-1591466400-1591471800@encuentroysolidaridad.net
SUMMARY:El Papa Francisco y los migrantes y refugiados
DESCRIPTION:Cuando la sección de Migrantes y Refugiados creada por el Papa Francisco publicó su informe de 20 puntos de acción sobre el asunto migratorio para la Iglesia llevaba aparejado otros 20 puntos de propuesta para las instituciones civiles y políticas. \nComo hombres y mujeres que ansiamos una sociedad justa y solidaria no podemos desentendernos de este drama central hoy que es la migración forzada\, a la que millones de personas y familias se ven obligadas\, pasando por la triple explotación que supone la miseria generada en sus países\, la explotación en el tránsito y la explotación en los países que les reciben y donde dejan los beneficios de su trabajo mientras sus países los pierden y se empobrecen. \nVamos a reflexionar juntos para buscar respuestas de justicia. \n#DerechoANoTenerQueMigrar \nUtilizaremos la plataforma Jitsi. Puedes inscribirte para poder estar en el directo o verlo a través de nuestro canal de YouTube \nError: Formulario de contacto no encontrado.
URL:https://encuentroysolidaridad.net/event/el-papa-francisco-y-los-migrantes-y-refugiados/
LOCATION:Navarra
CATEGORIES:Tertulias Emaús
ATTACH;FMTTYPE=image/jpeg:https://encuentroysolidaridad.net/wp-content/uploads/2020/05/Tertulias-TW-1.jpg
END:VEVENT
BEGIN:VEVENT
DTSTART;TZID=Europe/Madrid:20200613T180000
DTEND;TZID=Europe/Madrid:20200613T193000
DTSTAMP:20260424T045941
CREATED:20200513T085321Z
LAST-MODIFIED:20200519T202527Z
UID:5044-1592071200-1592076600@encuentroysolidaridad.net
SUMMARY:Educación para el encuentro
DESCRIPTION:En medio de la configuración de una nueva ley de educación para nuestro país y conscientes de que estamos en una encrucijada histórica es preciso compartir las experiencias\, perspectivas e intuiciones de jóvenes\, padres\, maestros\, estudiosos del tema… para acertar en el análisis y contagiarnos mutuamente de entusiasmo ante la tarea. \nBuscamos una mirada mundial de la educación\, ¿Cómo evitar que el árbol nos impida ver el bosque? ¿Cómo ganar perspectiva para un mundo en cambio permanente donde los expulsados de la educación se cuentan por millones? \nVamos a reflexionar sobre los grandes retos y oportunidades de educación. Cómo convertir los riesgos e inconvenientes en posibilidades de maduración y aprendizaje compartido. Profundizar y aportar al pacto educativo global convocado por el papa Francisco para octubre en Roma\, fomentando un tejido de relaciones basadas en la responsabilidad común\, porque sigue siendo cierto que para educar a una persona hace falta toda una aldea. \nUtilizaremos la plataforma Jitsi. Puedes inscribirte para poder estar en el directo o verlo a través de nuestro canal de YouTube \nError: Formulario de contacto no encontrado.
URL:https://encuentroysolidaridad.net/event/educacion-para-el-encuentro/
LOCATION:Navarra
CATEGORIES:Tertulias Emaús
ATTACH;FMTTYPE=image/jpeg:https://encuentroysolidaridad.net/wp-content/uploads/2020/05/2020-06-13_Educacion.jpg
END:VEVENT
END:VCALENDAR