BEGIN:VCALENDAR
VERSION:2.0
PRODID:-//Encuentro y solidaridad - ECPv6.15.11//NONSGML v1.0//EN
CALSCALE:GREGORIAN
METHOD:PUBLISH
X-WR-CALNAME:Encuentro y solidaridad
X-ORIGINAL-URL:https://encuentroysolidaridad.net
X-WR-CALDESC:Eventos para Encuentro y solidaridad
REFRESH-INTERVAL;VALUE=DURATION:PT1H
X-Robots-Tag:noindex
X-PUBLISHED-TTL:PT1H
BEGIN:VTIMEZONE
TZID:Europe/Paris
BEGIN:DAYLIGHT
TZOFFSETFROM:+0100
TZOFFSETTO:+0200
TZNAME:CEST
DTSTART:20170326T010000
END:DAYLIGHT
BEGIN:STANDARD
TZOFFSETFROM:+0200
TZOFFSETTO:+0100
TZNAME:CET
DTSTART:20171029T010000
END:STANDARD
BEGIN:DAYLIGHT
TZOFFSETFROM:+0100
TZOFFSETTO:+0200
TZNAME:CEST
DTSTART:20180325T010000
END:DAYLIGHT
BEGIN:STANDARD
TZOFFSETFROM:+0200
TZOFFSETTO:+0100
TZNAME:CET
DTSTART:20181028T010000
END:STANDARD
BEGIN:DAYLIGHT
TZOFFSETFROM:+0100
TZOFFSETTO:+0200
TZNAME:CEST
DTSTART:20190331T010000
END:DAYLIGHT
BEGIN:STANDARD
TZOFFSETFROM:+0200
TZOFFSETTO:+0100
TZNAME:CET
DTSTART:20191027T010000
END:STANDARD
END:VTIMEZONE
BEGIN:VEVENT
DTSTART;TZID=Europe/Paris:20180511T190000
DTEND;TZID=Europe/Paris:20180511T213000
DTSTAMP:20260423T111711
CREATED:20180507T064725Z
LAST-MODIFIED:20210519T183240Z
UID:881-1526065200-1526074200@encuentroysolidaridad.net
SUMMARY:Madrid: Migrantes\, fronteras y solidaridad
DESCRIPTION:Diálogo entre amigos con Danyck Jessy Kayina y Ernesto G. Maleno\, organizado por la Asociación Juvenil SAL!
URL:https://encuentroysolidaridad.net/event/madrid-migrantes-fronteras-y-solidaridad/
LOCATION:Madrid. Casa Cultura y Encuentro\, C/ Polvoranca\, 19 bis\, Madrid\, Madrid\, 28044\, España
CATEGORIES:Actos de Encuentro y Solidaridad
ATTACH;FMTTYPE=image/jpeg:https://encuentroysolidaridad.net/wp-content/uploads/2018/05/Migrantes.jpg
END:VEVENT
BEGIN:VEVENT
DTSTART;TZID=Europe/Paris:20180518T163000
DTEND;TZID=Europe/Paris:20180518T183000
DTSTAMP:20260423T111711
CREATED:20180515T133037Z
LAST-MODIFIED:20210519T183240Z
UID:1010-1526661000-1526668200@encuentroysolidaridad.net
SUMMARY:Oviedo: cine entre amigos
DESCRIPTION:Este viernes volvemos a tener «Cine entre amigos».\nUn episodio de las aventuras de Tom y Jerry y dos cortos muy interesantes. «El juego de Gery» una bonita forma de superar la soledad y «Lou» una lección para un abusón. \nComo siempre los niños pueden traer chuches para compartir y después jugaremos y habrá alguna manualidad.
URL:https://encuentroysolidaridad.net/event/oviedo-cine-entre-amigos-2/
LOCATION:Oviedo. Casa Cultura y Encuentro\, C/ Ciudades Unidas\, Oviedo\, 33011\, España
CATEGORIES:Actos de Encuentro y Solidaridad
ATTACH;FMTTYPE=image/jpeg:https://encuentroysolidaridad.net/wp-content/uploads/2018/05/TomYJerry.jpg
END:VEVENT
BEGIN:VEVENT
DTSTART;TZID=Europe/Paris:20180519T110000
DTEND;TZID=Europe/Paris:20180519T130000
DTSTAMP:20260423T111711
CREATED:20180417T144246Z
LAST-MODIFIED:20210519T183240Z
UID:348-1526727600-1526734800@encuentroysolidaridad.net
SUMMARY:Madrid: Ciclo Repensando la Familia
DESCRIPTION:
URL:https://encuentroysolidaridad.net/event/madrid-ciclo-repensando-la-familia-encuentro-sabado-19-de-mayo-de-11-a-13-horas/
LOCATION:Madrid. Casa Cultura y Encuentro\, C/ Polvoranca\, 19 bis\, Madrid\, Madrid\, 28044\, España
CATEGORIES:Actos de Encuentro y Solidaridad
ATTACH;FMTTYPE=image/jpeg:https://encuentroysolidaridad.net/wp-content/uploads/2018/04/Familia.jpg
END:VEVENT
BEGIN:VEVENT
DTSTART;TZID=Europe/Paris:20180521T193000
DTEND;TZID=Europe/Paris:20180521T200000
DTSTAMP:20260423T111711
CREATED:20180517T062514Z
LAST-MODIFIED:20210519T183240Z
UID:1027-1526931000-1526932800@encuentroysolidaridad.net
SUMMARY:Madrid: Oración con la Cruz de Lampedusa
DESCRIPTION:Hecha con los restos de las barcazas que naufragaron en la costa italiana en octubre de 2013 y que dejaron 366 migrantes fallecidos\, la Cruz de Lampedusa está recorriendo el mundo por expreso deseo del papa Francisco\, que quiere hacer visible de este modo el drama de la inmigración irregular. \n \n 
URL:https://encuentroysolidaridad.net/event/madrid-oracion-con-la-cruz-de-lampedusa/
LOCATION:Madrid. Casa Cultura y Encuentro\, C/ Polvoranca\, 19 bis\, Madrid\, Madrid\, 28044\, España
CATEGORIES:Actos de Encuentro y Solidaridad
ATTACH;FMTTYPE=image/jpeg:https://encuentroysolidaridad.net/wp-content/uploads/2018/05/CruzCristoDesamparado.jpg
END:VEVENT
BEGIN:VEVENT
DTSTART;TZID=Europe/Paris:20180524T200000
DTEND;TZID=Europe/Paris:20180524T213000
DTSTAMP:20260423T111711
CREATED:20180522T084038Z
LAST-MODIFIED:20210519T183240Z
UID:1046-1527192000-1527197400@encuentroysolidaridad.net
SUMMARY:Madrid: La realidad de los niños esclavos
DESCRIPTION:Recibimos a Ehsan Ullah Khan en Madrid. Este militante pakistaní lucha contra la Esclavitud Infantil desde hace 50 años. Tras sufrir prision en repetidas ocasiones e incluso torturas y violencia ahora vive en el exilio\, dejando atrás familia y todo tipo de proyectos. \n \nNos hablará de esclavitud\, de vidas e historias sometidas a las grandes multinacionales\, de como la guerra y la esclavitud caminan de la mano\, de como nuestro consumo dañan a los niños esclavos y a la Casa Común. Con su lucha ha rescatado miles y miles de niños en Pakistan\, la mayoría cristianos que son los más pobres de allí. Su lucha hoy prosigue con la denuncia del sistema esclavista que impone la economía que mata y con la creación de escuelas clandestinas allá. Colaboró en la liberación de Iqbal Masih\, el niño de 12 años que posteriormente cerraría varias empresas esclavistas de la tapicería y que fue asesinado por ello. Un musulmán al que vale la pena escuchar. \nEn el salón se Alfa y Omega el jueves a las 8 de la tarde
URL:https://encuentroysolidaridad.net/event/la-realidad-de-los-ninos-esclavos/
LOCATION:Salón Alfa y Omega\, C/ de la Pasa\, 3\, Madrid\, España
CATEGORIES:Actos de Encuentro y Solidaridad
ATTACH;FMTTYPE=image/jpeg:https://encuentroysolidaridad.net/wp-content/uploads/2018/05/Ehsan.jpeg
END:VEVENT
BEGIN:VEVENT
DTSTART;TZID=Europe/Paris:20180525T200000
DTEND;TZID=Europe/Paris:20180525T213000
DTSTAMP:20260423T111711
CREATED:20180504T082912Z
LAST-MODIFIED:20210519T183240Z
UID:867-1527278400-1527283800@encuentroysolidaridad.net
SUMMARY:Canarias: "Alégrense y regocíjense"
DESCRIPTION:Sobre la nueva exhortación de Francisco nos hablará Eugenio A. Rodríguez. También tendremos unos cuentacuentos de noviolencia a cargo de Yolanda Ortega
URL:https://encuentroysolidaridad.net/event/canarias-alegrense-y-regocijense/
LOCATION:Canarias. Casa Cultura y Encuentro\, C/ Matías Padrón\, 26\, Las Palmas de Gran Canaria\, Las Palmas\, España
CATEGORIES:Actos de Encuentro y Solidaridad
ATTACH;FMTTYPE=image/jpeg:https://encuentroysolidaridad.net/wp-content/uploads/2018/05/Gaudete-et-Exsultate.jpg
END:VEVENT
BEGIN:VEVENT
DTSTART;TZID=Europe/Paris:20180526T103000
DTEND;TZID=Europe/Paris:20180526T140000
DTSTAMP:20260423T111711
CREATED:20180515T133554Z
LAST-MODIFIED:20210519T183240Z
UID:1017-1527330600-1527343200@encuentroysolidaridad.net
SUMMARY:Vitoria: La realidad de la esclavitud infantil
DESCRIPTION:Charla de Ehsan Ullah Kahn sobre la realidad de la esclavitud infantil.Luchador por los derechos civiles y liberador de miles de niñoes esclavos. En el Aula Juan XXIII\, Planza Desamparados\, 1 a las 10:30 h. \nConcentración contra la esclavitud infantil alrededor la estatua de Iqbal Masih\, en la Plaza de Correos
URL:https://encuentroysolidaridad.net/event/vitoria-la-realidad-de-la-esclavitud-infantil/
CATEGORIES:Actos de Encuentro y Solidaridad
ATTACH;FMTTYPE=image/jpeg:https://encuentroysolidaridad.net/wp-content/uploads/2018/05/EsclavitudInfantilCongo.jpg
END:VEVENT
BEGIN:VEVENT
DTSTART;TZID=Europe/Paris:20180601T163000
DTEND;TZID=Europe/Paris:20180601T183000
DTSTAMP:20260423T111711
CREATED:20180529T064507Z
LAST-MODIFIED:20210519T183240Z
UID:1101-1527870600-1527877800@encuentroysolidaridad.net
SUMMARY:Oviedo: Cine entre amigos
DESCRIPTION:Tarde de cine y juegos en la Casa Encuentro y Solidaridad de Oviedo. Este viernes veremos «Norman del Norte»
URL:https://encuentroysolidaridad.net/event/oviedo-cine-entre-amigos-3/
LOCATION:Oviedo. Casa Cultura y Encuentro\, C/ Ciudades Unidas\, Oviedo\, 33011\, España
CATEGORIES:Actos de Encuentro y Solidaridad
ATTACH;FMTTYPE=image/jpeg:https://encuentroysolidaridad.net/wp-content/uploads/2018/05/Cine.jpg
END:VEVENT
BEGIN:VEVENT
DTSTART;TZID=Europe/Paris:20180602T120000
DTEND;TZID=Europe/Paris:20180602T180000
DTSTAMP:20260423T111711
CREATED:20180518T090159Z
LAST-MODIFIED:20210519T183239Z
UID:1038-1527940800-1527962400@encuentroysolidaridad.net
SUMMARY:Madrid: ITV familiar
DESCRIPTION:Algunas de las formas de manejar los defectos del otro requieren aprender a distinguir los conflictos solubles e irresolubles y las diferentes formas de abordar unos y otros\, establecer un sólido sistema de admiración en el matrimonio\, desarrollar un planteamiento amable en la relación y compartir un propósito común. ¿Cómo hacerlo? Ése es el objetivo de la ITV familiar: compartir y aprender juntos. Se trata de proporcionar un espacio y un tiempo para escucharse mutuamente\, contemplar juntos las dinámicas de la familia y trabajar para mejorarlas. Los participantes pueden preservar su intimidad durante toda la ITV y compartir aquellos aspectos que deseen.
URL:https://encuentroysolidaridad.net/event/madrid-itv-familiar/
LOCATION:Madrid. Casa Cultura y Encuentro\, C/ Polvoranca\, 19 bis\, Madrid\, Madrid\, 28044\, España
CATEGORIES:Actos de Encuentro y Solidaridad
ATTACH;FMTTYPE=image/jpeg:https://encuentroysolidaridad.net/wp-content/uploads/2018/05/FamiliaLupa.jpg
END:VEVENT
BEGIN:VEVENT
DTSTART;TZID=Europe/Paris:20180602T190000
DTEND;TZID=Europe/Paris:20180602T203000
DTSTAMP:20260423T111711
CREATED:20180526T081813Z
LAST-MODIFIED:20210519T183239Z
UID:1097-1527966000-1527971400@encuentroysolidaridad.net
SUMMARY:Murcia: claves para entender la nueva carta del Papa Francisco
DESCRIPTION:
URL:https://encuentroysolidaridad.net/event/murcia-claves-para-entender-la-nueva-carta-del-papa-francisco/
CATEGORIES:Actos de Encuentro y Solidaridad
ATTACH;FMTTYPE=image/jpeg:https://encuentroysolidaridad.net/wp-content/uploads/2018/05/Gaudete6.jpg
END:VEVENT
BEGIN:VEVENT
DTSTART;TZID=Europe/Paris:20180621T190000
DTEND;TZID=Europe/Paris:20180621T210000
DTSTAMP:20260423T111711
CREATED:20180618T062500Z
LAST-MODIFIED:20210519T183239Z
UID:1114-1529607600-1529614800@encuentroysolidaridad.net
SUMMARY:Madrid:  tertulia sobre la eutanasia
DESCRIPTION:A principios de mayo el Partido Socialista registró en el Congreso de los Diputados su Proposición de Ley para legalizar la eutanasia. \nCon este motivo\, la Casa de Encuentro y Solidaridad (c/ Joaquín Turina 20 – metro Carabanchel Alto) acogerá una tertulia con el tema Eutanasia. ¿Seducidos por la muerte?. \nProgramada para el jueves 21 de junio\, será moderada por Álvaro Gándara\, coordinador de la Unidad de Cuidados paliativos de la Fundación Jiménez Díaz\, a partir de las 19:00 horas.
URL:https://encuentroysolidaridad.net/event/madrid-tertulia-sobre-la-eutanasia/
LOCATION:Madrid. Casa Cultura y Encuentro\, C/ Polvoranca\, 19 bis\, Madrid\, Madrid\, 28044\, España
CATEGORIES:Actos de Encuentro y Solidaridad
ATTACH;FMTTYPE=image/jpeg:https://encuentroysolidaridad.net/wp-content/uploads/2018/06/Manos.jpg
END:VEVENT
BEGIN:VEVENT
DTSTART;TZID=Europe/Paris:20180714T080000
DTEND;TZID=Europe/Paris:20180813T170000
DTSTAMP:20260423T111711
CREATED:20180421T075934Z
LAST-MODIFIED:20210519T183239Z
UID:571-1531555200-1534179600@encuentroysolidaridad.net
SUMMARY:Encuentros para la solidaridad
DESCRIPTION:Quiere ser un espacio y un tiempo de encuentro con realidades solidarias de nuestro mundo. Queremos fortalecer los vínculos fundamentales de humanidad y sociabilidad que deje atrás las tenazas del individualismo\, la polarización y la manipulación. Reflexión\, oración\, estudio\, trabajo\, servicio\, utopía… para que nuestras vidas se pongan en juego en la promoción de la solidaridad.
URL:https://encuentroysolidaridad.net/event/encuentros-para-la-solidaridad/
LOCATION:Casa Emaús\, C/ Uceda\, 45\, Torremocha de Jarama\, Madrid\, 28189\, España
CATEGORIES:Actos de Encuentro y Solidaridad
ATTACH;FMTTYPE=image/jpeg:https://encuentroysolidaridad.net/wp-content/uploads/2018/04/Encuentros.jpg
END:VEVENT
BEGIN:VEVENT
DTSTART;TZID=Europe/Paris:20180714T100000
DTEND;TZID=Europe/Paris:20180716T150000
DTSTAMP:20260423T111711
CREATED:20180705T151843Z
LAST-MODIFIED:20210519T183239Z
UID:1131-1531562400-1531753200@encuentroysolidaridad.net
SUMMARY:Encuentro de jóvenes '18
DESCRIPTION:Preparando los campamentos… y también la vida
URL:https://encuentroysolidaridad.net/event/encuentro-de-jovenes-18/
LOCATION:Casa Emaús\, C/ Uceda\, 45\, Torremocha de Jarama\, Madrid\, 28189\, España
CATEGORIES:Actos de Encuentro y Solidaridad
ATTACH;FMTTYPE=image/jpeg:https://encuentroysolidaridad.net/wp-content/uploads/2018/07/SAL.jpg
END:VEVENT
BEGIN:VEVENT
DTSTART;TZID=Europe/Paris:20180717T170000
DTEND;TZID=Europe/Paris:20180729T170000
DTSTAMP:20260423T111711
CREATED:20180416T163548Z
LAST-MODIFIED:20210519T183239Z
UID:324-1531846800-1532883600@encuentroysolidaridad.net
SUMMARY:Campamentos
DESCRIPTION:
URL:https://encuentroysolidaridad.net/event/campamentos/
CATEGORIES:Actos de Encuentro y Solidaridad
ATTACH;FMTTYPE=image/jpeg:https://encuentroysolidaridad.net/wp-content/uploads/2018/04/Campamento.jpeg
END:VEVENT
BEGIN:VEVENT
DTSTART;TZID=Europe/Paris:20180726T200000
DTEND;TZID=Europe/Paris:20180726T213000
DTSTAMP:20260423T111711
CREATED:20180709T104743Z
LAST-MODIFIED:20210519T183223Z
UID:1136-1532635200-1532640600@encuentroysolidaridad.net
SUMMARY:Canarias: proyección documental
DESCRIPTION:El documental TIGERNUT\, LA PATRIA DE LAS MUJERES ÍNTEGRAS se ha presentado en más de 20 festivales internacionales y denuncia una presunta estafa a las mujeres agricultoras de chufa de Burkina Faso\, es una reflexión sobre la ausencia de comercio justo en el auge de la alimentación saludable. En estos momentos está recibiendo coacciones y amenazas que intentan silenciarlo.
URL:https://encuentroysolidaridad.net/event/canarias-proyeccion-documental/
LOCATION:Canarias. Casa Cultura y Encuentro\, C/ Matías Padrón\, 26\, Las Palmas de Gran Canaria\, Las Palmas\, España
CATEGORIES:Actos de Encuentro y Solidaridad
ATTACH;FMTTYPE=image/jpeg:https://encuentroysolidaridad.net/wp-content/uploads/2018/07/Tigernut.jpg
END:VEVENT
BEGIN:VEVENT
DTSTART;TZID=Europe/Paris:20180902T200000
DTEND;TZID=Europe/Paris:20180902T213000
DTSTAMP:20260423T111711
CREATED:20180902T081549Z
LAST-MODIFIED:20210519T183223Z
UID:1375-1535918400-1535923800@encuentroysolidaridad.net
SUMMARY:Canarias. Tertulia sobre Venezuela hoy
DESCRIPTION:
URL:https://encuentroysolidaridad.net/event/canarias-tertulia-sobre-venezuela-hoy/
LOCATION:Canarias. Casa Cultura y Encuentro\, C/ Matías Padrón\, 26\, Las Palmas de Gran Canaria\, Las Palmas\, España
CATEGORIES:Actos de Encuentro y Solidaridad
ATTACH;FMTTYPE=image/jpeg:https://encuentroysolidaridad.net/wp-content/uploads/2018/09/VNZ.jpg
END:VEVENT
BEGIN:VEVENT
DTSTART;TZID=Europe/Paris:20180915T180000
DTEND;TZID=Europe/Paris:20180915T200000
DTSTAMP:20260423T111711
CREATED:20180910T162208Z
LAST-MODIFIED:20210519T183223Z
UID:1401-1537034400-1537041600@encuentroysolidaridad.net
SUMMARY:Pamplona. Un espacio más para respirar solidaridad y encuentro
DESCRIPTION:Demasiadas veces nuestras ciudades son frías\, vamos demasiado deprisa\, respiramos estrés y desconfianza\, no conocemos a nuestros vecinos\, menos aún a los que vienen de lejos… Dedicamos demasiado tiempo a intentar resolver nuestros propios problemas\, sin ser conscientes de que tenemos problemas muy parecidos. \nNuestras ciudades necesitan espacios de encuentro\, de diálogo\, donde poder reconocernos\, donde más allá de mirarnos al propio ombligo podamos experimentar la alegría de compartir\, servir\, crecer\, formarse\, transformar… \n\nUn espacio así quiere ser la CASA DE CULTURA Y ENCUENTRO de la asociación Encuentro y Solidaridad. Un espacio abierto y comprometido\, que se mantenga no con subvenciones de políticos interesados\,   sino con el trabajo gratuito de gente que sabe que servir a los demás merece la pena. \nUn espacio que responda a las necesidades del barrio donde está ubicado (La Milagrosa)\, y a las ganas de más solidaridad y autenticidad de tanta gente. Un espacio que ya ofrece formación para niños\, jóvenes y adultos y que sigue «en construcción»\, pues necesita siempre de más colaboraciones y de nuevas aportaciones para dar una mejor respuesta. \nUn espacio que te invitamos a descubrir\, muy especialmente en la apertura de curso que vamos a realizar el próximo SÁBADO 15 DE SEPTIEMBRE a partir de las 18:00 horas: \n\nCon bailes y música del mundo\nCon la presentación de las actividades del nuevo curso (ludoteca en inglés\, apoyo escolar\, espacio joven\, educación parental\, formación de adultos…)\nCon comida típica de Ecuador\, Bolivia\, Méjico\, Venezuela\, República Dominicana…\nY lo más importante: con un «espíritu» de encuentro\, gratuidad\, solidaridad\, que queremos que lo impregne todo.\n\nAcércate el próximo sábado 15 a la Casa de Cultura y Encuentro\, en la Calle Sangüesa\, frente al número 33\, en el barrio de La Milagrosa. \nY si crees que tienes algo que aportar o puedes colaborar… \nGenial!!! Ponte en contacto por teléfono o whatsapp cuanto antes! (652465919-629886659)
URL:https://encuentroysolidaridad.net/event/pamplona-un-espacio-mas-para-respirar-solidaridad-y-encuentro/
LOCATION:Navarra. Casa Cultura y Encuentro\, Calle Sangüesa (frente Nº 33)\, Pamplona\, Navarra\, España
CATEGORIES:Actos de Encuentro y Solidaridad
ATTACH;FMTTYPE=image/jpeg:https://encuentroysolidaridad.net/wp-content/uploads/2018/08/2018-02-12_ES_Pamplona-01.jpg
END:VEVENT
BEGIN:VEVENT
DTSTART;TZID=Europe/Paris:20180924T193000
DTEND;TZID=Europe/Paris:20180924T210000
DTSTAMP:20260423T111711
CREATED:20180913T141312Z
LAST-MODIFIED:20210519T183223Z
UID:1405-1537817400-1537822800@encuentroysolidaridad.net
SUMMARY:Pamplona: Del odio al perdón. Una oportunidad para la paz en Colombia
DESCRIPTION:«PARA PERDONAR SE REQUIERE MÁS VALORAR QUE PARA ODIAR» \nJeny Casteñeda \nJeny Castañeda es colombiana\, hija de una líder social asesinada por los paramilitares\, y pudo perdonar al asesino de su madre. 17 años después de un terrible crimen\, el hijo del asesino arrepentido y la hija de la víctima\, están lanzando una asociación para sembrar perdón y reconciliación en Colombia. \nEl próximo lunes 24 de septiembre\, Jeny Castañeda contará en Pamplona su historia y su proceso de conversión. Hablará de su dolor y su rabia\, de sus ganas de venganza y del hermoso proceso que la llevó del rencor al perdón. \nEl suyo es un testimonio impresionante\, que necesitamos escuchar\, un testimonio necesario\, porque estamos más «envenenados» de pequeños y grandes odios y rencores de lo que nos creemos… Un testimonio que no pretende generar «admiración»\, sino una corriente de hombres y mujeres que quieran avanzar en el camino del encuentro\, la reconciliación\, la no violencia\, el perdón\, el amor… \n \n¿Dónde? \nEn la Casa de Cultura y Encuentro. Calle Sangüesa\, frente al número 33. Pamplona. \n¿Cuándo? \nLunes 24 de septiembre a las 19:30 horas \n¿Y quién lo organiza? \nLa asociación Encuentro y Solidaridad
URL:https://encuentroysolidaridad.net/event/pamplona-del-odio-al-perdon-una-oportunidad-para-la-paz-en-colombia/
LOCATION:Navarra. Casa Cultura y Encuentro\, Calle Sangüesa (frente Nº 33)\, Pamplona\, Navarra\, España
CATEGORIES:Actos de Encuentro y Solidaridad
ATTACH;FMTTYPE=image/jpeg:https://encuentroysolidaridad.net/wp-content/uploads/2018/09/UstedMatoMiMadre1.jpg
END:VEVENT
BEGIN:VEVENT
DTSTART;TZID=Europe/Paris:20180925T190000
DTEND;TZID=Europe/Paris:20180926T213000
DTSTAMP:20260423T111711
CREATED:20180907T182545Z
LAST-MODIFIED:20210519T183223Z
UID:1387-1537902000-1537997400@encuentroysolidaridad.net
SUMMARY:Burgos. XXII Jornadas de militancia cristiana D. Felipe López
DESCRIPTION:Hoy\, tras casi 30 años de su muerte\, sus profundas enseñanzas siguen vivas entre nosotros. Fue norma en su vida poner sus grandes dotes intelectuales al servicio de todos los hombres y\, de forma especial\, de los futuros sacerdotes y de los pobres.
URL:https://encuentroysolidaridad.net/event/burgos-xxii-jornadas-de-militancia-cristiana-d-felipe-lopez/
LOCATION:Burgos. Facultad de Teología\, Calle Eduardo Martínez del Campo\, 10\, Burgos\, Burgos\, 09003\, España
CATEGORIES:Actos de Encuentro y Solidaridad
ATTACH;FMTTYPE=image/jpeg:https://encuentroysolidaridad.net/wp-content/uploads/2018/09/Reconciliacion.jpg
END:VEVENT
BEGIN:VEVENT
DTSTART;TZID=Europe/Paris:20180926T110000
DTEND;TZID=Europe/Paris:20180927T133000
DTSTAMP:20260423T111711
CREATED:20180922T193814Z
LAST-MODIFIED:20210519T183223Z
UID:1420-1537959600-1538055000@encuentroysolidaridad.net
SUMMARY:Burgos. Del odio al perdón
DESCRIPTION:
URL:https://encuentroysolidaridad.net/event/burgos-del-odio-al-perdon/
CATEGORIES:Actos de Encuentro y Solidaridad
ATTACH;FMTTYPE=image/jpeg:https://encuentroysolidaridad.net/wp-content/uploads/2018/09/Jeny-1.jpg
END:VEVENT
BEGIN:VEVENT
DTSTART;TZID=Europe/Paris:20180928T160000
DTEND;TZID=Europe/Paris:20180928T183000
DTSTAMP:20260423T111711
CREATED:20180925T193141Z
LAST-MODIFIED:20210519T183223Z
UID:1436-1538150400-1538159400@encuentroysolidaridad.net
SUMMARY:Oviedo: Cine\, juegos y manualidades
DESCRIPTION:
URL:https://encuentroysolidaridad.net/event/oviedo-cine-juegos-y-manualidades/
LOCATION:Oviedo. Casa Cultura y Encuentro\, C/ Ciudades Unidas\, Oviedo\, 33011\, España
CATEGORIES:Actos de Encuentro y Solidaridad
ATTACH;FMTTYPE=image/jpeg:https://encuentroysolidaridad.net/wp-content/uploads/2018/09/Manualidades.jpg
END:VEVENT
BEGIN:VEVENT
DTSTART;TZID=Europe/Paris:20180928T200000
DTEND;TZID=Europe/Paris:20180928T213000
DTSTAMP:20260423T111711
CREATED:20180909T094234Z
LAST-MODIFIED:20210519T183223Z
UID:1395-1538164800-1538170200@encuentroysolidaridad.net
SUMMARY:Canarias. Del odio al perdón
DESCRIPTION:
URL:https://encuentroysolidaridad.net/event/canarias-del-odio-al-perdon/
LOCATION:Canarias. Casa Cultura y Encuentro\, C/ Matías Padrón\, 26\, Las Palmas de Gran Canaria\, Las Palmas\, España
CATEGORIES:Actos de Encuentro y Solidaridad
ATTACH;FMTTYPE=image/jpeg:https://encuentroysolidaridad.net/wp-content/uploads/2018/09/Jeny.jpg
END:VEVENT
BEGIN:VEVENT
DTSTART;TZID=Europe/Paris:20180929T103000
DTEND;TZID=Europe/Paris:20180929T150000
DTSTAMP:20260423T111711
CREATED:20180924T133750Z
LAST-MODIFIED:20210519T183223Z
UID:1430-1538217000-1538233200@encuentroysolidaridad.net
SUMMARY:Canarias (Teror): Del odio al perdón
DESCRIPTION:Una oportunidad para la paz en Colombia
URL:https://encuentroysolidaridad.net/event/canarias-teror-del-odio-al-perdon/
CATEGORIES:Actos de Encuentro y Solidaridad
ATTACH;FMTTYPE=image/jpeg:https://encuentroysolidaridad.net/wp-content/uploads/2018/09/JenyCastañeda.jpg
END:VEVENT
BEGIN:VEVENT
DTSTART;TZID=Europe/Paris:20181001T080000
DTEND;TZID=Europe/Paris:20181031T170000
DTSTAMP:20260423T111711
CREATED:20180920T184100Z
LAST-MODIFIED:20210519T183223Z
UID:1414-1538380800-1541005200@encuentroysolidaridad.net
SUMMARY:Navarra: actividades en la Casa Cultura y Encuentro
DESCRIPTION:Te invitamos a inscribirte en alguna de las actividades que organizamos: talleres\, cursos\, arte\, apoyo al estudio\,…\nPuedes acceder a la inscripción aquí \n \n 
URL:https://encuentroysolidaridad.net/event/navarra-actividades-en-la-casa-cultura-y-encuentro/
LOCATION:Navarra. Casa Cultura y Encuentro\, Calle Sangüesa (frente Nº 33)\, Pamplona\, Navarra\, España
CATEGORIES:Actos de Encuentro y Solidaridad
ATTACH;FMTTYPE=image/jpeg:https://encuentroysolidaridad.net/wp-content/uploads/2018/09/Actividades.jpg
END:VEVENT
BEGIN:VEVENT
DTSTART;TZID=Europe/Paris:20181004T190000
DTEND;TZID=Europe/Paris:20181025T200000
DTSTAMP:20260423T111711
CREATED:20180926T170411Z
LAST-MODIFIED:20210519T183223Z
UID:1451-1538679600-1540497600@encuentroysolidaridad.net
SUMMARY:Pamplona: Taller educación emocional para adultos
DESCRIPTION:
URL:https://encuentroysolidaridad.net/event/pamplona-taller-educacion-emocional-para-adultos/
LOCATION:Navarra. Casa Cultura y Encuentro\, Calle Sangüesa (frente Nº 33)\, Pamplona\, Navarra\, España
CATEGORIES:Actos de Encuentro y Solidaridad
ATTACH;FMTTYPE=image/jpeg:https://encuentroysolidaridad.net/wp-content/uploads/2018/09/Cerebro.jpg
END:VEVENT
BEGIN:VEVENT
DTSTART;TZID=Europe/Paris:20181006T110000
DTEND;TZID=Europe/Paris:20181027T130000
DTSTAMP:20260423T111711
CREATED:20180922T194848Z
LAST-MODIFIED:20210519T183223Z
UID:1424-1538823600-1540645200@encuentroysolidaridad.net
SUMMARY:Pamplona. Arte pétreo
DESCRIPTION:
URL:https://encuentroysolidaridad.net/event/pamplona-arte-petreo/
LOCATION:Navarra. Casa Cultura y Encuentro\, Calle Sangüesa (frente Nº 33)\, Pamplona\, Navarra\, España
CATEGORIES:Actos de Encuentro y Solidaridad
ATTACH;FMTTYPE=image/jpeg:https://encuentroysolidaridad.net/wp-content/uploads/2018/09/Piedras.jpg
END:VEVENT
BEGIN:VEVENT
DTSTART;TZID=Europe/Paris:20181022T173000
DTEND;TZID=Europe/Paris:20181022T193000
DTSTAMP:20260423T111711
CREATED:20181013T192624Z
LAST-MODIFIED:20210519T183223Z
UID:1479-1540229400-1540236600@encuentroysolidaridad.net
SUMMARY:Guadalajara. La realidad de la esclavitud infantil
DESCRIPTION:La charla tendrá lugar en el Campus de Guadalajara de la Universidad de Alcalá de Henares\, C/Madrid 1 \nPuedes inscribirte en este formulario
URL:https://encuentroysolidaridad.net/event/guadalajara-la-realidad-de-la-esclavitud-infantil/
CATEGORIES:Actos de Encuentro y Solidaridad
ATTACH;FMTTYPE=image/jpeg:https://encuentroysolidaridad.net/wp-content/uploads/2018/10/Ehsan.jpg
END:VEVENT
BEGIN:VEVENT
DTSTART;TZID=Europe/Paris:20181026T193000
DTEND;TZID=Europe/Paris:20181104T173000
DTSTAMP:20260423T111711
CREATED:20181003T095354Z
LAST-MODIFIED:20210519T183222Z
UID:1473-1540582200-1541352600@encuentroysolidaridad.net
SUMMARY:Valladolid. Cine sobre Pablo VI y Monseñor Romero
DESCRIPTION:
URL:https://encuentroysolidaridad.net/event/valladolid-cine-sobre-pablo-vi-y-monsenor-romero/
CATEGORIES:Actos de Encuentro y Solidaridad
ATTACH;FMTTYPE=image/jpeg:https://encuentroysolidaridad.net/wp-content/uploads/2018/10/Cine.jpg
END:VEVENT
BEGIN:VEVENT
DTSTART;TZID=Europe/Paris:20181029T200000
DTEND;TZID=Europe/Paris:20181029T213000
DTSTAMP:20260423T111711
CREATED:20181017T135446Z
LAST-MODIFIED:20210519T183222Z
UID:1483-1540843200-1540848600@encuentroysolidaridad.net
SUMMARY:Canarias. Homenaje a Julián Gómez del Castillo
DESCRIPTION:
URL:https://encuentroysolidaridad.net/event/canarias-homenaje-a-julian-gomez-del-castillo/
LOCATION:Canarias. Casa Cultura y Encuentro\, C/ Matías Padrón\, 26\, Las Palmas de Gran Canaria\, Las Palmas\, España
CATEGORIES:Actos de Encuentro y Solidaridad
ATTACH;FMTTYPE=image/jpeg:https://encuentroysolidaridad.net/wp-content/uploads/2018/10/julian1.jpg
END:VEVENT
BEGIN:VEVENT
DTSTART;TZID=Europe/Paris:20181105T080000
DTEND;TZID=Europe/Paris:20181118T170000
DTSTAMP:20260423T111711
CREATED:20181023T161823Z
LAST-MODIFIED:20210519T183222Z
UID:1516-1541404800-1542560400@encuentroysolidaridad.net
SUMMARY:Navarra. Ehsan Ullah Khan\, luchador contra la esclavitud
DESCRIPTION:
URL:https://encuentroysolidaridad.net/event/navarra-ehsan-ullah-khan-luchador-contra-la-esclavitud/
CATEGORIES:Actos de Encuentro y Solidaridad
ATTACH;FMTTYPE=image/jpeg:https://encuentroysolidaridad.net/wp-content/uploads/2018/10/2014-05-05-12.07.07.jpg
END:VEVENT
END:VCALENDAR