BEGIN:VCALENDAR
VERSION:2.0
PRODID:-//Encuentro y solidaridad - ECPv6.15.11//NONSGML v1.0//EN
CALSCALE:GREGORIAN
METHOD:PUBLISH
X-ORIGINAL-URL:https://encuentroysolidaridad.net
X-WR-CALDESC:Eventos para Encuentro y solidaridad
REFRESH-INTERVAL;VALUE=DURATION:PT1H
X-Robots-Tag:noindex
X-PUBLISHED-TTL:PT1H
BEGIN:VTIMEZONE
TZID:Europe/Paris
BEGIN:DAYLIGHT
TZOFFSETFROM:+0100
TZOFFSETTO:+0200
TZNAME:CEST
DTSTART:20170326T010000
END:DAYLIGHT
BEGIN:STANDARD
TZOFFSETFROM:+0200
TZOFFSETTO:+0100
TZNAME:CET
DTSTART:20171029T010000
END:STANDARD
BEGIN:DAYLIGHT
TZOFFSETFROM:+0100
TZOFFSETTO:+0200
TZNAME:CEST
DTSTART:20180325T010000
END:DAYLIGHT
BEGIN:STANDARD
TZOFFSETFROM:+0200
TZOFFSETTO:+0100
TZNAME:CET
DTSTART:20181028T010000
END:STANDARD
BEGIN:DAYLIGHT
TZOFFSETFROM:+0100
TZOFFSETTO:+0200
TZNAME:CEST
DTSTART:20190331T010000
END:DAYLIGHT
BEGIN:STANDARD
TZOFFSETFROM:+0200
TZOFFSETTO:+0100
TZNAME:CET
DTSTART:20191027T010000
END:STANDARD
BEGIN:DAYLIGHT
TZOFFSETFROM:+0100
TZOFFSETTO:+0200
TZNAME:CEST
DTSTART:20200329T010000
END:DAYLIGHT
BEGIN:STANDARD
TZOFFSETFROM:+0200
TZOFFSETTO:+0100
TZNAME:CET
DTSTART:20201025T010000
END:STANDARD
END:VTIMEZONE
BEGIN:VEVENT
DTSTART;TZID=Europe/Paris:20181124T100000
DTEND;TZID=Europe/Paris:20181125T140000
DTSTAMP:20260423T005551
CREATED:20181031T132851Z
LAST-MODIFIED:20210519T183207Z
UID:1558-1543053600-1543154400@encuentroysolidaridad.net
SUMMARY:Curso “Hacia la revolución del amor”
DESCRIPTION:El 24 y 25 de noviembre tendrá lugar en la casa Emaús de Torremocha de Jarama un curso sobre Doctrina Social de la Iglesia\, organizado por Encuentro y Solidaridad. \nLa Doctrina Social de la Iglesia es más que una serie de textos y de teoría\, es un conjunto de experiencias que se han ido concretando en documentos emblemáticos. Los cristianos entre luces y sombras han construido realidades tan verdaderas como imperfectas.  Desde algunas de estas experiencias vamos a dialogar y proponer caminos de acción en el futuro. \nContaremos con José Antonio Osaba\, que nos hablara de la huelga de Bandas\, la huelga más larga realizada durante el franquismo\, en la que cristianos tuvieron un importante papel. \nAsí mismo intervendrá Antonio Martín Puerta de la Acción Católica de Propagandistas\, hablando de la experiencia de cristianos en política y conoceremos una realidad de cooperativismo en Valencia\, Caixa Popular y la red de tiendas Consum. \nDe tantos problemas que tenemos a nuestro alrededor vamos a detenernos en la vivienda\, donde tampoco han faltado aportaciones de cristianos. De eso nos hablarán Rafael Astorga\, Raquel Martínez y Rodrigo del Pozo. \nUnos y otros cometieron errores y aciertos pero tienen el valor de lo real\, no podemos decir que no haya habido doctrina social de la Iglesia. Antes que una doctrina ha sido una realidad. \n\nHORARIO DEL CURSO\nSábado \n10:00 Presentación \n10:15 José Antonio Osaba\, La Huelga de Bandas\, la huelga más larga del franquismo \n11:00 Diálogo \n11:45 Descanso \n12:15 Antonio Martín Puerta\, Experiencia de los cristianos en la política: La ACdP \n13:15 Diálogo \n  \n16:30 Alicia Soler Belenguer\, Francesc Llobel Mas\, Caixa Popular y Consum\, experiencias de inspiración Cristiana I \n17:15 Descanso (recortable a 20 minutos) \n17:45 Alicia Soler Belenguer\, Francesc Llobel Mas\, Caixa Popular y Consum\, experiencias de inspiración Cristiana II \n18:30 Diálogo \n19:15 Descanso \n19:30 – 20:15 Rafael Astorga\, Raquel Martínez\, Fundamentos de la Doctrina Social de la Iglesia y experiencias en vivienda. \n  \nDomingo \n10:00 – 11:00 Rodrigo del Pozo\, Propuestas sobre la vivienda y retos para la Doctrina Social de la Iglesia. \n11:00 – 11:30 Descanso \n11:30 – 12:15 Trabajo de grupos \n12:15 – 13:00 Puesta en común \n13:00 Revisión
URL:https://encuentroysolidaridad.net/event/curso-hacia-la-revolucion-del-amor/
LOCATION:Casa Emaús\, C/ Uceda\, 45\, Torremocha de Jarama\, Madrid\, 28189\, España
CATEGORIES:Actos de Encuentro y Solidaridad
ATTACH;FMTTYPE=image/png:https://encuentroysolidaridad.net/wp-content/uploads/2018/10/DSI.png
END:VEVENT
BEGIN:VEVENT
DTSTART;TZID=Europe/Paris:20181126T200000
DTEND;TZID=Europe/Paris:20181130T163000
DTSTAMP:20260423T005551
CREATED:20181113T090852Z
LAST-MODIFIED:20210519T183207Z
UID:1614-1543262400-1543595400@encuentroysolidaridad.net
SUMMARY:Asturias. Lucha contra la esclavitud infantil (Ehsan Ullah Khan)
DESCRIPTION:
URL:https://encuentroysolidaridad.net/event/asturias-lucha-contra-la-esclavitud-infantil-ehsan-ullah-khan/
CATEGORIES:Actos de Encuentro y Solidaridad
ATTACH;FMTTYPE=image/jpeg:https://encuentroysolidaridad.net/wp-content/uploads/2018/11/Asturias2-1.jpg
END:VEVENT
BEGIN:VEVENT
DTSTART;TZID=Europe/Paris:20181129T190000
DTEND;TZID=Europe/Paris:20181129T203000
DTSTAMP:20260423T005551
CREATED:20181121T150221Z
LAST-MODIFIED:20210519T183207Z
UID:1748-1543518000-1543523400@encuentroysolidaridad.net
SUMMARY:Madrid. Salvar vidas en el Mediterráneo
DESCRIPTION:
URL:https://encuentroysolidaridad.net/event/madrid-salvar-vidas-en-el-mediterraneo/
LOCATION:Madrid. Casa Cultura y Encuentro\, C/ Polvoranca\, 19 bis\, Madrid\, Madrid\, 28044\, España
CATEGORIES:Actos de Encuentro y Solidaridad
ATTACH;FMTTYPE=image/jpeg:https://encuentroysolidaridad.net/wp-content/uploads/2018/11/Proem-Aid.jpg
END:VEVENT
BEGIN:VEVENT
DTSTART;TZID=Europe/Paris:20181130T200000
DTEND;TZID=Europe/Paris:20181130T213000
DTSTAMP:20260423T005551
CREATED:20181119T213157Z
LAST-MODIFIED:20210519T183207Z
UID:1739-1543608000-1543613400@encuentroysolidaridad.net
SUMMARY:Zaragoza. Humanae Vitae
DESCRIPTION:Este año se cumplen 50 años de la publicación de la encíclica del recientemente Papa canonizado\, Pablo VI. Una carta breve\, pero directa y que no pasó indiferente.Para unos un frenazo de la Iglesia a la apertura que ofrecía el Concilio Vaticano II. Para otros palabras proféticas\, necesarias y premonitorias en un mundo que parecía comenzar a perder referentes sólidos y universales. \nA los 50 años ya tenemos cierta perspectiva para releer ese texto serenamente y dialogar sobre sus aciertos y limitaciones.
URL:https://encuentroysolidaridad.net/event/zarazoga-humanae-vitae/
LOCATION:Librería Ars\, C/ Coso\, 120\, Zaragoza
CATEGORIES:Actos de Encuentro y Solidaridad
ATTACH;FMTTYPE=image/jpeg:https://encuentroysolidaridad.net/wp-content/uploads/2018/11/Pablo-VI.jpg
END:VEVENT
BEGIN:VEVENT
DTSTART;TZID=Europe/Paris:20181201T113000
DTEND;TZID=Europe/Paris:20181201T133000
DTSTAMP:20260423T005551
CREATED:20181126T103626Z
LAST-MODIFIED:20210519T183207Z
UID:1838-1543663800-1543671000@encuentroysolidaridad.net
SUMMARY:Madrid. Taller de primeros auxilios para familias
DESCRIPTION:
URL:https://encuentroysolidaridad.net/event/madrid-taller-de-primeros-auxilios-para-familias/
LOCATION:Madrid. Casa Cultura y Encuentro\, C/ Polvoranca\, 19 bis\, Madrid\, Madrid\, 28044\, España
CATEGORIES:Actos de Encuentro y Solidaridad
ATTACH;FMTTYPE=image/jpeg:https://encuentroysolidaridad.net/wp-content/uploads/2018/11/hospital-con-playmobil1.jpg
END:VEVENT
BEGIN:VEVENT
DTSTART;TZID=Europe/Paris:20181201T190000
DTEND;TZID=Europe/Paris:20181201T210000
DTSTAMP:20260423T005551
CREATED:20181126T103443Z
LAST-MODIFIED:20210519T183207Z
UID:1834-1543690800-1543698000@encuentroysolidaridad.net
SUMMARY:Madrid. Festival de música para jóvenes
DESCRIPTION:
URL:https://encuentroysolidaridad.net/event/madrid-festival-de-musica-para-jovenes/
LOCATION:Madrid. Casa Cultura y Encuentro\, C/ Polvoranca\, 19 bis\, Madrid\, Madrid\, 28044\, España
CATEGORIES:Actos de Encuentro y Solidaridad
ATTACH;FMTTYPE=image/jpeg:https://encuentroysolidaridad.net/wp-content/uploads/2018/11/Musica.jpg
END:VEVENT
BEGIN:VEVENT
DTSTART;TZID=Europe/Paris:20181208T100000
DTEND;TZID=Europe/Paris:20181209T143000
DTSTAMP:20260423T005551
CREATED:20181129T211747Z
LAST-MODIFIED:20210519T183207Z
UID:1901-1544263200-1544365800@encuentroysolidaridad.net
SUMMARY:Casa Emaús. Jornadas de espiritualidad
DESCRIPTION:Un espacio de Encuentro con Dios y los hermanos\nEs imprescindible asistir a la jornada «básica» del sábado de 10 a 21’30. \nMatrícula y estancia mínima 15 € \nJornada completa 30 € \nInformación e inscripciones \n[su_button url=»https://encuentroysolidaridad.net/contacta/» target=»blank» background=»007736″ color=»007736″ center=»yes» icon_color=»007736″ text_shadow=»0px 0px 0px #000000″]Más información[/su_button] \n  \n 
URL:https://encuentroysolidaridad.net/event/casa-emaus-jornadas-de-espiritualidad/
LOCATION:Casa Emaús\, C/ Uceda\, 45\, Torremocha de Jarama\, Madrid\, 28189\, España
CATEGORIES:Actos de Encuentro y Solidaridad
ATTACH;FMTTYPE=image/jpeg:https://encuentroysolidaridad.net/wp-content/uploads/2018/11/Foucauld.jpg
END:VEVENT
BEGIN:VEVENT
DTSTART;TZID=Europe/Paris:20181213T194500
DTEND;TZID=Europe/Paris:20181213T213000
DTSTAMP:20260423T005551
CREATED:20181202T153611Z
LAST-MODIFIED:20210519T183207Z
UID:1939-1544730300-1544736600@encuentroysolidaridad.net
SUMMARY:Santiago de Compostela. Cartografía de la desobediencia
DESCRIPTION:
URL:https://encuentroysolidaridad.net/event/santiago-de-compostela-cartografia-de-la-desobediencia/
CATEGORIES:Actos de Encuentro y Solidaridad
ATTACH;FMTTYPE=image/jpeg:https://encuentroysolidaridad.net/wp-content/uploads/2018/12/Cartografia.jpg
END:VEVENT
BEGIN:VEVENT
DTSTART;VALUE=DATE:20181214
DTEND;VALUE=DATE:20181216
DTSTAMP:20260423T005551
CREATED:20181204T181730Z
LAST-MODIFIED:20210519T183207Z
UID:1959-1544745600-1544918399@encuentroysolidaridad.net
SUMMARY:Asturias: Taller de acción noviolenta contra la explotación en la industria textil
DESCRIPTION:
URL:https://encuentroysolidaridad.net/event/asturias-taller-de-accion-noviolenta-contra-la-explotacion-en-la-industria-textil/
LOCATION:Oviedo. Casa Cultura y Encuentro\, C/ Ciudades Unidas\, Oviedo\, 33011\, España
CATEGORIES:Actos de Encuentro y Solidaridad
ATTACH;FMTTYPE=image/jpeg:https://encuentroysolidaridad.net/wp-content/uploads/2018/12/Ropa.jpg
END:VEVENT
BEGIN:VEVENT
DTSTART;TZID=Europe/Paris:20181215T100000
DTEND;TZID=Europe/Paris:20181215T140000
DTSTAMP:20260423T005551
CREATED:20181129T105425Z
LAST-MODIFIED:20210519T183207Z
UID:1892-1544868000-1544882400@encuentroysolidaridad.net
SUMMARY:Santander. Mesa redonda y taller para familias\, adultos y niños
DESCRIPTION:Comenzaremos la mañana hablando de cómo es posible vivir la alegría en la enfermedad y continuaremos planteando cómo hablar del cáncer infantil a los niños\, presentando el cuento «¿Qué le pasa a Amara?» \n \n[su_carousel source=»media: 1531\,1530″ link=»lightbox» width=»400″ height=»200″ items=»1″ title=»no»]
URL:https://encuentroysolidaridad.net/event/santander-mesa-redonda-y-taller-para-familias-adultos-y-ninos/
CATEGORIES:Actos de Encuentro y Solidaridad
ATTACH;FMTTYPE=image/jpeg:https://encuentroysolidaridad.net/wp-content/uploads/2018/11/Encantados-de-conocerte-Amara.jpg
END:VEVENT
BEGIN:VEVENT
DTSTART;TZID=Europe/Paris:20181215T180000
DTEND;TZID=Europe/Paris:20181215T200000
DTSTAMP:20260423T005551
CREATED:20181201T121728Z
LAST-MODIFIED:20210519T183207Z
UID:1915-1544896800-1544904000@encuentroysolidaridad.net
SUMMARY:Granada. Cine-fórum: "Romero\, el Santo del pueblo"
DESCRIPTION:El pasado 14 de octubre\, se celebró la canonización de Óscar Arnulfo Romero (San Romero de América) y queremos invitaros a compartir esta película y poder tener un diálogo sobre ella. \nSINOPSIS \nNarra la historia del arzobispo salvadoreño Óscar Romero\, que desde su importante cargo eclesiástico se dedicó sin temor a criticar la desigualdad social y la represión del gobierno de El Salvador\, y que murió asesinado en el año 1980\, en los comienzos de lo que sería la Guerra Civil Salvadoreña. \n 
URL:https://encuentroysolidaridad.net/event/granada-cine-forum-romero-el-santo-del-pueblo/
CATEGORIES:Actos de Encuentro y Solidaridad
ATTACH;FMTTYPE=image/jpeg:https://encuentroysolidaridad.net/wp-content/uploads/2018/12/Romero.jpg
END:VEVENT
BEGIN:VEVENT
DTSTART;TZID=Europe/Paris:20181218T093000
DTEND;TZID=Europe/Paris:20190107T210000
DTSTAMP:20260423T005551
CREATED:20181214T084638Z
LAST-MODIFIED:20210519T183207Z
UID:2008-1545125400-1546894800@encuentroysolidaridad.net
SUMMARY:Burgos. Belén migrante\, Navidad 2018
DESCRIPTION:Una vez más el Belén Migrante se hace presente en estas fechas haciendo cercana la situación de muchos migrantes y refugiados.\nEstará en la Plaza Santo Domingo de Burgos desde el día 18 de diciembre (Día internacional del Migrante) hasta el 7 de enero de 2019. \n \nEl día 21 tendremos una jornada de poesía y canto allí mismo
URL:https://encuentroysolidaridad.net/event/burgos-belen-migrante-navidad-2018/
LOCATION:Plaza Santo Domingo\, Plaza Santo Domingo\, Burgos\, Burgos\, 09003
CATEGORIES:Actos de Encuentro y Solidaridad
ATTACH;FMTTYPE=image/jpeg:https://encuentroysolidaridad.net/wp-content/uploads/2018/12/belen-migrante.jpg
END:VEVENT
BEGIN:VEVENT
DTSTART;TZID=Europe/Paris:20181218T180000
DTEND;TZID=Europe/Paris:20181218T200000
DTSTAMP:20260423T005551
CREATED:20181025T200335Z
LAST-MODIFIED:20210519T183207Z
UID:1521-1545156000-1545163200@encuentroysolidaridad.net
SUMMARY:Zaragoza. Proyección de "Gنardianes de la fe"
DESCRIPTION:
URL:https://encuentroysolidaridad.net/event/zaragoza-proyeccion-de-g%d9%86ardianes-de-la-fe/
CATEGORIES:Actos de Encuentro y Solidaridad
ATTACH;FMTTYPE=image/jpeg:https://encuentroysolidaridad.net/wp-content/uploads/2018/10/Guardianes.jpg
END:VEVENT
BEGIN:VEVENT
DTSTART;TZID=Europe/Paris:20181219T123000
DTEND;TZID=Europe/Paris:20181219T140000
DTSTAMP:20260423T005551
CREATED:20181213T120639Z
LAST-MODIFIED:20210519T183206Z
UID:2003-1545222600-1545228000@encuentroysolidaridad.net
SUMMARY:Guadalajara: La esclavitud infantil
DESCRIPTION:
URL:https://encuentroysolidaridad.net/event/guadalajara-la-esclavitud-infantil/
CATEGORIES:Actos de Encuentro y Solidaridad
ATTACH;FMTTYPE=image/jpeg:https://encuentroysolidaridad.net/wp-content/uploads/2018/12/Ehsan.jpg
END:VEVENT
BEGIN:VEVENT
DTSTART;TZID=Europe/Paris:20181230T180000
DTEND;TZID=Europe/Paris:20181230T200000
DTSTAMP:20260423T005551
CREATED:20181220T113909Z
LAST-MODIFIED:20210519T183206Z
UID:2042-1546192800-1546200000@encuentroysolidaridad.net
SUMMARY:Canarias. Navidad solidaria
DESCRIPTION:
URL:https://encuentroysolidaridad.net/event/canarias-navidad-solidaria/
CATEGORIES:Actos de Encuentro y Solidaridad
ATTACH;FMTTYPE=image/jpeg:https://encuentroysolidaridad.net/wp-content/uploads/2018/12/Despilfarro.jpg
END:VEVENT
BEGIN:VEVENT
DTSTART;TZID=Europe/Paris:20190112T190000
DTEND;TZID=Europe/Paris:20190112T210000
DTSTAMP:20260423T005551
CREATED:20181128T111832Z
LAST-MODIFIED:20210519T183206Z
UID:1888-1547319600-1547326800@encuentroysolidaridad.net
SUMMARY:Valladolid. Cartografía de la desobediencia
DESCRIPTION:Encuentro y solidaridad quiere ser una asociación al servicio de la cultura del encuentro que promueve el Papa Francisco. \nPara presentarnos en Valladolid hemos organizado una representación de la obra de teatro: “Cartografía de la Desobediencia” de la compañía Teatro del Abrazo\, bajo la dirección de Moisés Mato. \nSerá el sábado 12 de enero a las 19 h. en el salón de actos del colegio Nuestra Señora de Lourdes. La entrada se realizará por la puerta trasera del colegio en la esquina de la calle Curtidores y la calle Gregorio Fernández. Al finalizar se ofrecerá a los asistentes un vino español. \nEstás invitado. ¡Te esperamos!😃😃😃
URL:https://encuentroysolidaridad.net/event/valladolid-cartografia-de-la-desobediencia/
CATEGORIES:Actos de Encuentro y Solidaridad
ATTACH;FMTTYPE=image/jpeg:https://encuentroysolidaridad.net/wp-content/uploads/2018/11/Cartografía.jpg
END:VEVENT
BEGIN:VEVENT
DTSTART;TZID=Europe/Paris:20190118T160000
DTEND;TZID=Europe/Paris:20190118T180000
DTSTAMP:20260423T005551
CREATED:20190116T163551Z
LAST-MODIFIED:20210519T183206Z
UID:2176-1547827200-1547834400@encuentroysolidaridad.net
SUMMARY:Cine entre amigos
DESCRIPTION:
URL:https://encuentroysolidaridad.net/event/cine-entre-amigos/
LOCATION:Oviedo. Casa Cultura y Encuentro\, C/ Ciudades Unidas\, Oviedo\, 33011\, España
CATEGORIES:Actos de Encuentro y Solidaridad
ATTACH;FMTTYPE=image/jpeg:https://encuentroysolidaridad.net/wp-content/uploads/2018/10/Cine.jpg
END:VEVENT
BEGIN:VEVENT
DTSTART;TZID=Europe/Paris:20190120T180000
DTEND;TZID=Europe/Paris:20190120T210000
DTSTAMP:20260423T005551
CREATED:20190111T123627Z
LAST-MODIFIED:20210519T183206Z
UID:2122-1548007200-1548018000@encuentroysolidaridad.net
SUMMARY:Madrid: Cine y espiritualidad
DESCRIPTION:
URL:https://encuentroysolidaridad.net/event/madrid-cine-y-espiritualidad/
LOCATION:Casa Emaús\, C/ Uceda\, 45\, Torremocha de Jarama\, Madrid\, 28189\, España
CATEGORIES:Actos de Encuentro y Solidaridad
ATTACH;FMTTYPE=image/jpeg:https://encuentroysolidaridad.net/wp-content/uploads/2018/05/Cine.jpg
END:VEVENT
BEGIN:VEVENT
DTSTART;TZID=Europe/Paris:20190207T193000
DTEND;TZID=Europe/Paris:20190207T210000
DTSTAMP:20260423T005551
CREATED:20190108T131926Z
LAST-MODIFIED:20210519T183206Z
UID:2113-1549567800-1549573200@encuentroysolidaridad.net
SUMMARY:Santiago. Economía práctica de hondo calado
DESCRIPTION:Esta serie de talleres sobre temas de economía cotidiana pretenden ser un espacio para aprender\, juntos\, algunos aspectos prácticos sobre temas muy importantes para la mayoría de familias españolas. \nTrabajaremos con un formato participativo para entender mejor cómo funcionan\, y qué cambios podemos hacer\, en elementos como la factura de la luz\, las tarjetas de crédito o los contratos de trabajo\, entre otros. Temas cotidianos que afectan a millones de personas en España y que tienen\, por tanto\, una enorme dimensión política. De ahí que titulemos “de hondo calado”. \nLos talleres tendrán una duración de hora y media\, son abiertos\, y están especialmente dirigidos a quienes quieran colaborar con otros asistentes en ir haciendo cambios\, en su economía y en la de los demás. \n \n 
URL:https://encuentroysolidaridad.net/event/santiago-de-compostela-economia-practica-de-hondo-calado/
CATEGORIES:Actos de Encuentro y Solidaridad
ATTACH;FMTTYPE=image/jpeg:https://encuentroysolidaridad.net/wp-content/uploads/2019/01/2017-06-23-07-33-22-900x599.jpg
END:VEVENT
BEGIN:VEVENT
DTSTART;TZID=Europe/Paris:20190209T100000
DTEND;TZID=Europe/Paris:20190209T200000
DTSTAMP:20260423T005551
CREATED:20190119T085959Z
LAST-MODIFIED:20210519T183150Z
UID:2178-1549706400-1549742400@encuentroysolidaridad.net
SUMMARY:Oviedo. Taller de acción no violenta contra la explotación en la industria textil
DESCRIPTION:
URL:https://encuentroysolidaridad.net/event/oviedo-taller-de-accion-no-violenta-contra-la-explotacion-en-la-industria-textil/
LOCATION:Oviedo. Casa Cultura y Encuentro\, C/ Ciudades Unidas\, Oviedo\, 33011\, España
CATEGORIES:Actos de Encuentro y Solidaridad
ATTACH;FMTTYPE=image/jpeg:https://encuentroysolidaridad.net/wp-content/uploads/2018/12/Ropa.jpg
END:VEVENT
BEGIN:VEVENT
DTSTART;TZID=Europe/Paris:20190209T110000
DTEND;TZID=Europe/Paris:20190209T140000
DTSTAMP:20260423T005551
CREATED:20190129T170829Z
LAST-MODIFIED:20210519T183149Z
UID:2187-1549710000-1549720800@encuentroysolidaridad.net
SUMMARY:Madrid. Estilos de vida en conversión
DESCRIPTION:
URL:https://encuentroysolidaridad.net/event/madrid-estilos-de-vida-en-conversion/
LOCATION:Madrid. Casa Cultura y Encuentro\, C/ Polvoranca\, 19 bis\, Madrid\, Madrid\, 28044\, España
CATEGORIES:Actos de Encuentro y Solidaridad
ATTACH;FMTTYPE=image/jpeg:https://encuentroysolidaridad.net/wp-content/uploads/2019/01/Alimentos.jpg
END:VEVENT
BEGIN:VEVENT
DTSTART;TZID=Europe/Paris:20190216T100000
DTEND;TZID=Europe/Paris:20190216T170000
DTSTAMP:20260423T005551
CREATED:20190212T083702Z
LAST-MODIFIED:20210519T183149Z
UID:2213-1550311200-1550336400@encuentroysolidaridad.net
SUMMARY:Canarias. Percusión corporal y solidaridad
DESCRIPTION:
URL:https://encuentroysolidaridad.net/event/canarias-percusion-corporal-y-solidaridad/
LOCATION:Canarias. Casa Cultura y Encuentro\, C/ Matías Padrón\, 26\, Las Palmas de Gran Canaria\, Las Palmas\, España
CATEGORIES:Actos de Encuentro y Solidaridad
ATTACH;FMTTYPE=image/jpeg:https://encuentroysolidaridad.net/wp-content/uploads/2019/02/18738427_443287292702089_6895309583995351537_o.jpg
END:VEVENT
BEGIN:VEVENT
DTSTART;TZID=Europe/Paris:20190216T170000
DTEND;TZID=Europe/Paris:20190216T200000
DTSTAMP:20260423T005551
CREATED:20190213T223633Z
LAST-MODIFIED:20210519T183149Z
UID:2229-1550336400-1550347200@encuentroysolidaridad.net
SUMMARY:Madrid: Taller de técnicas de estudio
DESCRIPTION:
URL:https://encuentroysolidaridad.net/event/madrid-taller-de-tecnicas-de-estudio/
LOCATION:Madrid. Casa Cultura y Encuentro\, C/ Polvoranca\, 19 bis\, Madrid\, Madrid\, 28044\, España
CATEGORIES:Actos de Encuentro y Solidaridad
ATTACH;FMTTYPE=image/jpeg:https://encuentroysolidaridad.net/wp-content/uploads/2019/02/Estudio.jpg
END:VEVENT
BEGIN:VEVENT
DTSTART;TZID=Europe/Paris:20190217T180000
DTEND;TZID=Europe/Paris:20190217T200000
DTSTAMP:20260423T005551
CREATED:20190207T164325Z
LAST-MODIFIED:20210519T183149Z
UID:2209-1550426400-1550433600@encuentroysolidaridad.net
SUMMARY:Madrid: cine y espiritualidad
DESCRIPTION:Continúa el ciclo de Cine y Espiritualidad que organizan Encuentro y Solidaridad y la parroquia San Pedro Apóstol de Torremocha de Jarama\, y que se está impartiendo en la Casa de Espiritualidad Emaús de la localidad. \nDentro del mismo\, el domingo 17 de febrero\, a las 18:00 horas\, se proyectará la película Romero. El santo del pueblo. Durante la protección habrá servicio de cuidado de niños. Al finalizar\, habrá una merienda compartida.
URL:https://encuentroysolidaridad.net/event/madrid-cine-y-espiritualidad-2/
LOCATION:Casa Emaús\, C/ Uceda\, 45\, Torremocha de Jarama\, Madrid\, 28189\, España
CATEGORIES:Actos de Encuentro y Solidaridad
ATTACH;FMTTYPE=image/jpeg:https://encuentroysolidaridad.net/wp-content/uploads/2018/10/Cine.jpg
END:VEVENT
BEGIN:VEVENT
DTSTART;TZID=Europe/Paris:20190228T193000
DTEND;TZID=Europe/Paris:20190228T210000
DTSTAMP:20260423T005551
CREATED:20190215T143625Z
LAST-MODIFIED:20210519T183149Z
UID:2237-1551382200-1551387600@encuentroysolidaridad.net
SUMMARY:Santiago: La factura de la luz
DESCRIPTION:
URL:https://encuentroysolidaridad.net/event/santiago-la-factura-de-la-luz/
CATEGORIES:Actos de Encuentro y Solidaridad
ATTACH;FMTTYPE=image/jpeg:https://encuentroysolidaridad.net/wp-content/uploads/2019/02/light-bulb-1784496_1920.jpg
END:VEVENT
BEGIN:VEVENT
DTSTART;TZID=Europe/Paris:20190302T103000
DTEND;TZID=Europe/Paris:20190302T133000
DTSTAMP:20260423T005551
CREATED:20190205T214726Z
LAST-MODIFIED:20210519T183149Z
UID:2197-1551522600-1551533400@encuentroysolidaridad.net
SUMMARY:Santander. Educar en competencia emocional
DESCRIPTION:
URL:https://encuentroysolidaridad.net/event/santander-educar-en-competencia-emocional/
CATEGORIES:Actos de Encuentro y Solidaridad
ATTACH;FMTTYPE=image/jpeg:https://encuentroysolidaridad.net/wp-content/uploads/2019/02/Corazon.jpeg
END:VEVENT
BEGIN:VEVENT
DTSTART;TZID=Europe/Paris:20190307T193000
DTEND;TZID=Europe/Paris:20190307T213000
DTSTAMP:20260423T005551
CREATED:20190213T223827Z
LAST-MODIFIED:20210519T183149Z
UID:2233-1551987000-1551994200@encuentroysolidaridad.net
SUMMARY:Madrid: Mujeres constructoras de paz
DESCRIPTION:
URL:https://encuentroysolidaridad.net/event/madrid-mujeres-constructoras-de-paz/
LOCATION:Madrid. Casa Cultura y Encuentro\, C/ Polvoranca\, 19 bis\, Madrid\, Madrid\, 28044\, España
CATEGORIES:Actos de Encuentro y Solidaridad
ATTACH;FMTTYPE=image/jpeg:https://encuentroysolidaridad.net/wp-content/uploads/2019/02/Liberia.jpeg
END:VEVENT
BEGIN:VEVENT
DTSTART;TZID=Europe/Paris:20190315T160000
DTEND;TZID=Europe/Paris:20190315T180000
DTSTAMP:20260423T005551
CREATED:20190307T183636Z
LAST-MODIFIED:20210519T183149Z
UID:2259-1552665600-1552672800@encuentroysolidaridad.net
SUMMARY:Oviedo: cine entre amigos
DESCRIPTION:El viernes 15 de marzo «Cine entre amigos» en la Casa Cultura y Encuentro de Oviedo. \nDespués del cine\, haremos manualidades y juegos para pasar un rato divertido.\nVamos a ver el primer episodio de «La abeja Maya»\, viéndola nacer. Y otro de la última temporada. ¡Qué diferencia! \nEl corto que pondremos: «Monsterbox» es una historia sobre la relación intergeneracional y la necesidad del otro que todos tenemos en nuestro corazón. Una historia divertida y tierna.
URL:https://encuentroysolidaridad.net/event/oviedo-cine-entre-amigos-4/
CATEGORIES:Actos de Encuentro y Solidaridad
ATTACH;FMTTYPE=image/jpeg:https://encuentroysolidaridad.net/wp-content/uploads/2018/05/Cine.jpg
END:VEVENT
BEGIN:VEVENT
DTSTART;TZID=Europe/Paris:20190315T180000
DTEND;TZID=Europe/Paris:20190315T193000
DTSTAMP:20260423T005551
CREATED:20190312T121146Z
LAST-MODIFIED:20210519T183149Z
UID:2272-1552672800-1552678200@encuentroysolidaridad.net
SUMMARY:Madrid. Encuentro entre comunidades musulmana y cristiana
DESCRIPTION:
URL:https://encuentroysolidaridad.net/event/madrid-encuentro-entre-comunidades-musulmana-y-cristiana/
CATEGORIES:Actos de Encuentro y Solidaridad
ATTACH;FMTTYPE=image/jpeg:https://encuentroysolidaridad.net/wp-content/uploads/2019/03/chretiens_musulmans.jpg
END:VEVENT
BEGIN:VEVENT
DTSTART;TZID=Europe/Paris:20190315T180000
DTEND;TZID=Europe/Paris:20190315T200000
DTSTAMP:20260423T005551
CREATED:20190430T064145Z
LAST-MODIFIED:20210519T183149Z
UID:2633-1552672800-1552680000@encuentroysolidaridad.net
SUMMARY:Madrid. Encuentro entre comunidades musulmana y cristiana
DESCRIPTION:
URL:https://encuentroysolidaridad.net/event/madrid-encuentro-entre-comunidades-musulmana-y-cristiana-2/
CATEGORIES:Actos de Encuentro y Solidaridad
ATTACH;FMTTYPE=image/jpeg:https://encuentroysolidaridad.net/wp-content/uploads/2019/04/Religion.jpg
END:VEVENT
END:VCALENDAR