BEGIN:VCALENDAR
VERSION:2.0
PRODID:-//Encuentro y solidaridad - ECPv6.15.11//NONSGML v1.0//EN
CALSCALE:GREGORIAN
METHOD:PUBLISH
X-ORIGINAL-URL:https://encuentroysolidaridad.net
X-WR-CALDESC:Eventos para Encuentro y solidaridad
REFRESH-INTERVAL;VALUE=DURATION:PT1H
X-Robots-Tag:noindex
X-PUBLISHED-TTL:PT1H
BEGIN:VTIMEZONE
TZID:Europe/Paris
BEGIN:DAYLIGHT
TZOFFSETFROM:+0100
TZOFFSETTO:+0200
TZNAME:CEST
DTSTART:20180325T010000
END:DAYLIGHT
BEGIN:STANDARD
TZOFFSETFROM:+0200
TZOFFSETTO:+0100
TZNAME:CET
DTSTART:20181028T010000
END:STANDARD
BEGIN:DAYLIGHT
TZOFFSETFROM:+0100
TZOFFSETTO:+0200
TZNAME:CEST
DTSTART:20190331T010000
END:DAYLIGHT
BEGIN:STANDARD
TZOFFSETFROM:+0200
TZOFFSETTO:+0100
TZNAME:CET
DTSTART:20191027T010000
END:STANDARD
BEGIN:DAYLIGHT
TZOFFSETFROM:+0100
TZOFFSETTO:+0200
TZNAME:CEST
DTSTART:20200329T010000
END:DAYLIGHT
BEGIN:STANDARD
TZOFFSETFROM:+0200
TZOFFSETTO:+0100
TZNAME:CET
DTSTART:20201025T010000
END:STANDARD
BEGIN:DAYLIGHT
TZOFFSETFROM:+0100
TZOFFSETTO:+0200
TZNAME:CEST
DTSTART:20210328T010000
END:DAYLIGHT
BEGIN:STANDARD
TZOFFSETFROM:+0200
TZOFFSETTO:+0100
TZNAME:CET
DTSTART:20211031T010000
END:STANDARD
END:VTIMEZONE
BEGIN:VEVENT
DTSTART;TZID=Europe/Paris:20190515T093000
DTEND;TZID=Europe/Paris:20190525T183000
DTSTAMP:20260422T130716
CREATED:20190413T055819Z
LAST-MODIFIED:20210519T183124Z
UID:2598-1557912600-1558809000@encuentroysolidaridad.net
SUMMARY:Santander: Exposición "Juguetes africanos"
DESCRIPTION:
URL:https://encuentroysolidaridad.net/event/santander-exposicion-juguetes-africanos/
CATEGORIES:Actos de Encuentro y Solidaridad
ATTACH;FMTTYPE=image/jpeg:https://encuentroysolidaridad.net/wp-content/uploads/2019/04/JuegoAfrica.jpg
END:VEVENT
BEGIN:VEVENT
DTSTART;TZID=Europe/Paris:20190515T193000
DTEND;TZID=Europe/Paris:20190614T203000
DTSTAMP:20260422T130716
CREATED:20190317T125211Z
LAST-MODIFIED:20210519T183124Z
UID:2296-1557948600-1560544200@encuentroysolidaridad.net
SUMMARY:Santander: Educarnos en resiliencia personal y colectiva
DESCRIPTION:
URL:https://encuentroysolidaridad.net/event/santander-educarnos-en-resiliencia-personal-y-colectiva/
CATEGORIES:Actos de Encuentro y Solidaridad
ATTACH;FMTTYPE=image/jpeg:https://encuentroysolidaridad.net/wp-content/uploads/2018/10/2018_ES-Santander-01.jpeg
END:VEVENT
BEGIN:VEVENT
DTSTART;TZID=Europe/Paris:20190527T150000
DTEND;TZID=Europe/Paris:20190529T210000
DTSTAMP:20260422T130716
CREATED:20190528T163849Z
LAST-MODIFIED:20210519T183123Z
UID:2884-1558969200-1559163600@encuentroysolidaridad.net
SUMMARY:Alcalá de Henares: exposición fotográfica. Entre fronteras: migrantes en lucha
DESCRIPTION:
URL:https://encuentroysolidaridad.net/event/alcala-de-henares-exposicion-fotografica-entre-fronteras-migrantes-en-lucha/
CATEGORIES:Actos de Encuentro y Solidaridad
ATTACH;FMTTYPE=image/jpeg:https://encuentroysolidaridad.net/wp-content/uploads/2019/05/Entre-fronteras.jpg
END:VEVENT
BEGIN:VEVENT
DTSTART;TZID=Europe/Paris:20190601T100000
DTEND;TZID=Europe/Paris:20190602T140000
DTSTAMP:20260422T130716
CREATED:20190509T150154Z
LAST-MODIFIED:20210519T183123Z
UID:2671-1559383200-1559484000@encuentroysolidaridad.net
SUMMARY:Casa Emaús. El trabajo en la era 4.0
DESCRIPTION:Las nuevas realidades del trabajo: plataformas\, falsos autónomos\, jóvenes\,…\nNoemí Serrano Argüello\, profesora de Derecho del Trabajo (Universidad de Valladolid)\n¿Es posible la empresa solidaria? La propuesta de Guillermo Rovirosa\nJosé Luis Elorza\, doctor en Ciencias Sociales (Universidad de Deusto)\nEl trabajo y la industria 4.0: ¿más empleo o liberación?\nManuel Marín y Marta Sanz\, ingenieros en el sector de automatización\nEl trabajo en los gigantes del comercio: la otra cara del comercio electrónico\nMoisés Fernández\, presidente del comité de empresa de Amazon\n\n \n 
URL:https://encuentroysolidaridad.net/event/casa-emaus-el-trabajo-en-la-era-4-0/
LOCATION:Casa Emaús\, C/ Uceda\, 45\, Torremocha de Jarama\, Madrid\, 28189\, España
CATEGORIES:Actos de Encuentro y Solidaridad
ATTACH;FMTTYPE=image/jpeg:https://encuentroysolidaridad.net/wp-content/uploads/2019/05/Robot.jpg
END:VEVENT
BEGIN:VEVENT
DTSTART;TZID=Europe/Paris:20190606T193000
DTEND;TZID=Europe/Paris:20190606T210000
DTSTAMP:20260422T130716
CREATED:20190518T105959Z
LAST-MODIFIED:20210519T183123Z
UID:2804-1559849400-1559854800@encuentroysolidaridad.net
SUMMARY:Santiago. Economía práctica
DESCRIPTION:Abordamos la finalización de los talleres de este curso\, con un tema muy completo\, en el que contaremos con la participación de cooperativas con años de experiencia\, e intentaremos canalizar las ideas y proyectos con algunas metodologías y las contribuciones de los asistentes.
URL:https://encuentroysolidaridad.net/event/santiago-economia-practica-3/
CATEGORIES:Actos de Encuentro y Solidaridad
ATTACH;FMTTYPE=image/jpeg:https://encuentroysolidaridad.net/wp-content/uploads/2019/05/Cooperativa.jpg
END:VEVENT
BEGIN:VEVENT
DTSTART;TZID=Europe/Paris:20190607T163000
DTEND;TZID=Europe/Paris:20190607T200000
DTSTAMP:20260422T130716
CREATED:20190601T054657Z
LAST-MODIFIED:20210519T183123Z
UID:2924-1559925000-1559937600@encuentroysolidaridad.net
SUMMARY:Oviedo. VIII Feria de asociaciones de La Corredoria.
DESCRIPTION: 
URL:https://encuentroysolidaridad.net/event/oviedo-viii-feria-de-asociaciones-de-la-corredoria/
CATEGORIES:Actos de Encuentro y Solidaridad
ATTACH;FMTTYPE=image/jpeg:https://encuentroysolidaridad.net/wp-content/uploads/2019/06/4691219Master.jpg
END:VEVENT
BEGIN:VEVENT
DTSTART;TZID=Europe/Paris:20190608T103000
DTEND;TZID=Europe/Paris:20190608T123000
DTSTAMP:20260422T130716
CREATED:20190529T151154Z
LAST-MODIFIED:20210519T183123Z
UID:2891-1559989800-1559997000@encuentroysolidaridad.net
SUMMARY:Santander. El perdón\, un final que es un comienzo
DESCRIPTION:
URL:https://encuentroysolidaridad.net/event/santander-el-perdon-un-final-que-es-un-comienzo/
CATEGORIES:Actos de Encuentro y Solidaridad
ATTACH;FMTTYPE=image/jpeg:https://encuentroysolidaridad.net/wp-content/uploads/2019/05/Perdon.jpg
END:VEVENT
BEGIN:VEVENT
DTSTART;TZID=Europe/Paris:20190608T180000
DTEND;TZID=Europe/Paris:20190608T200000
DTSTAMP:20260422T130716
CREATED:20190514T092129Z
LAST-MODIFIED:20210519T183123Z
UID:2698-1560016800-1560024000@encuentroysolidaridad.net
SUMMARY:Barcelona: Liberando niños esclavos
DESCRIPTION:
URL:https://encuentroysolidaridad.net/event/barcelona-liberando-ninos-esclavos/
CATEGORIES:Actos de Encuentro y Solidaridad
ATTACH;FMTTYPE=image/jpeg:https://encuentroysolidaridad.net/wp-content/uploads/2018/10/Ehsan.jpg
END:VEVENT
BEGIN:VEVENT
DTSTART;TZID=Europe/Paris:20190614T160000
DTEND;TZID=Europe/Paris:20190614T180000
DTSTAMP:20260422T130716
CREATED:20190610T183243Z
LAST-MODIFIED:20210519T183123Z
UID:3142-1560528000-1560535200@encuentroysolidaridad.net
SUMMARY:Oviedo. "Cine entre amigos" en la Casa Cultura y Encuentro
DESCRIPTION:Una película-documental «Camino a la escuela» en la que veremos el valor que tiene la escuela para algunos niños. Podéis traer algo para picar y merendar\, lo compartiremos. Y después manualidades y juegos. Un buen plan para el viernes.
URL:https://encuentroysolidaridad.net/event/oviedo-cine-entre-amigos-en-la-casa-cultura-y-encuentro/
CATEGORIES:Actos de Encuentro y Solidaridad
ATTACH;FMTTYPE=image/jpeg:https://encuentroysolidaridad.net/wp-content/uploads/2019/05/CineFamilia.jpeg
END:VEVENT
BEGIN:VEVENT
DTSTART;TZID=Europe/Paris:20190707T190000
DTEND;TZID=Europe/Paris:20190707T210000
DTSTAMP:20260422T130716
CREATED:20190611T185050Z
LAST-MODIFIED:20210519T183108Z
UID:3157-1562526000-1562533200@encuentroysolidaridad.net
SUMMARY:Madrid. Cine y espiritualidad
DESCRIPTION:
URL:https://encuentroysolidaridad.net/event/madrid-cine-y-espiritualidad-5/
CATEGORIES:Actos de Encuentro y Solidaridad
ATTACH;FMTTYPE=image/jpeg:https://encuentroysolidaridad.net/wp-content/uploads/2018/10/Cine.jpg
END:VEVENT
BEGIN:VEVENT
DTSTART;TZID=Europe/Paris:20190815T190000
DTEND;TZID=Europe/Paris:20190815T210000
DTSTAMP:20260422T130716
CREATED:20190809T132910Z
LAST-MODIFIED:20210519T183108Z
UID:3300-1565895600-1565902800@encuentroysolidaridad.net
SUMMARY:Madrid. Cine y espiritualidad
DESCRIPTION:
URL:https://encuentroysolidaridad.net/event/madrid-cine-y-espiritualidad-6/
CATEGORIES:Actos de Encuentro y Solidaridad
ATTACH;FMTTYPE=image/jpeg:https://encuentroysolidaridad.net/wp-content/uploads/2019/05/CineFamilia.jpeg
END:VEVENT
BEGIN:VEVENT
DTSTART;TZID=Europe/Paris:20190914T180000
DTEND;TZID=Europe/Paris:20190914T200000
DTSTAMP:20260422T130716
CREATED:20190830T133726Z
LAST-MODIFIED:20210519T183108Z
UID:3350-1568484000-1568491200@encuentroysolidaridad.net
SUMMARY:Navarra. Apertura curso
DESCRIPTION:
URL:https://encuentroysolidaridad.net/event/navarra-apertura-curso/
LOCATION:Navarra. Casa Cultura y Encuentro\, Calle Sangüesa (frente Nº 33)\, Pamplona\, Navarra\, España
CATEGORIES:Actos de Encuentro y Solidaridad
ATTACH;FMTTYPE=image/jpeg:https://encuentroysolidaridad.net/wp-content/uploads/2018/11/2018-11-10_ES_Nav-05.jpeg
END:VEVENT
BEGIN:VEVENT
DTSTART;TZID=Europe/Paris:20190927T160000
DTEND;TZID=Europe/Paris:20190927T173000
DTSTAMP:20260422T130716
CREATED:20190919T062857Z
LAST-MODIFIED:20210519T183108Z
UID:3386-1569600000-1569605400@encuentroysolidaridad.net
SUMMARY:Oviedo. Cine entre amigos
DESCRIPTION:Comenzamos el Cine entre amigos el viernes 27 de septiembre a las 4.\nUna tarde divertida para los niños con cine\, juegos\, manualidades… Pueden traer un aperitivo para compartir. \nUna peli divertida donde se puede aprender la importancia de la familia y la amistad
URL:https://encuentroysolidaridad.net/event/oviedo-cine-entre-amigos-7/
LOCATION:Oviedo. Casa Cultura y Encuentro\, C/ Ciudades Unidas\, Oviedo\, 33011\, España
CATEGORIES:Actos de Encuentro y Solidaridad
ATTACH;FMTTYPE=image/jpeg:https://encuentroysolidaridad.net/wp-content/uploads/2018/05/Cine.jpg
END:VEVENT
BEGIN:VEVENT
DTSTART;TZID=Europe/Paris:20190930T173000
DTEND;TZID=Europe/Paris:20190930T190000
DTSTAMP:20260422T130716
CREATED:20190918T150549Z
LAST-MODIFIED:20210519T183108Z
UID:3381-1569864600-1569870000@encuentroysolidaridad.net
SUMMARY:Navarra. Actividades en la Casa Cultura y Encuentro
DESCRIPTION:Puedes inscribirte en esta y otras actividades desde aquí
URL:https://encuentroysolidaridad.net/event/navarra-actividades-en-la-casa-cultura-y-encuentro-2/
CATEGORIES:Actos de Encuentro y Solidaridad
ATTACH;FMTTYPE=image/jpeg:https://encuentroysolidaridad.net/wp-content/uploads/2018/10/P-04.jpeg
END:VEVENT
BEGIN:VEVENT
DTSTART;TZID=Europe/Paris:20191005T090000
DTEND;TZID=Europe/Paris:20191005T200000
DTSTAMP:20260422T130716
CREATED:20190917T160607Z
LAST-MODIFIED:20210519T183108Z
UID:3375-1570266000-1570305600@encuentroysolidaridad.net
SUMMARY:Navarra. Visita a Ochagavía\, con-vivencia
DESCRIPTION:Puedes inscribirte en esta y otras actividades desde aquí
URL:https://encuentroysolidaridad.net/event/navarra-visita-a-ochagavia-con-vivencia/
CATEGORIES:Actos de Encuentro y Solidaridad
ATTACH;FMTTYPE=image/jpeg:https://encuentroysolidaridad.net/wp-content/uploads/2019/09/Ochagavía.jpg
END:VEVENT
BEGIN:VEVENT
DTSTART;TZID=Europe/Paris:20191006T180000
DTEND;TZID=Europe/Paris:20191022T200000
DTSTAMP:20260422T130716
CREATED:20191004T090536Z
LAST-MODIFIED:20210519T183107Z
UID:3432-1570384800-1571774400@encuentroysolidaridad.net
SUMMARY:Valladolid. Visita de la Cruz de Lampedusa
DESCRIPTION:Para que no caiga en saco roto la invitación que nos hace el papa Francisco: Construir un mundo que no sea cómplice de la ‘globalización de la indiferencia’.\nAnte esta cruz…\nGUARDA SILENCIO\, REFLEXIONA\, REZA\, DECIDE QUÉ PUEDES HACER TÚ
URL:https://encuentroysolidaridad.net/event/valladolid-visita-de-la-cruz-de-lampedusa/
CATEGORIES:Actos de Encuentro y Solidaridad
ATTACH;FMTTYPE=image/jpeg:https://encuentroysolidaridad.net/wp-content/uploads/2019/10/croce-lapedusa-e1570183385476.jpg
END:VEVENT
BEGIN:VEVENT
DTSTART;TZID=Europe/Paris:20191011T160000
DTEND;TZID=Europe/Paris:20191011T173000
DTSTAMP:20260422T130716
CREATED:20191010T192455Z
LAST-MODIFIED:20210519T183107Z
UID:3468-1570809600-1570815000@encuentroysolidaridad.net
SUMMARY:Oviedo. Cine entre amigos
DESCRIPTION:En el cine\, un episodio de Lego\, trepidante\, y un cortometraje sobre la integración de los niños sordos muy divertido.\nDespués manualidades y juegos.\nPuedes traer un aperitivo para compartir.\nUna tarde Entre amigos.
URL:https://encuentroysolidaridad.net/event/oviedo-cine-entre-amigos-8/
LOCATION:Oviedo. Casa Cultura y Encuentro\, C/ Ciudades Unidas\, Oviedo\, 33011\, España
CATEGORIES:Actos de Encuentro y Solidaridad
ATTACH;FMTTYPE=image/jpeg:https://encuentroysolidaridad.net/wp-content/uploads/2019/05/CineFamilia.jpeg
END:VEVENT
BEGIN:VEVENT
DTSTART;TZID=Europe/Paris:20191011T190000
DTEND;TZID=Europe/Paris:20191011T210000
DTSTAMP:20260422T130716
CREATED:20190915T164521Z
LAST-MODIFIED:20210519T183107Z
UID:3368-1570820400-1570827600@encuentroysolidaridad.net
SUMMARY:Santander. Escribo sobre ti para vencerte. Teatro social
DESCRIPTION:
URL:https://encuentroysolidaridad.net/event/santander-escribo-sobre-ti-para-vencerte-teatro-social/
CATEGORIES:Actos de Encuentro y Solidaridad
ATTACH;FMTTYPE=image/jpeg:https://encuentroysolidaridad.net/wp-content/uploads/2019/03/Escribo.jpg
END:VEVENT
BEGIN:VEVENT
DTSTART;TZID=Europe/Paris:20191012T100000
DTEND;TZID=Europe/Paris:20191012T140000
DTSTAMP:20260422T130716
CREATED:20190916T140702Z
LAST-MODIFIED:20210519T183107Z
UID:3371-1570874400-1570888800@encuentroysolidaridad.net
SUMMARY:Santander. Dando los mejores pasos
DESCRIPTION: 
URL:https://encuentroysolidaridad.net/event/santander-dando-los-mejores-pasos/
CATEGORIES:Actos de Encuentro y Solidaridad
ATTACH;FMTTYPE=image/jpeg:https://encuentroysolidaridad.net/wp-content/uploads/2019/09/Tango.jpg
END:VEVENT
BEGIN:VEVENT
DTSTART;TZID=Europe/Paris:20191013T173000
DTEND;TZID=Europe/Paris:20191013T193000
DTSTAMP:20260422T130716
CREATED:20190930T194651Z
LAST-MODIFIED:20210519T183107Z
UID:3429-1570987800-1570995000@encuentroysolidaridad.net
SUMMARY:Murcia. Imposible matar la belleza
DESCRIPTION:
URL:https://encuentroysolidaridad.net/event/murcia-imposible-matar-la-belleza/
CATEGORIES:Actos de Encuentro y Solidaridad
ATTACH;FMTTYPE=image/jpeg:https://encuentroysolidaridad.net/wp-content/uploads/2019/05/MatarLaBelleza.jpg
END:VEVENT
BEGIN:VEVENT
DTSTART;TZID=Europe/Paris:20191019T190000
DTEND;TZID=Europe/Paris:20191019T200000
DTSTAMP:20260422T130716
CREATED:20191009T181536Z
LAST-MODIFIED:20210519T183107Z
UID:3460-1571511600-1571515200@encuentroysolidaridad.net
SUMMARY:Valladolid. La Cruz de Lampedusa: de la vergüenza al compromiso
DESCRIPTION:Construida con restos de barcas naufragadas en el Mediterráneo\, simboliza el drama de los migrantes fallecidos tratando de alcanzar Europa\, huyendo de la situación de sus países\, a los que la propia Europa está robando.\nEl próximo sábado 19 de octubre estará en la Plaza Zorrilla de siete a ocho de la tarde\, como un grito contra la globalización de la indiferencia\, ante la que la Iglesia articula una respuesta en torno a cuatro verbos: acoger\, proteger\, promover e integrar.\nLa inmigración siempre ha supuesto y sigue suponiendo un enriquecimiento para las sociedades que las reciben\, a todos los niveles: económico\, social\, cultura\, político.\nLampedusa fue el destino del primer viaje apostólico del Papa Francisco\, donde hizo presente la responsabilidad que tenemos en el drama de las muertes del Mediterráneo. Tras el naufragio del 3 de octubre de 2013\, en que perdieron la vida 366 personas que recientemente  dijo: «Sólo me viene la palabra vergüenza\, es una vergüenza» \nEn ese contexto Franco Tuccio construyó una cruz con trozos de madera de las embarcaciones que habían naufragado y que Francisco recibió como regalo por la fundación Casa dello Spiritu e delle Arti\,  que trabaja en Milán con personas que viven en situaciones de grave dificultad social. Al bendecirla\, el Pontífice encargó llevar la Cruz de Lampedusa a todas partes como símbolo\, para no olvidar el drama y la realidad de los inmigrantes. \nAhora Encuentro y Solidaridad la traemos a las calles de Valladolid. Estará el sábado 19 de octubre\, de 19 a 20 h. en la Plaza España\, para transmitir un mensaje de solidaridad y de paz\, combatiendo esta globalización de la indiferencia\, el olvido de la situación de migrantes y refugiados que se ven obligados a abandonar sus hogares.
URL:https://encuentroysolidaridad.net/event/valladolid-la-cruz-de-lampedusa-de-la-verguenza-al-compromiso/
CATEGORIES:Actos de Encuentro y Solidaridad
ATTACH;FMTTYPE=image/jpeg:https://encuentroysolidaridad.net/wp-content/uploads/2019/10/Verguenza.jpeg
END:VEVENT
BEGIN:VEVENT
DTSTART;TZID=Europe/Paris:20191026T100000
DTEND;TZID=Europe/Paris:20191027T140000
DTSTAMP:20260422T130716
CREATED:20191009T070955Z
LAST-MODIFIED:20210519T183107Z
UID:3447-1572084000-1572184800@encuentroysolidaridad.net
SUMMARY:Casa Emaús. Curso Encuentro: Amor en la política. Ayer y hoy
DESCRIPTION:Sábado 26 de octubre\n10.15 Hammarskjold. El primer secretario general de la ONU; por Santiago García\, Dr. en Teología fundamental y profesor en la Universidad Pontificia de Comillas\n12.30 Luis Lucía. Político perseguido por la República y por Franco; por Vicent Comes\, Dr. en Historia contemporánea y profesor\n16.30 Emmanuel Mounier. El filósofo personalista francés más conocido del siglo XX; por Luis Ferreiro\, Presidente del Instituto E. Mounier \nDomingo 27 de octubre\n10.15 Diálogo utopía y realidad: Camilo Sánchez y Julián Gómez del Castillo\, el alcalde con más porcentaje de voto en las municipales del 99 y el mayor editor de problemas de los empobrecidos de España; por Eugenio Rodríguez y Javier Marijuán\, autores de varios libros
URL:https://encuentroysolidaridad.net/event/casa-emaus-curso-encuentro-amor-en-la-politica-ayer-y-hoy/
LOCATION:Casa Emaús\, C/ Uceda\, 45\, Torremocha de Jarama\, Madrid\, 28189\, España
CATEGORIES:Actos de Encuentro y Solidaridad
ATTACH;FMTTYPE=image/png:https://encuentroysolidaridad.net/wp-content/uploads/2019/10/ManoMicro.png
END:VEVENT
BEGIN:VEVENT
DTSTART;TZID=Europe/Paris:20191101T190000
DTEND;TZID=Europe/Paris:20191101T203000
DTSTAMP:20260422T130716
CREATED:20191014T193003Z
LAST-MODIFIED:20210519T183106Z
UID:3496-1572634800-1572640200@encuentroysolidaridad.net
SUMMARY:Madrid. Salvador seguí. El hombre que caminó sobre la utopía
DESCRIPTION:El público llega al teatro. En el espacio central hay una mesa grande\, alrededor de la cual pueden sentarse. Se preparan para el espectáculo. Aparece un obrero. Comienza a hablar a todos con la urgencia de los acontecimientos que vive. El público pasa a formar parte de una asamblea en algún lugar de España\, en 1923\, 10 días después del asesinato de Salvador Seguí. Durante 40 minutos\, el compulsivo obrero desgranará los momentos más significativos de la vida del Noi del Sucre y su época. \n«El momento apremia y la historia nos empuja para que estemos suficientemente preparados y terminar con el predominio capitalista que nos esclaviza\, embrutece y mata\, precisamente porque queremos vivir una vida noble y digna: porque queremos\, por encima de todo\, el reinado de la justicia social sobre la tierra».
URL:https://encuentroysolidaridad.net/event/madrid-salvador-segui-el-hombre-que-camino-sobre-la-utopia/
CATEGORIES:Actos de Encuentro y Solidaridad
ATTACH;FMTTYPE=image/jpeg:https://encuentroysolidaridad.net/wp-content/uploads/2019/10/Noi.jpg
END:VEVENT
BEGIN:VEVENT
DTSTART;TZID=Europe/Paris:20191108T160000
DTEND;TZID=Europe/Paris:20191108T180000
DTSTAMP:20260422T130716
CREATED:20191108T120330Z
LAST-MODIFIED:20210519T183106Z
UID:3615-1573228800-1573236000@encuentroysolidaridad.net
SUMMARY:Oviedo. Cine entre amigos
DESCRIPTION:El viernes 8 de noviembre volvemos a tener una tarde «Entre Amigos» en la Casa Cultura y Encuentro de Oviedo.\nVamos a ver una peli para celebrar el Día de los derechos del niño: «La vida de Calabacín» una historia dura y tierna a la vez\, llena de esperanza para todos los niños.\nAl terminar jugaremos y haremos manualidades. No os olvidéis de traer un aperitivo para compartir.\nEntrada libre hasta completar aforo.\n\nRecordad que las tardes Entre Amigos son los segundos viernes de mes en la Casa Cultura y Encuentro de Oviedo.
URL:https://encuentroysolidaridad.net/event/oviedo-cine-entre-amigos-9/
LOCATION:Oviedo. Casa Cultura y Encuentro\, C/ Ciudades Unidas\, Oviedo\, 33011\, España
CATEGORIES:Actos de Encuentro y Solidaridad
ATTACH;FMTTYPE=image/jpeg:https://encuentroysolidaridad.net/wp-content/uploads/2018/05/Cine.jpg
END:VEVENT
BEGIN:VEVENT
DTSTART;TZID=Europe/Paris:20191109T110000
DTEND;TZID=Europe/Paris:20191109T200000
DTSTAMP:20260422T130716
CREATED:20191013T073856Z
LAST-MODIFIED:20210519T183106Z
UID:3478-1573297200-1573329600@encuentroysolidaridad.net
SUMMARY:Pamplona. Curso Escuela de Padres
DESCRIPTION:Encuentro y Solidaridad ha organizado un curso de una jornada de sábado (11-14h y 16\,30-20h) sobre Escuela de padres. Los ponentes serán Clemente y MariCarmen\, procedentes de Valladolid. Son muy conocidos allí por tener más de 20 años formando a padres y llevando varias escuelas de padres. Son matrimonio y familia\, orientadores y educadores familiares. El formato del curso es muy práctico\, ameno y divertido\, y permite que los padres revisen y contrasten con otros su forma de educar. Inscripciones en el telefono 619180338 y/o navarra@encuentroysolidaridad.net. Fecha tope hasta el 5 noviembre. \nPuedes inscribirte directamente en este formulario:
URL:https://encuentroysolidaridad.net/event/pamplona-curso-escuela-de-padres/
LOCATION:Navarra. Casa Cultura y Encuentro\, Calle Sangüesa (frente Nº 33)\, Pamplona\, Navarra\, España
CATEGORIES:Actos de Encuentro y Solidaridad
ATTACH;FMTTYPE=image/jpeg:https://encuentroysolidaridad.net/wp-content/uploads/2019/10/Educacion.jpg
END:VEVENT
BEGIN:VEVENT
DTSTART;TZID=Europe/Paris:20191112T080000
DTEND;TZID=Europe/Paris:20200401T170000
DTSTAMP:20260422T130716
CREATED:20191016T080034Z
LAST-MODIFIED:20210519T183106Z
UID:3500-1573545600-1585760400@encuentroysolidaridad.net
SUMMARY:Santander. Educarnos en Resiliencia
DESCRIPTION:En un mundo donde las personas estamos interconectados por lazos de dolor e injusticia\, ponemos en marcha estos talleres con la idea de: \n\nPromover aptitudes y respuestas resilientes\, personal y comunitariamente\, en la familia\, en la escuela\, la sociedad y la política\nDar a conocer relatos de esperanza de personas y pueblos que han respondido de forma resiliente al dolor y la injusticia
URL:https://encuentroysolidaridad.net/event/santander-educarnos-en-resiliencia/
CATEGORIES:Actos de Encuentro y Solidaridad
ATTACH;FMTTYPE=image/jpeg:https://encuentroysolidaridad.net/wp-content/uploads/2019/10/Resi.jpg
END:VEVENT
BEGIN:VEVENT
DTSTART;TZID=Europe/Paris:20191112T090000
DTEND;TZID=Europe/Paris:20191128T210000
DTSTAMP:20260422T130716
CREATED:20190926T152646Z
LAST-MODIFIED:20210519T183106Z
UID:3412-1573549200-1574974800@encuentroysolidaridad.net
SUMMARY:Santander. Noviolencia
DESCRIPTION:
URL:https://encuentroysolidaridad.net/event/santander-noviolencia/
CATEGORIES:Actos de Encuentro y Solidaridad
ATTACH;FMTTYPE=image/jpeg:https://encuentroysolidaridad.net/wp-content/uploads/2019/09/ExposicionNoviolencia.jpg
END:VEVENT
BEGIN:VEVENT
DTSTART;TZID=Europe/Paris:20191115T190000
DTEND;TZID=Europe/Paris:20191115T200000
DTSTAMP:20260422T130716
CREATED:20191031T091400Z
LAST-MODIFIED:20210519T183106Z
UID:3587-1573844400-1573848000@encuentroysolidaridad.net
SUMMARY:Burgos. III Jornada Mundial de los Pobres
DESCRIPTION:
URL:https://encuentroysolidaridad.net/event/burgos-iii-jornada-mundial-de-los-pobres/
CATEGORIES:Actos de Encuentro y Solidaridad
ATTACH;FMTTYPE=image/jpeg:https://encuentroysolidaridad.net/wp-content/uploads/2019/10/Jornada2019.jpg
END:VEVENT
BEGIN:VEVENT
DTSTART;TZID=Europe/Paris:20191117T190000
DTEND;TZID=Europe/Paris:20191117T200000
DTSTAMP:20260422T130716
CREATED:20191111T122430Z
LAST-MODIFIED:20210519T183106Z
UID:3626-1574017200-1574020800@encuentroysolidaridad.net
SUMMARY:Granada. La Cruz de Lampedusa: de la vergüenza al encuentro solidario
DESCRIPTION:
URL:https://encuentroysolidaridad.net/event/granada-la-cruz-de-lampedusa-de-la-verguenza-al-encuentro-solidario/
CATEGORIES:Actos de Encuentro y Solidaridad
ATTACH;FMTTYPE=image/jpeg:https://encuentroysolidaridad.net/wp-content/uploads/2019/10/Verguenza.jpeg
END:VEVENT
BEGIN:VEVENT
DTSTART;TZID=Europe/Paris:20191121T190000
DTEND;TZID=Europe/Paris:20191122T210000
DTSTAMP:20260422T130716
CREATED:20191106T091126Z
LAST-MODIFIED:20210519T183049Z
UID:3610-1574362800-1574456400@encuentroysolidaridad.net
SUMMARY:Burgos. Jornadas Don Felipe López
DESCRIPTION:
URL:https://encuentroysolidaridad.net/event/burgos-jornadas-don-felipe-lopez/
CATEGORIES:Actos de Encuentro y Solidaridad
ATTACH;FMTTYPE=image/jpeg:https://encuentroysolidaridad.net/wp-content/uploads/2019/11/Felipe-López.jpg
END:VEVENT
END:VCALENDAR