BEGIN:VCALENDAR
VERSION:2.0
PRODID:-//Encuentro y solidaridad - ECPv6.15.11//NONSGML v1.0//EN
CALSCALE:GREGORIAN
METHOD:PUBLISH
X-WR-CALNAME:Encuentro y solidaridad
X-ORIGINAL-URL:https://encuentroysolidaridad.net
X-WR-CALDESC:Eventos para Encuentro y solidaridad
REFRESH-INTERVAL;VALUE=DURATION:PT1H
X-Robots-Tag:noindex
X-PUBLISHED-TTL:PT1H
BEGIN:VTIMEZONE
TZID:Europe/Paris
BEGIN:DAYLIGHT
TZOFFSETFROM:+0100
TZOFFSETTO:+0200
TZNAME:CEST
DTSTART:20160327T010000
END:DAYLIGHT
BEGIN:STANDARD
TZOFFSETFROM:+0200
TZOFFSETTO:+0100
TZNAME:CET
DTSTART:20161030T010000
END:STANDARD
BEGIN:DAYLIGHT
TZOFFSETFROM:+0100
TZOFFSETTO:+0200
TZNAME:CEST
DTSTART:20170326T010000
END:DAYLIGHT
BEGIN:STANDARD
TZOFFSETFROM:+0200
TZOFFSETTO:+0100
TZNAME:CET
DTSTART:20171029T010000
END:STANDARD
BEGIN:DAYLIGHT
TZOFFSETFROM:+0100
TZOFFSETTO:+0200
TZNAME:CEST
DTSTART:20180325T010000
END:DAYLIGHT
BEGIN:STANDARD
TZOFFSETFROM:+0200
TZOFFSETTO:+0100
TZNAME:CET
DTSTART:20181028T010000
END:STANDARD
BEGIN:DAYLIGHT
TZOFFSETFROM:+0100
TZOFFSETTO:+0200
TZNAME:CEST
DTSTART:20190331T010000
END:DAYLIGHT
BEGIN:STANDARD
TZOFFSETFROM:+0200
TZOFFSETTO:+0100
TZNAME:CET
DTSTART:20191027T010000
END:STANDARD
END:VTIMEZONE
BEGIN:VEVENT
DTSTART;TZID=Europe/Paris:20180521T193000
DTEND;TZID=Europe/Paris:20180521T200000
DTSTAMP:20260423T005320
CREATED:20180517T062514Z
LAST-MODIFIED:20210519T183240Z
UID:1027-1526931000-1526932800@encuentroysolidaridad.net
SUMMARY:Madrid: Oración con la Cruz de Lampedusa
DESCRIPTION:Hecha con los restos de las barcazas que naufragaron en la costa italiana en octubre de 2013 y que dejaron 366 migrantes fallecidos\, la Cruz de Lampedusa está recorriendo el mundo por expreso deseo del papa Francisco\, que quiere hacer visible de este modo el drama de la inmigración irregular. \n \n 
URL:https://encuentroysolidaridad.net/event/madrid-oracion-con-la-cruz-de-lampedusa/
LOCATION:Madrid. Casa Cultura y Encuentro\, C/ Polvoranca\, 19 bis\, Madrid\, Madrid\, 28044\, España
CATEGORIES:Actos de Encuentro y Solidaridad
ATTACH;FMTTYPE=image/jpeg:https://encuentroysolidaridad.net/wp-content/uploads/2018/05/CruzCristoDesamparado.jpg
END:VEVENT
BEGIN:VEVENT
DTSTART;TZID=Europe/Paris:20180519T110000
DTEND;TZID=Europe/Paris:20180519T130000
DTSTAMP:20260423T005320
CREATED:20180417T144246Z
LAST-MODIFIED:20210519T183240Z
UID:348-1526727600-1526734800@encuentroysolidaridad.net
SUMMARY:Madrid: Ciclo Repensando la Familia
DESCRIPTION:
URL:https://encuentroysolidaridad.net/event/madrid-ciclo-repensando-la-familia-encuentro-sabado-19-de-mayo-de-11-a-13-horas/
LOCATION:Madrid. Casa Cultura y Encuentro\, C/ Polvoranca\, 19 bis\, Madrid\, Madrid\, 28044\, España
CATEGORIES:Actos de Encuentro y Solidaridad
ATTACH;FMTTYPE=image/jpeg:https://encuentroysolidaridad.net/wp-content/uploads/2018/04/Familia.jpg
END:VEVENT
BEGIN:VEVENT
DTSTART;TZID=Europe/Paris:20180518T163000
DTEND;TZID=Europe/Paris:20180518T183000
DTSTAMP:20260423T005320
CREATED:20180515T133037Z
LAST-MODIFIED:20210519T183240Z
UID:1010-1526661000-1526668200@encuentroysolidaridad.net
SUMMARY:Oviedo: cine entre amigos
DESCRIPTION:Este viernes volvemos a tener «Cine entre amigos».\nUn episodio de las aventuras de Tom y Jerry y dos cortos muy interesantes. «El juego de Gery» una bonita forma de superar la soledad y «Lou» una lección para un abusón. \nComo siempre los niños pueden traer chuches para compartir y después jugaremos y habrá alguna manualidad.
URL:https://encuentroysolidaridad.net/event/oviedo-cine-entre-amigos-2/
LOCATION:Oviedo. Casa Cultura y Encuentro\, C/ Ciudades Unidas\, Oviedo\, 33011\, España
CATEGORIES:Actos de Encuentro y Solidaridad
ATTACH;FMTTYPE=image/jpeg:https://encuentroysolidaridad.net/wp-content/uploads/2018/05/TomYJerry.jpg
END:VEVENT
BEGIN:VEVENT
DTSTART;TZID=Europe/Paris:20180511T190000
DTEND;TZID=Europe/Paris:20180511T213000
DTSTAMP:20260423T005320
CREATED:20180507T064725Z
LAST-MODIFIED:20210519T183240Z
UID:881-1526065200-1526074200@encuentroysolidaridad.net
SUMMARY:Madrid: Migrantes\, fronteras y solidaridad
DESCRIPTION:Diálogo entre amigos con Danyck Jessy Kayina y Ernesto G. Maleno\, organizado por la Asociación Juvenil SAL!
URL:https://encuentroysolidaridad.net/event/madrid-migrantes-fronteras-y-solidaridad/
LOCATION:Madrid. Casa Cultura y Encuentro\, C/ Polvoranca\, 19 bis\, Madrid\, Madrid\, 28044\, España
CATEGORIES:Actos de Encuentro y Solidaridad
ATTACH;FMTTYPE=image/jpeg:https://encuentroysolidaridad.net/wp-content/uploads/2018/05/Migrantes.jpg
END:VEVENT
BEGIN:VEVENT
DTSTART;TZID=Europe/Paris:20180426T190000
DTEND;TZID=Europe/Paris:20180428T220000
DTSTAMP:20260423T005320
CREATED:20180423T201738Z
LAST-MODIFIED:20210519T183240Z
UID:576-1524769200-1524952800@encuentroysolidaridad.net
SUMMARY:Las condiciones de vida de los trabajadores del textil en el mundo
DESCRIPTION:Tenemos la Gracia de tener en Murcia a Ehsan\, un hombre que ha liberado a cientos de niños esclavos de las fábricas del textil en Pakistán. Entre ellos a Iqbal Masih niño asesinado a los 12 años por su lucha contra la esclavitud infantil. Te invitamos a los dos actos públicos que tendremos en Murcia. Si lo crees conveniente invita a quién consideres oportuno. Gracias
URL:https://encuentroysolidaridad.net/event/las-condiciones-de-vida-de-los-trabajadores-del-textil-en-el-mundo/
CATEGORIES:Actos de Encuentro y Solidaridad
ATTACH;FMTTYPE=image/jpeg:https://encuentroysolidaridad.net/wp-content/uploads/2018/04/2018-04-28_ES-MU.jpeg
END:VEVENT
BEGIN:VEVENT
DTSTART;TZID=Europe/Paris:20180424T193000
DTEND;TZID=Europe/Paris:20180424T210000
DTSTAMP:20260423T005320
CREATED:20180413T164023Z
LAST-MODIFIED:20210519T183240Z
UID:317-1524598200-1524603600@encuentroysolidaridad.net
SUMMARY:Burgos: La lucha contra la esclavitud textil
DESCRIPTION:
URL:https://encuentroysolidaridad.net/event/burgos-la-lucha-contra-la-esclavitud-textil/
CATEGORIES:Actos de Encuentro y Solidaridad
ATTACH;FMTTYPE=image/jpeg:https://encuentroysolidaridad.net/wp-content/uploads/2018/04/2018-04-24_ULAKHAN2.jpg
END:VEVENT
BEGIN:VEVENT
DTSTART;TZID=Europe/Paris:20180424T190000
DTEND;TZID=Europe/Paris:20180424T203000
DTSTAMP:20260423T005320
CREATED:20180415T193833Z
LAST-MODIFIED:20210519T183240Z
UID:321-1524596400-1524601800@encuentroysolidaridad.net
SUMMARY:Pamplona: "Claves para entender la nueva carta del Papa Francisco"
DESCRIPTION:
URL:https://encuentroysolidaridad.net/event/pamplona-claves-para-entender-la-nueva-carta-del-papa-francisco/
CATEGORIES:Actos de Encuentro y Solidaridad
ATTACH;FMTTYPE=image/jpeg:https://encuentroysolidaridad.net/wp-content/uploads/2018/04/2018-04-24_ES-NAV.jpeg
END:VEVENT
BEGIN:VEVENT
DTSTART;TZID=Europe/Paris:20180424T093000
DTEND;TZID=Europe/Paris:20180424T110000
DTSTAMP:20260423T005320
CREATED:20180413T163904Z
LAST-MODIFIED:20210519T183240Z
UID:314-1524562200-1524567600@encuentroysolidaridad.net
SUMMARY:Burgos: La lucha contra la esclavitud textil – Universidad de Burgos
DESCRIPTION:
URL:https://encuentroysolidaridad.net/event/burgos-la-lucha-contra-la-esclavitud-textil-universidad-de-burgos/
CATEGORIES:Actos de Encuentro y Solidaridad
ATTACH;FMTTYPE=image/jpeg:https://encuentroysolidaridad.net/wp-content/uploads/2018/04/2018-04-24_ULAKHANubu.jpg
END:VEVENT
BEGIN:VEVENT
DTSTART;TZID=Europe/Paris:20180423T180000
DTEND;TZID=Europe/Paris:20180423T200000
DTSTAMP:20260423T005320
CREATED:20180404T175628Z
LAST-MODIFIED:20210519T183240Z
UID:301-1524506400-1524513600@encuentroysolidaridad.net
SUMMARY:Pamplona: ¿Es posible vivir la alegría en la enfermedad?
DESCRIPTION:
URL:https://encuentroysolidaridad.net/event/pamplona-es-posible-vivir-la-alegria-en-la-enfermedad/
CATEGORIES:Actos de Encuentro y Solidaridad
ATTACH;FMTTYPE=image/jpeg:https://encuentroysolidaridad.net/wp-content/uploads/2018/04/2018-04-23_ES-NAV.jpg
END:VEVENT
BEGIN:VEVENT
DTSTART;TZID=Europe/Paris:20180421T110000
DTEND;TZID=Europe/Paris:20180421T190000
DTSTAMP:20260423T005320
CREATED:20180404T175508Z
LAST-MODIFIED:20210519T183240Z
UID:298-1524308400-1524337200@encuentroysolidaridad.net
SUMMARY:Navarra: Con-Vivencia en la Cendea de Olza junto a las Carmelitas Descalzas
DESCRIPTION:
URL:https://encuentroysolidaridad.net/event/navarra-con-vivencia-en-la-cendea-de-olza-junto-a-las-carmelitas-descalzas/
CATEGORIES:Actos de Encuentro y Solidaridad
ATTACH;FMTTYPE=image/jpeg:https://encuentroysolidaridad.net/wp-content/uploads/2018/04/2018-04-21_ES-AV.jpg
END:VEVENT
BEGIN:VEVENT
DTSTART;TZID=Europe/Paris:20180420T180000
DTEND;TZID=Europe/Paris:20180420T200000
DTSTAMP:20260423T005320
CREATED:20180409T193710Z
LAST-MODIFIED:20210519T183253Z
UID:308-1524247200-1524254400@encuentroysolidaridad.net
SUMMARY:Canarias: Marcha Belén María - Camilo Sánchez "Juventud solidaria"
DESCRIPTION:
URL:https://encuentroysolidaridad.net/event/canarias-marcha-belen-maria-camilo-sanchez-juventud-solidaria/
CATEGORIES:Actos de Encuentro y Solidaridad
ATTACH;FMTTYPE=image/jpeg:https://encuentroysolidaridad.net/wp-content/uploads/2018/04/2018-04-20_ES_CAN.jpeg
END:VEVENT
BEGIN:VEVENT
DTSTART;TZID=Europe/Paris:20180420T163000
DTEND;TZID=Europe/Paris:20180420T183000
DTSTAMP:20260423T005320
CREATED:20180418T162358Z
LAST-MODIFIED:20210519T183253Z
UID:402-1524241800-1524249000@encuentroysolidaridad.net
SUMMARY:Oviedo: cine entre amigos "Robots"
DESCRIPTION:El viernes cine. Podéis traer chuches para compartir. Después juegos y una manualidad para celebrar el día del libro y el día contra la esclavitud infantil. ¡Lo pasaremos muy bien!
URL:https://encuentroysolidaridad.net/event/oviedo-cine-entre-amigos-robots/
CATEGORIES:Actos de Encuentro y Solidaridad
ATTACH;FMTTYPE=image/jpeg:https://encuentroysolidaridad.net/wp-content/uploads/2018/04/2018-04-20_ES-AST.jpg
END:VEVENT
BEGIN:VEVENT
DTSTART;TZID=Europe/Paris:20180415T170000
DTEND;TZID=Europe/Paris:20180415T200000
DTSTAMP:20260423T005320
CREATED:20180409T063533Z
LAST-MODIFIED:20210519T183253Z
UID:304-1523811600-1523822400@encuentroysolidaridad.net
SUMMARY:Madrid: jornada de reflexión sobre la explotación laboral
DESCRIPTION:Videofórum\, testimonios de explotación laboral y presentación de la acción «Jóvenes que luchan contra la esclavitud».\n16 de abril\, día mundial contra la esclavitud infantil
URL:https://encuentroysolidaridad.net/event/madrid-jornada-de-reflexion-sobre-la-explotacion-laboral/
LOCATION:Casa Emaús\, C/ Uceda\, 45\, Torremocha de Jarama\, Madrid\, 28189\, España
CATEGORIES:Actos de Encuentro y Solidaridad
ATTACH;FMTTYPE=image/jpeg:https://encuentroysolidaridad.net/wp-content/uploads/2018/04/2018-04-15_ES_MAD.jpeg
END:VEVENT
BEGIN:VEVENT
DTSTART;TZID=Europe/Paris:20180413T200000
DTEND;TZID=Europe/Paris:20180413T213000
DTSTAMP:20260423T005320
CREATED:20180327T143743Z
LAST-MODIFIED:20210519T183254Z
UID:272-1523649600-1523655000@encuentroysolidaridad.net
SUMMARY:Canarias: Cuando la justicia pisa pies descalzos
DESCRIPTION:
URL:https://encuentroysolidaridad.net/event/canarias-cuando-la-justicia-pisa-pies-descalzos/
CATEGORIES:Actos de Encuentro y Solidaridad
ATTACH;FMTTYPE=image/jpeg:https://encuentroysolidaridad.net/wp-content/uploads/2018/03/2018-04-13_ES-Canarias.jpeg
END:VEVENT
BEGIN:VEVENT
DTSTART;TZID=Europe/Paris:20180329T170000
DTEND;TZID=Europe/Paris:20180401T100000
DTSTAMP:20260423T005320
CREATED:20180323T200522Z
LAST-MODIFIED:20210519T183254Z
UID:268-1522342800-1522576800@encuentroysolidaridad.net
SUMMARY:Pascua juvenil
DESCRIPTION:
URL:https://encuentroysolidaridad.net/event/pascua-juvenil/
CATEGORIES:Actos de Encuentro y Solidaridad
ATTACH;FMTTYPE=image/jpeg:https://encuentroysolidaridad.net/wp-content/uploads/2018/03/Pascua.jpg
END:VEVENT
BEGIN:VEVENT
DTSTART;TZID=Europe/Paris:20180324T100000
DTEND;TZID=Europe/Paris:20180324T190000
DTSTAMP:20260423T005320
CREATED:20180327T144012Z
LAST-MODIFIED:20210519T183254Z
UID:276-1521885600-1521918000@encuentroysolidaridad.net
SUMMARY:Navarra: convivencia en el Santuario de San Miguel de Aralar
DESCRIPTION:Diálogo con Mikel Garciandía\, capellán del Santuario\nPorque necesitamos encontrarnos con otros\, dialogar sobre lo que de verdad importa\, porque cultivar la fe que nos mueve al compromiso merece la pena
URL:https://encuentroysolidaridad.net/event/navarra-convivencia-en-el-santuario-de-san-miguel-de-aralar/
CATEGORIES:Actos de Encuentro y Solidaridad
ATTACH;FMTTYPE=image/jpeg:https://encuentroysolidaridad.net/wp-content/uploads/2018/03/2018-04-03_ES-Nav.jpg
END:VEVENT
BEGIN:VEVENT
DTSTART;TZID=Europe/Paris:20180303T170000
DTEND;TZID=Europe/Paris:20180303T193000
DTSTAMP:20260423T005320
CREATED:20180327T144731Z
LAST-MODIFIED:20210519T183254Z
UID:282-1520096400-1520105400@encuentroysolidaridad.net
SUMMARY:Madrid: Taller de técnicas de estudio para estudiantes y padres
DESCRIPTION:Impartido por psicólogos\, educadores y estudiantes
URL:https://encuentroysolidaridad.net/event/madrid-taller-de-tecnicas-de-estudio-para-estudiantes-y-padres/
CATEGORIES:Actos de Encuentro y Solidaridad
ATTACH;FMTTYPE=image/jpeg:https://encuentroysolidaridad.net/wp-content/uploads/2018/03/2018-03-03_ES-MAD.jpg
END:VEVENT
BEGIN:VEVENT
DTSTART;TZID=Europe/Paris:20180302T163000
DTEND;TZID=Europe/Paris:20180302T183000
DTSTAMP:20260423T005320
CREATED:20180327T144200Z
LAST-MODIFIED:20210519T183254Z
UID:279-1520008200-1520015400@encuentroysolidaridad.net
SUMMARY:Oviedo: cine entre amigos
DESCRIPTION:Este viernes vuelve a haber cine. Una peli de Popeye y un corto: «La luna». \nLos chicos pueden traer chuches para compartir\, después haremos juegos y manualidades. \nOs esperamos para pasarlo bien.
URL:https://encuentroysolidaridad.net/event/oviedo-cine-entre-amigos/
CATEGORIES:Actos de Encuentro y Solidaridad
ATTACH;FMTTYPE=image/jpeg:https://encuentroysolidaridad.net/wp-content/uploads/2018/03/2018-03-02_ES-AST.jpg
END:VEVENT
BEGIN:VEVENT
DTSTART;TZID=Europe/Paris:20180227T110000
DTEND;TZID=Europe/Paris:20180227T213000
DTSTAMP:20260423T005320
CREATED:20180209T084157Z
LAST-MODIFIED:20210519T183254Z
UID:247-1519729200-1519767000@encuentroysolidaridad.net
SUMMARY:Madrid: Militantes obreros cristianos (homenaje)
DESCRIPTION:Encuentro y Solidaridad organiza un homenaje a Guillermo Rovirosa (en proceso de beatificación) y Julián Gómez del Castillo. Tendrá lugar el próximo 27 de febrero\, martes\, fecha en la que se celebra el aniversario de la muerte de Rovirosa. \nComenzará a las 11:00 horas con una oración y ofrenda floral a Guillermo Rovirosa en el cementerio de la Almudena. A las 12:00 horas\, en el Cementerio Sur\, oración y ofrenda floral a Julián Gómez del Castillo y su esposa Trini. \nPor la tarde\, los actos se desarrollarán en la parroquia San Pedro Apóstol (Plaza Seis de Diciembre\, 1)\, de Carabanchel\, con el siguiente horario: \n\n19:00 horas. Misa de acción de gracias por Guillermo Rovirosa.\n19:30 horas. Testimonio: Qué le dice Rovirosa hoy a una familia joven. Por Judit Campos y Ernesto Calleja\, matrimonio militante cristiano.\n20:00 horas. Merienda compartida.\n\n  \nDurante el acto\, habrá aula infantil .
URL:https://encuentroysolidaridad.net/event/madrid-militantes-obreros-cristiano-homenaje/
CATEGORIES:Actos de Encuentro y Solidaridad
ATTACH;FMTTYPE=image/jpeg:https://encuentroysolidaridad.net/wp-content/uploads/2018/02/2018-02-27_ES-Mad_Homenaje.jpg
END:VEVENT
BEGIN:VEVENT
DTSTART;TZID=Europe/Paris:20180224T120000
DTEND;TZID=Europe/Paris:20180224T140000
DTSTAMP:20260423T005320
CREATED:20180214T171318Z
LAST-MODIFIED:20210519T183254Z
UID:254-1519473600-1519480800@encuentroysolidaridad.net
SUMMARY:Pamplona: marcha con la Cruz de Lampedusa
DESCRIPTION:
URL:https://encuentroysolidaridad.net/event/pamplona-marcha-la-cruz-lampedusa/
CATEGORIES:Actos de Encuentro y Solidaridad
ATTACH;FMTTYPE=image/jpeg:https://encuentroysolidaridad.net/wp-content/uploads/2018/02/2018-02-24_ES-Nav.jpeg
END:VEVENT
BEGIN:VEVENT
DTSTART;TZID=Europe/Paris:20180219T193000
DTEND;TZID=Europe/Paris:20180219T213000
DTSTAMP:20260423T005320
CREATED:20180327T153237Z
LAST-MODIFIED:20210519T183254Z
UID:285-1519068600-1519075800@encuentroysolidaridad.net
SUMMARY:Canarias: La familia hoy
DESCRIPTION:Estudio en Las Palmas de Gran Canaria\, con Antonio Melián y Fernando Canellada
URL:https://encuentroysolidaridad.net/event/canarias-la-familia-hoy/
CATEGORIES:Actos de Encuentro y Solidaridad
ATTACH;FMTTYPE=image/jpeg:https://encuentroysolidaridad.net/wp-content/uploads/2018/03/2018-02-19_ES_CAN.jpeg
END:VEVENT
BEGIN:VEVENT
DTSTART;TZID=Europe/Paris:20180216T190000
DTEND;TZID=Europe/Paris:20180216T203000
DTSTAMP:20260423T005320
CREATED:20180207T190607Z
LAST-MODIFIED:20210519T183254Z
UID:244-1518807600-1518813000@encuentroysolidaridad.net
SUMMARY:Granada: "Emigrantes: Nuevo rostro del racismo"
DESCRIPTION:
URL:https://encuentroysolidaridad.net/event/granada-emigrantes-nuevo-rostro-del-racismo/
CATEGORIES:Actos de Encuentro y Solidaridad
ATTACH;FMTTYPE=image/jpeg:https://encuentroysolidaridad.net/wp-content/uploads/2018/02/catel-tertulia-16-2-2018.jpg
END:VEVENT
BEGIN:VEVENT
DTSTART;TZID=Europe/Paris:20180216T163000
DTEND;TZID=Europe/Paris:20180216T183000
DTSTAMP:20260423T005320
CREATED:20180215T212130Z
LAST-MODIFIED:20210519T183254Z
UID:261-1518798600-1518805800@encuentroysolidaridad.net
SUMMARY:Oviedo: cine entre amigos
DESCRIPTION:
URL:https://encuentroysolidaridad.net/event/oviedo-cine-amigos/
CATEGORIES:Actos de Encuentro y Solidaridad
ATTACH;FMTTYPE=image/jpeg:https://encuentroysolidaridad.net/wp-content/uploads/2018/02/2018-02-16_ES-AST.jpg
END:VEVENT
BEGIN:VEVENT
DTSTART;VALUE=DATE:20180216
DTEND;VALUE=DATE:20180305
DTSTAMP:20260423T005320
CREATED:20180131T182748Z
LAST-MODIFIED:20210519T183254Z
UID:232-1518739200-1520207999@encuentroysolidaridad.net
SUMMARY:Navarra: Cruz de Lampedusa
DESCRIPTION:
URL:https://encuentroysolidaridad.net/event/navarra-cruz-lampedusa-2/
CATEGORIES:Actos de Encuentro y Solidaridad
ATTACH;FMTTYPE=image/jpeg:https://encuentroysolidaridad.net/wp-content/uploads/2018/01/2018-02_ES_Nav.jpg
END:VEVENT
BEGIN:VEVENT
DTSTART;TZID=Europe/Paris:20180210T180000
DTEND;TZID=Europe/Paris:20180210T200000
DTSTAMP:20260423T005320
CREATED:20180204T205938Z
LAST-MODIFIED:20210519T183254Z
UID:237-1518285600-1518292800@encuentroysolidaridad.net
SUMMARY:Navarra. Tarde de encuentro y solidaridad con la Cruz de Lampedusa
DESCRIPTION:
URL:https://encuentroysolidaridad.net/event/navarra-tarde-encuentro-solidaridad-la-cruz-lampedusa/
LOCATION:Navarra. Casa Cultura y Encuentro\, Calle Sangüesa (frente Nº 33)\, Pamplona\, Navarra\, España
CATEGORIES:Actos de Encuentro y Solidaridad
ATTACH;FMTTYPE=image/jpeg:https://encuentroysolidaridad.net/wp-content/uploads/2018/02/2018-02-10_ES-NAV-CruzLampedusa.jpg
END:VEVENT
BEGIN:VEVENT
DTSTART;VALUE=DATE:20180210
DTEND;VALUE=DATE:20180212
DTSTAMP:20260423T005320
CREATED:20180131T101649Z
LAST-MODIFIED:20210519T183254Z
UID:227-1518220800-1518393599@encuentroysolidaridad.net
SUMMARY:Madrid. Vocación  profesional (convivencia jóvenes)
DESCRIPTION:
URL:https://encuentroysolidaridad.net/event/madrid-vocacion-profesional-convivencia-jovenes/
LOCATION:Casa Emaús\, C/ Uceda\, 45\, Torremocha de Jarama\, Madrid\, 28189\, España
CATEGORIES:Actos de Encuentro y Solidaridad
ATTACH;FMTTYPE=image/jpeg:https://encuentroysolidaridad.net/wp-content/uploads/2018/01/2018-02-11_Jovenes-01.jpg
END:VEVENT
BEGIN:VEVENT
DTSTART;TZID=Europe/Paris:20180207T190000
DTEND;TZID=Europe/Paris:20180417T210000
DTSTAMP:20260423T005320
CREATED:20180327T154730Z
LAST-MODIFIED:20210519T183254Z
UID:290-1518030000-1523998800@encuentroysolidaridad.net
SUMMARY:Canarias: Inglés básico II
DESCRIPTION:Junto con la asociación «El patio de las culturas»
URL:https://encuentroysolidaridad.net/event/canarias-ingles-basico-ii/
CATEGORIES:Actos de Encuentro y Solidaridad
ATTACH;FMTTYPE=image/jpeg:https://encuentroysolidaridad.net/wp-content/uploads/2018/03/2018-02-07_ES-CAN.jpeg
END:VEVENT
BEGIN:VEVENT
DTSTART;TZID=Europe/Paris:20180131T190000
DTEND;TZID=Europe/Paris:20180131T210000
DTSTAMP:20260423T005320
CREATED:20180123T151427Z
LAST-MODIFIED:20210519T183254Z
UID:220-1517425200-1517432400@encuentroysolidaridad.net
SUMMARY:Canarias: Día de la paz en la Casa Encuentro y Solidaridad
DESCRIPTION:
URL:https://encuentroysolidaridad.net/event/canarias-dia-la-paz-la-casa-encuentro-solidaridad/
CATEGORIES:Actos de Encuentro y Solidaridad
ATTACH;FMTTYPE=image/jpeg:https://encuentroysolidaridad.net/wp-content/uploads/2018/01/DIaPaz.jpg
END:VEVENT
BEGIN:VEVENT
DTSTART;VALUE=DATE:20180107
DTEND;VALUE=DATE:20180130
DTSTAMP:20260423T005320
CREATED:20180126T102122Z
LAST-MODIFIED:20210519T183254Z
UID:222-1515283200-1517270399@encuentroysolidaridad.net
SUMMARY:Navarra: Cruz de Lampedusa
DESCRIPTION:
URL:https://encuentroysolidaridad.net/event/navarra-cruz-lampedusa/
CATEGORIES:Actos de Encuentro y Solidaridad
ATTACH;FMTTYPE=image/jpeg:https://encuentroysolidaridad.net/wp-content/uploads/2018/01/2018-01_ES-Navarra_CruzLampedusa2.jpeg
END:VEVENT
BEGIN:VEVENT
DTSTART;TZID=Europe/Paris:20171216T110000
DTEND;TZID=Europe/Paris:20171216T130000
DTSTAMP:20260423T005320
CREATED:20180327T155231Z
LAST-MODIFIED:20210519T183254Z
UID:293-1513422000-1513429200@encuentroysolidaridad.net
SUMMARY:Madrid: Taller de adornos navideños
DESCRIPTION:Las NavidadES… Un espacio privilegiado para el encuentro y la solidaridad.\nTe invitamos a compartir este momento junto a nosotros. Y a poner juntos el Belén.\nSi te interesa no olvides avisarnos para poder preparar material.
URL:https://encuentroysolidaridad.net/event/madrid-taller-de-adornos-navidenos/
CATEGORIES:Actos de Encuentro y Solidaridad
ATTACH;FMTTYPE=image/jpeg:https://encuentroysolidaridad.net/wp-content/uploads/2017/12/2017-12-16_ES-Madrid.jpg
END:VEVENT
END:VCALENDAR