BEGIN:VCALENDAR
VERSION:2.0
PRODID:-//Encuentro y solidaridad - ECPv6.15.11//NONSGML v1.0//EN
CALSCALE:GREGORIAN
METHOD:PUBLISH
X-WR-CALNAME:Encuentro y solidaridad
X-ORIGINAL-URL:https://encuentroysolidaridad.net
X-WR-CALDESC:Eventos para Encuentro y solidaridad
REFRESH-INTERVAL;VALUE=DURATION:PT1H
X-Robots-Tag:noindex
X-PUBLISHED-TTL:PT1H
BEGIN:VTIMEZONE
TZID:Europe/Paris
BEGIN:DAYLIGHT
TZOFFSETFROM:+0100
TZOFFSETTO:+0200
TZNAME:CEST
DTSTART:20160327T010000
END:DAYLIGHT
BEGIN:STANDARD
TZOFFSETFROM:+0200
TZOFFSETTO:+0100
TZNAME:CET
DTSTART:20161030T010000
END:STANDARD
BEGIN:DAYLIGHT
TZOFFSETFROM:+0100
TZOFFSETTO:+0200
TZNAME:CEST
DTSTART:20170326T010000
END:DAYLIGHT
BEGIN:STANDARD
TZOFFSETFROM:+0200
TZOFFSETTO:+0100
TZNAME:CET
DTSTART:20171029T010000
END:STANDARD
BEGIN:DAYLIGHT
TZOFFSETFROM:+0100
TZOFFSETTO:+0200
TZNAME:CEST
DTSTART:20180325T010000
END:DAYLIGHT
BEGIN:STANDARD
TZOFFSETFROM:+0200
TZOFFSETTO:+0100
TZNAME:CET
DTSTART:20181028T010000
END:STANDARD
END:VTIMEZONE
BEGIN:VEVENT
DTSTART;TZID=Europe/Paris:20171211T200000
DTEND;TZID=Europe/Paris:20171211T213000
DTSTAMP:20260423T122616
CREATED:20171210T162956Z
LAST-MODIFIED:20210519T183403Z
UID:153-1513022400-1513027800@encuentroysolidaridad.net
SUMMARY:Leyendo a Rovirosa
DESCRIPTION:En Zaragoza. Sobre Rovirosa. Encuentro y Solidaridad… \n 
URL:https://encuentroysolidaridad.net/event/leyendo-a-rovirosa/
CATEGORIES:Actos de Encuentro y Solidaridad
ATTACH;FMTTYPE=image/jpeg:https://encuentroysolidaridad.net/wp-content/uploads/2017/12/2017-12-11_ES-ZGZ.jpg
END:VEVENT
BEGIN:VEVENT
DTSTART;TZID=Europe/Paris:20171216T110000
DTEND;TZID=Europe/Paris:20171216T130000
DTSTAMP:20260423T122616
CREATED:20180327T155231Z
LAST-MODIFIED:20210519T183254Z
UID:293-1513422000-1513429200@encuentroysolidaridad.net
SUMMARY:Madrid: Taller de adornos navideños
DESCRIPTION:Las NavidadES… Un espacio privilegiado para el encuentro y la solidaridad.\nTe invitamos a compartir este momento junto a nosotros. Y a poner juntos el Belén.\nSi te interesa no olvides avisarnos para poder preparar material.
URL:https://encuentroysolidaridad.net/event/madrid-taller-de-adornos-navidenos/
CATEGORIES:Actos de Encuentro y Solidaridad
ATTACH;FMTTYPE=image/jpeg:https://encuentroysolidaridad.net/wp-content/uploads/2017/12/2017-12-16_ES-Madrid.jpg
END:VEVENT
END:VCALENDAR