BEGIN:VCALENDAR
VERSION:2.0
PRODID:-//Encuentro y solidaridad - ECPv6.15.11//NONSGML v1.0//EN
CALSCALE:GREGORIAN
METHOD:PUBLISH
X-ORIGINAL-URL:https://encuentroysolidaridad.net
X-WR-CALDESC:Eventos para Encuentro y solidaridad
REFRESH-INTERVAL;VALUE=DURATION:PT1H
X-Robots-Tag:noindex
X-PUBLISHED-TTL:PT1H
BEGIN:VTIMEZONE
TZID:Europe/Paris
BEGIN:DAYLIGHT
TZOFFSETFROM:+0100
TZOFFSETTO:+0200
TZNAME:CEST
DTSTART:20170326T010000
END:DAYLIGHT
BEGIN:STANDARD
TZOFFSETFROM:+0200
TZOFFSETTO:+0100
TZNAME:CET
DTSTART:20171029T010000
END:STANDARD
BEGIN:DAYLIGHT
TZOFFSETFROM:+0100
TZOFFSETTO:+0200
TZNAME:CEST
DTSTART:20180325T010000
END:DAYLIGHT
BEGIN:STANDARD
TZOFFSETFROM:+0200
TZOFFSETTO:+0100
TZNAME:CET
DTSTART:20181028T010000
END:STANDARD
BEGIN:DAYLIGHT
TZOFFSETFROM:+0100
TZOFFSETTO:+0200
TZNAME:CEST
DTSTART:20190331T010000
END:DAYLIGHT
BEGIN:STANDARD
TZOFFSETFROM:+0200
TZOFFSETTO:+0100
TZNAME:CET
DTSTART:20191027T010000
END:STANDARD
END:VTIMEZONE
BEGIN:VEVENT
DTSTART;TZID=Europe/Paris:20180207T190000
DTEND;TZID=Europe/Paris:20180417T210000
DTSTAMP:20260423T083854
CREATED:20180327T154730Z
LAST-MODIFIED:20210519T183254Z
UID:290-1518030000-1523998800@encuentroysolidaridad.net
SUMMARY:Canarias: Inglés básico II
DESCRIPTION:Junto con la asociación «El patio de las culturas»
URL:https://encuentroysolidaridad.net/event/canarias-ingles-basico-ii/
CATEGORIES:Actos de Encuentro y Solidaridad
ATTACH;FMTTYPE=image/jpeg:https://encuentroysolidaridad.net/wp-content/uploads/2018/03/2018-02-07_ES-CAN.jpeg
END:VEVENT
BEGIN:VEVENT
DTSTART;VALUE=DATE:20180216
DTEND;VALUE=DATE:20180305
DTSTAMP:20260423T083854
CREATED:20180131T182748Z
LAST-MODIFIED:20210519T183254Z
UID:232-1518739200-1520207999@encuentroysolidaridad.net
SUMMARY:Navarra: Cruz de Lampedusa
DESCRIPTION:
URL:https://encuentroysolidaridad.net/event/navarra-cruz-lampedusa-2/
CATEGORIES:Actos de Encuentro y Solidaridad
ATTACH;FMTTYPE=image/jpeg:https://encuentroysolidaridad.net/wp-content/uploads/2018/01/2018-02_ES_Nav.jpg
END:VEVENT
BEGIN:VEVENT
DTSTART;TZID=Europe/Paris:20180302T163000
DTEND;TZID=Europe/Paris:20180302T183000
DTSTAMP:20260423T083854
CREATED:20180327T144200Z
LAST-MODIFIED:20210519T183254Z
UID:279-1520008200-1520015400@encuentroysolidaridad.net
SUMMARY:Oviedo: cine entre amigos
DESCRIPTION:Este viernes vuelve a haber cine. Una peli de Popeye y un corto: «La luna». \nLos chicos pueden traer chuches para compartir\, después haremos juegos y manualidades. \nOs esperamos para pasarlo bien.
URL:https://encuentroysolidaridad.net/event/oviedo-cine-entre-amigos/
CATEGORIES:Actos de Encuentro y Solidaridad
ATTACH;FMTTYPE=image/jpeg:https://encuentroysolidaridad.net/wp-content/uploads/2018/03/2018-03-02_ES-AST.jpg
END:VEVENT
BEGIN:VEVENT
DTSTART;TZID=Europe/Paris:20180303T170000
DTEND;TZID=Europe/Paris:20180303T193000
DTSTAMP:20260423T083854
CREATED:20180327T144731Z
LAST-MODIFIED:20210519T183254Z
UID:282-1520096400-1520105400@encuentroysolidaridad.net
SUMMARY:Madrid: Taller de técnicas de estudio para estudiantes y padres
DESCRIPTION:Impartido por psicólogos\, educadores y estudiantes
URL:https://encuentroysolidaridad.net/event/madrid-taller-de-tecnicas-de-estudio-para-estudiantes-y-padres/
CATEGORIES:Actos de Encuentro y Solidaridad
ATTACH;FMTTYPE=image/jpeg:https://encuentroysolidaridad.net/wp-content/uploads/2018/03/2018-03-03_ES-MAD.jpg
END:VEVENT
BEGIN:VEVENT
DTSTART;TZID=Europe/Paris:20180324T100000
DTEND;TZID=Europe/Paris:20180324T190000
DTSTAMP:20260423T083854
CREATED:20180327T144012Z
LAST-MODIFIED:20210519T183254Z
UID:276-1521885600-1521918000@encuentroysolidaridad.net
SUMMARY:Navarra: convivencia en el Santuario de San Miguel de Aralar
DESCRIPTION:Diálogo con Mikel Garciandía\, capellán del Santuario\nPorque necesitamos encontrarnos con otros\, dialogar sobre lo que de verdad importa\, porque cultivar la fe que nos mueve al compromiso merece la pena
URL:https://encuentroysolidaridad.net/event/navarra-convivencia-en-el-santuario-de-san-miguel-de-aralar/
CATEGORIES:Actos de Encuentro y Solidaridad
ATTACH;FMTTYPE=image/jpeg:https://encuentroysolidaridad.net/wp-content/uploads/2018/03/2018-04-03_ES-Nav.jpg
END:VEVENT
BEGIN:VEVENT
DTSTART;TZID=Europe/Paris:20180329T170000
DTEND;TZID=Europe/Paris:20180401T100000
DTSTAMP:20260423T083854
CREATED:20180323T200522Z
LAST-MODIFIED:20210519T183254Z
UID:268-1522342800-1522576800@encuentroysolidaridad.net
SUMMARY:Pascua juvenil
DESCRIPTION:
URL:https://encuentroysolidaridad.net/event/pascua-juvenil/
CATEGORIES:Actos de Encuentro y Solidaridad
ATTACH;FMTTYPE=image/jpeg:https://encuentroysolidaridad.net/wp-content/uploads/2018/03/Pascua.jpg
END:VEVENT
END:VCALENDAR