BEGIN:VCALENDAR
VERSION:2.0
PRODID:-//Encuentro y solidaridad - ECPv6.15.11//NONSGML v1.0//EN
CALSCALE:GREGORIAN
METHOD:PUBLISH
X-ORIGINAL-URL:https://encuentroysolidaridad.net
X-WR-CALDESC:Eventos para Encuentro y solidaridad
REFRESH-INTERVAL;VALUE=DURATION:PT1H
X-Robots-Tag:noindex
X-PUBLISHED-TTL:PT1H
BEGIN:VTIMEZONE
TZID:Europe/Paris
BEGIN:DAYLIGHT
TZOFFSETFROM:+0100
TZOFFSETTO:+0200
TZNAME:CEST
DTSTART:20170326T010000
END:DAYLIGHT
BEGIN:STANDARD
TZOFFSETFROM:+0200
TZOFFSETTO:+0100
TZNAME:CET
DTSTART:20171029T010000
END:STANDARD
BEGIN:DAYLIGHT
TZOFFSETFROM:+0100
TZOFFSETTO:+0200
TZNAME:CEST
DTSTART:20180325T010000
END:DAYLIGHT
BEGIN:STANDARD
TZOFFSETFROM:+0200
TZOFFSETTO:+0100
TZNAME:CET
DTSTART:20181028T010000
END:STANDARD
BEGIN:DAYLIGHT
TZOFFSETFROM:+0100
TZOFFSETTO:+0200
TZNAME:CEST
DTSTART:20190331T010000
END:DAYLIGHT
BEGIN:STANDARD
TZOFFSETFROM:+0200
TZOFFSETTO:+0100
TZNAME:CET
DTSTART:20191027T010000
END:STANDARD
END:VTIMEZONE
BEGIN:VEVENT
DTSTART;TZID=Europe/Paris:20180601T163000
DTEND;TZID=Europe/Paris:20180601T183000
DTSTAMP:20260423T040558
CREATED:20180529T064507Z
LAST-MODIFIED:20210519T183240Z
UID:1101-1527870600-1527877800@encuentroysolidaridad.net
SUMMARY:Oviedo: Cine entre amigos
DESCRIPTION:Tarde de cine y juegos en la Casa Encuentro y Solidaridad de Oviedo. Este viernes veremos «Norman del Norte»
URL:https://encuentroysolidaridad.net/event/oviedo-cine-entre-amigos-3/
LOCATION:Oviedo. Casa Cultura y Encuentro\, C/ Ciudades Unidas\, Oviedo\, 33011\, España
CATEGORIES:Actos de Encuentro y Solidaridad
ATTACH;FMTTYPE=image/jpeg:https://encuentroysolidaridad.net/wp-content/uploads/2018/05/Cine.jpg
END:VEVENT
BEGIN:VEVENT
DTSTART;TZID=Europe/Paris:20180602T120000
DTEND;TZID=Europe/Paris:20180602T180000
DTSTAMP:20260423T040558
CREATED:20180518T090159Z
LAST-MODIFIED:20210519T183239Z
UID:1038-1527940800-1527962400@encuentroysolidaridad.net
SUMMARY:Madrid: ITV familiar
DESCRIPTION:Algunas de las formas de manejar los defectos del otro requieren aprender a distinguir los conflictos solubles e irresolubles y las diferentes formas de abordar unos y otros\, establecer un sólido sistema de admiración en el matrimonio\, desarrollar un planteamiento amable en la relación y compartir un propósito común. ¿Cómo hacerlo? Ése es el objetivo de la ITV familiar: compartir y aprender juntos. Se trata de proporcionar un espacio y un tiempo para escucharse mutuamente\, contemplar juntos las dinámicas de la familia y trabajar para mejorarlas. Los participantes pueden preservar su intimidad durante toda la ITV y compartir aquellos aspectos que deseen.
URL:https://encuentroysolidaridad.net/event/madrid-itv-familiar/
LOCATION:Madrid. Casa Cultura y Encuentro\, C/ Polvoranca\, 19 bis\, Madrid\, Madrid\, 28044\, España
CATEGORIES:Actos de Encuentro y Solidaridad
ATTACH;FMTTYPE=image/jpeg:https://encuentroysolidaridad.net/wp-content/uploads/2018/05/FamiliaLupa.jpg
END:VEVENT
BEGIN:VEVENT
DTSTART;TZID=Europe/Paris:20180602T190000
DTEND;TZID=Europe/Paris:20180602T203000
DTSTAMP:20260423T040558
CREATED:20180526T081813Z
LAST-MODIFIED:20210519T183239Z
UID:1097-1527966000-1527971400@encuentroysolidaridad.net
SUMMARY:Murcia: claves para entender la nueva carta del Papa Francisco
DESCRIPTION:
URL:https://encuentroysolidaridad.net/event/murcia-claves-para-entender-la-nueva-carta-del-papa-francisco/
CATEGORIES:Actos de Encuentro y Solidaridad
ATTACH;FMTTYPE=image/jpeg:https://encuentroysolidaridad.net/wp-content/uploads/2018/05/Gaudete6.jpg
END:VEVENT
BEGIN:VEVENT
DTSTART;TZID=Europe/Paris:20180621T190000
DTEND;TZID=Europe/Paris:20180621T210000
DTSTAMP:20260423T040558
CREATED:20180618T062500Z
LAST-MODIFIED:20210519T183239Z
UID:1114-1529607600-1529614800@encuentroysolidaridad.net
SUMMARY:Madrid:  tertulia sobre la eutanasia
DESCRIPTION:A principios de mayo el Partido Socialista registró en el Congreso de los Diputados su Proposición de Ley para legalizar la eutanasia. \nCon este motivo\, la Casa de Encuentro y Solidaridad (c/ Joaquín Turina 20 – metro Carabanchel Alto) acogerá una tertulia con el tema Eutanasia. ¿Seducidos por la muerte?. \nProgramada para el jueves 21 de junio\, será moderada por Álvaro Gándara\, coordinador de la Unidad de Cuidados paliativos de la Fundación Jiménez Díaz\, a partir de las 19:00 horas.
URL:https://encuentroysolidaridad.net/event/madrid-tertulia-sobre-la-eutanasia/
LOCATION:Madrid. Casa Cultura y Encuentro\, C/ Polvoranca\, 19 bis\, Madrid\, Madrid\, 28044\, España
CATEGORIES:Actos de Encuentro y Solidaridad
ATTACH;FMTTYPE=image/jpeg:https://encuentroysolidaridad.net/wp-content/uploads/2018/06/Manos.jpg
END:VEVENT
END:VCALENDAR