BEGIN:VCALENDAR
VERSION:2.0
PRODID:-//Encuentro y solidaridad - ECPv6.15.11//NONSGML v1.0//EN
CALSCALE:GREGORIAN
METHOD:PUBLISH
X-ORIGINAL-URL:https://encuentroysolidaridad.net
X-WR-CALDESC:Eventos para Encuentro y solidaridad
REFRESH-INTERVAL;VALUE=DURATION:PT1H
X-Robots-Tag:noindex
X-PUBLISHED-TTL:PT1H
BEGIN:VTIMEZONE
TZID:Europe/Paris
BEGIN:DAYLIGHT
TZOFFSETFROM:+0100
TZOFFSETTO:+0200
TZNAME:CEST
DTSTART:20170326T010000
END:DAYLIGHT
BEGIN:STANDARD
TZOFFSETFROM:+0200
TZOFFSETTO:+0100
TZNAME:CET
DTSTART:20171029T010000
END:STANDARD
BEGIN:DAYLIGHT
TZOFFSETFROM:+0100
TZOFFSETTO:+0200
TZNAME:CEST
DTSTART:20180325T010000
END:DAYLIGHT
BEGIN:STANDARD
TZOFFSETFROM:+0200
TZOFFSETTO:+0100
TZNAME:CET
DTSTART:20181028T010000
END:STANDARD
BEGIN:DAYLIGHT
TZOFFSETFROM:+0100
TZOFFSETTO:+0200
TZNAME:CEST
DTSTART:20190331T010000
END:DAYLIGHT
BEGIN:STANDARD
TZOFFSETFROM:+0200
TZOFFSETTO:+0100
TZNAME:CET
DTSTART:20191027T010000
END:STANDARD
BEGIN:DAYLIGHT
TZOFFSETFROM:+0100
TZOFFSETTO:+0200
TZNAME:CEST
DTSTART:20200329T010000
END:DAYLIGHT
BEGIN:STANDARD
TZOFFSETFROM:+0200
TZOFFSETTO:+0100
TZNAME:CET
DTSTART:20201025T010000
END:STANDARD
END:VTIMEZONE
BEGIN:VEVENT
DTSTART;TZID=Europe/Paris:20181218T093000
DTEND;TZID=Europe/Paris:20190107T210000
DTSTAMP:20260422T162341
CREATED:20181214T084638Z
LAST-MODIFIED:20210519T183207Z
UID:2008-1545125400-1546894800@encuentroysolidaridad.net
SUMMARY:Burgos. Belén migrante\, Navidad 2018
DESCRIPTION:Una vez más el Belén Migrante se hace presente en estas fechas haciendo cercana la situación de muchos migrantes y refugiados.\nEstará en la Plaza Santo Domingo de Burgos desde el día 18 de diciembre (Día internacional del Migrante) hasta el 7 de enero de 2019. \n \nEl día 21 tendremos una jornada de poesía y canto allí mismo
URL:https://encuentroysolidaridad.net/event/burgos-belen-migrante-navidad-2018/
LOCATION:Plaza Santo Domingo\, Plaza Santo Domingo\, Burgos\, Burgos\, 09003
CATEGORIES:Actos de Encuentro y Solidaridad
ATTACH;FMTTYPE=image/jpeg:https://encuentroysolidaridad.net/wp-content/uploads/2018/12/belen-migrante.jpg
END:VEVENT
BEGIN:VEVENT
DTSTART;TZID=Europe/Paris:20190112T190000
DTEND;TZID=Europe/Paris:20190112T210000
DTSTAMP:20260422T162341
CREATED:20181128T111832Z
LAST-MODIFIED:20210519T183206Z
UID:1888-1547319600-1547326800@encuentroysolidaridad.net
SUMMARY:Valladolid. Cartografía de la desobediencia
DESCRIPTION:Encuentro y solidaridad quiere ser una asociación al servicio de la cultura del encuentro que promueve el Papa Francisco. \nPara presentarnos en Valladolid hemos organizado una representación de la obra de teatro: “Cartografía de la Desobediencia” de la compañía Teatro del Abrazo\, bajo la dirección de Moisés Mato. \nSerá el sábado 12 de enero a las 19 h. en el salón de actos del colegio Nuestra Señora de Lourdes. La entrada se realizará por la puerta trasera del colegio en la esquina de la calle Curtidores y la calle Gregorio Fernández. Al finalizar se ofrecerá a los asistentes un vino español. \nEstás invitado. ¡Te esperamos!😃😃😃
URL:https://encuentroysolidaridad.net/event/valladolid-cartografia-de-la-desobediencia/
CATEGORIES:Actos de Encuentro y Solidaridad
ATTACH;FMTTYPE=image/jpeg:https://encuentroysolidaridad.net/wp-content/uploads/2018/11/Cartografía.jpg
END:VEVENT
BEGIN:VEVENT
DTSTART;TZID=Europe/Paris:20190118T160000
DTEND;TZID=Europe/Paris:20190118T180000
DTSTAMP:20260422T162341
CREATED:20190116T163551Z
LAST-MODIFIED:20210519T183206Z
UID:2176-1547827200-1547834400@encuentroysolidaridad.net
SUMMARY:Cine entre amigos
DESCRIPTION:
URL:https://encuentroysolidaridad.net/event/cine-entre-amigos/
LOCATION:Oviedo. Casa Cultura y Encuentro\, C/ Ciudades Unidas\, Oviedo\, 33011\, España
CATEGORIES:Actos de Encuentro y Solidaridad
ATTACH;FMTTYPE=image/jpeg:https://encuentroysolidaridad.net/wp-content/uploads/2018/10/Cine.jpg
END:VEVENT
BEGIN:VEVENT
DTSTART;TZID=Europe/Paris:20190120T180000
DTEND;TZID=Europe/Paris:20190120T210000
DTSTAMP:20260422T162341
CREATED:20190111T123627Z
LAST-MODIFIED:20210519T183206Z
UID:2122-1548007200-1548018000@encuentroysolidaridad.net
SUMMARY:Madrid: Cine y espiritualidad
DESCRIPTION:
URL:https://encuentroysolidaridad.net/event/madrid-cine-y-espiritualidad/
LOCATION:Casa Emaús\, C/ Uceda\, 45\, Torremocha de Jarama\, Madrid\, 28189\, España
CATEGORIES:Actos de Encuentro y Solidaridad
ATTACH;FMTTYPE=image/jpeg:https://encuentroysolidaridad.net/wp-content/uploads/2018/05/Cine.jpg
END:VEVENT
END:VCALENDAR